BEGIN:VCALENDAR
VERSION:2.0
PRODID:-//仙台駅前イービーンズ - ECPv6.15.20//NONSGML v1.0//EN
CALSCALE:GREGORIAN
METHOD:PUBLISH
X-WR-CALNAME:仙台駅前イービーンズ
X-ORIGINAL-URL:https://www.e-beans.jp
X-WR-CALDESC:仙台駅前イービーンズ のイベント
REFRESH-INTERVAL;VALUE=DURATION:PT1H
X-Robots-Tag:noindex
X-PUBLISHED-TTL:PT1H
BEGIN:VTIMEZONE
TZID:Asia/Tokyo
BEGIN:STANDARD
TZOFFSETFROM:+0900
TZOFFSETTO:+0900
TZNAME:JST
DTSTART:20230101T000000
END:STANDARD
END:VTIMEZONE
BEGIN:VEVENT
DTSTART;VALUE=DATE:20240621
DTEND;VALUE=DATE:20240622
DTSTAMP:20260425T043542
CREATED:20240429T040642Z
LAST-MODIFIED:20240602T090104Z
UID:12706-1718928000-1719014399@www.e-beans.jp
SUMMARY:たまごサンド専門店『縁と縁』キッチンカー
DESCRIPTION:詳細はこちら⇩ \nキッチンカー たまごサンド専門店『縁と縁』 \n \n 
URL:https://www.e-beans.jp/eventcalendar/tribe_events-12706/
CATEGORIES:フード
END:VEVENT
BEGIN:VEVENT
DTSTART;VALUE=DATE:20240620
DTEND;VALUE=DATE:20240621
DTSTAMP:20260425T043542
CREATED:20240602T070731Z
LAST-MODIFIED:20240602T070731Z
UID:13033-1718841600-1718927999@www.e-beans.jp
SUMMARY:ベトナムサンドウィッチ『PANTAPI』出店
DESCRIPTION:詳細はこちら⇩ \nベトナムサンドウィッチ&タピオカミルクティー　☆PANTAPI☆
URL:https://www.e-beans.jp/eventcalendar/tribe_events-13033/
CATEGORIES:フード
END:VEVENT
BEGIN:VEVENT
DTSTART;VALUE=DATE:20240618
DTEND;VALUE=DATE:20240619
DTSTAMP:20260425T043542
CREATED:20240602T075338Z
LAST-MODIFIED:20240602T075338Z
UID:13049-1718668800-1718755199@www.e-beans.jp
SUMMARY:『石焼き芋ぽてにゃん』出店
DESCRIPTION:詳細はこちら⇩ \nキッチンカー  【石焼き芋ぽてにゃん】出店！
URL:https://www.e-beans.jp/eventcalendar/tribe_events-13049/
CATEGORIES:フード
END:VEVENT
BEGIN:VEVENT
DTSTART;VALUE=DATE:20240618
DTEND;VALUE=DATE:20240619
DTSTAMP:20260425T043542
CREATED:20240602T070650Z
LAST-MODIFIED:20240602T070650Z
UID:13031-1718668800-1718755199@www.e-beans.jp
SUMMARY:ベトナムサンドウィッチ『PANTAPI』出店
DESCRIPTION:詳細はこちら⇩ \nベトナムサンドウィッチ&タピオカミルクティー　☆PANTAPI☆
URL:https://www.e-beans.jp/eventcalendar/tribe_events-13031/
CATEGORIES:フード
END:VEVENT
BEGIN:VEVENT
DTSTART;VALUE=DATE:20240616
DTEND;VALUE=DATE:20240617
DTSTAMP:20260425T043542
CREATED:20240610T043536Z
LAST-MODIFIED:20240610T043536Z
UID:13099-1718496000-1718582399@www.e-beans.jp
SUMMARY:ビアガーデン　フラダンスイベント開催！
DESCRIPTION:詳しくはこちら⇩ \nビアガーデン　フラダンスイベント開催！
URL:https://www.e-beans.jp/eventcalendar/tribe_events-13099/
CATEGORIES:ライブ
END:VEVENT
BEGIN:VEVENT
DTSTART;VALUE=DATE:20240616
DTEND;VALUE=DATE:20240617
DTSTAMP:20260425T043542
CREATED:20240602T070557Z
LAST-MODIFIED:20240602T070557Z
UID:13029-1718496000-1718582399@www.e-beans.jp
SUMMARY:ベトナムサンドウィッチ『PANTAPI』出店
DESCRIPTION:詳細はこちら⇩ \nベトナムサンドウィッチ&タピオカミルクティー　☆PANTAPI☆
URL:https://www.e-beans.jp/eventcalendar/tribe_events-13029/
CATEGORIES:フード
END:VEVENT
BEGIN:VEVENT
DTSTART;VALUE=DATE:20240615
DTEND;VALUE=DATE:20240617
DTSTAMP:20260425T043542
CREATED:20240602T065745Z
LAST-MODIFIED:20240602T065745Z
UID:12881-1718409600-1718582399@www.e-beans.jp
SUMMARY:『大王チーズ10円パン』キッチンカー出店
DESCRIPTION:詳細はこちら⇩ \n「大王チーズ10円パン」
URL:https://www.e-beans.jp/eventcalendar/tribe_events-12881/
CATEGORIES:フード
END:VEVENT
BEGIN:VEVENT
DTSTART;VALUE=DATE:20240613
DTEND;VALUE=DATE:20240614
DTSTAMP:20260425T043542
CREATED:20240602T070507Z
LAST-MODIFIED:20240602T070507Z
UID:13027-1718236800-1718323199@www.e-beans.jp
SUMMARY:ベトナムサンドウィッチ『PANTAPI』出店
DESCRIPTION:詳細はこちら⇩ \nベトナムサンドウィッチ&タピオカミルクティー　☆PANTAPI☆
URL:https://www.e-beans.jp/eventcalendar/tribe_events-13027/
CATEGORIES:フード
END:VEVENT
BEGIN:VEVENT
DTSTART;VALUE=DATE:20240611
DTEND;VALUE=DATE:20240612
DTSTAMP:20260425T043542
CREATED:20240602T070423Z
LAST-MODIFIED:20240602T070423Z
UID:13025-1718064000-1718150399@www.e-beans.jp
SUMMARY:ベトナムサンドウィッチ『PANTAPI』出店
DESCRIPTION:詳細はこちら⇩ \nベトナムサンドウィッチ&タピオカミルクティー　☆PANTAPI☆
URL:https://www.e-beans.jp/eventcalendar/tribe_events-13025/
CATEGORIES:フード
END:VEVENT
BEGIN:VEVENT
DTSTART;VALUE=DATE:20240609
DTEND;VALUE=DATE:20240610
DTSTAMP:20260425T043542
CREATED:20240602T070309Z
LAST-MODIFIED:20240602T070309Z
UID:13022-1717891200-1717977599@www.e-beans.jp
SUMMARY:ベトナムサンドウィッチ『PANTAPI』出店！
DESCRIPTION:詳細はこちら⇩ \nベトナムサンドウィッチ&タピオカミルクティー　☆PANTAPI☆
URL:https://www.e-beans.jp/eventcalendar/tribe_events-13022/
CATEGORIES:フード
END:VEVENT
BEGIN:VEVENT
DTSTART;VALUE=DATE:20240608
DTEND;VALUE=DATE:20240610
DTSTAMP:20260425T043542
CREATED:20240602T065758Z
LAST-MODIFIED:20240602T065758Z
UID:12878-1717804800-1717977599@www.e-beans.jp
SUMMARY:『大王チーズ10円パン』キッチンカー出店
DESCRIPTION:詳細はこちら⇩ \n「大王チーズ10円パン」
URL:https://www.e-beans.jp/eventcalendar/tribe_events-12878/
CATEGORIES:フード
END:VEVENT
BEGIN:VEVENT
DTSTART;VALUE=DATE:20240607
DTEND;VALUE=DATE:20240608
DTSTAMP:20260425T043542
CREATED:20240602T075149Z
LAST-MODIFIED:20240602T075149Z
UID:13045-1717718400-1717804799@www.e-beans.jp
SUMMARY:『石焼き芋ぽてにゃん』出店
DESCRIPTION:詳細はこちら⇩ \nキッチンカー  【石焼き芋ぽてにゃん】出店！
URL:https://www.e-beans.jp/eventcalendar/tribe_events-13045/
CATEGORIES:フード
END:VEVENT
BEGIN:VEVENT
DTSTART;VALUE=DATE:20240607
DTEND;VALUE=DATE:20240608
DTSTAMP:20260425T043542
CREATED:20240602T065814Z
LAST-MODIFIED:20240602T065814Z
UID:12887-1717718400-1717804799@www.e-beans.jp
SUMMARY:『珈琲飲み処いりたてや』キッチンカー出店
DESCRIPTION:詳細はこちら⇩ \nキッチンカー『珈琲飲み処いりたてや』出店！
URL:https://www.e-beans.jp/eventcalendar/tribe_events-12887/
CATEGORIES:フード
END:VEVENT
BEGIN:VEVENT
DTSTART;VALUE=DATE:20240606
DTEND;VALUE=DATE:20240607
DTSTAMP:20260425T043542
CREATED:20240602T070148Z
LAST-MODIFIED:20240602T070148Z
UID:13020-1717632000-1717718399@www.e-beans.jp
SUMMARY:ベトナムサンドウィッチ『PANTAPI』出店！
DESCRIPTION:詳細はこちら⇩ \nベトナムサンドウィッチ&タピオカミルクティー　☆PANTAPI☆
URL:https://www.e-beans.jp/eventcalendar/tribe_events-13020/
CATEGORIES:フード
END:VEVENT
BEGIN:VEVENT
DTSTART;VALUE=DATE:20240604
DTEND;VALUE=DATE:20240605
DTSTAMP:20260425T043542
CREATED:20240602T064730Z
LAST-MODIFIED:20240602T064730Z
UID:13013-1717459200-1717545599@www.e-beans.jp
SUMMARY:ベトナムサンドウィッチ『PANTAPI』出店
DESCRIPTION:詳細はこちら⇩ \nベトナムサンドウィッチ&タピオカミルクティー　☆PANTAPI☆
URL:https://www.e-beans.jp/eventcalendar/tribe_events-13013/
CATEGORIES:フード
END:VEVENT
BEGIN:VEVENT
DTSTART;VALUE=DATE:20240602
DTEND;VALUE=DATE:20240603
DTSTAMP:20260425T043542
CREATED:20240602T064045Z
LAST-MODIFIED:20240602T064045Z
UID:12963-1717286400-1717372799@www.e-beans.jp
SUMMARY:ベトナムサンドウィッチ『PANTAPI』出店
DESCRIPTION:詳細はこちら⇩ \nベトナムサンドウィッチ&タピオカミルクティー　☆PANTAPI☆
URL:https://www.e-beans.jp/eventcalendar/tribe_events-12963/
CATEGORIES:フード
END:VEVENT
BEGIN:VEVENT
DTSTART;VALUE=DATE:20240601
DTEND;VALUE=DATE:20240603
DTSTAMP:20260425T043542
CREATED:20240602T064027Z
LAST-MODIFIED:20240602T064027Z
UID:12876-1717200000-1717372799@www.e-beans.jp
SUMMARY:『大王チーズ10円パン』キッチンカー出店
DESCRIPTION:詳細はこちら⇩ \n「大王チーズ10円パン」
URL:https://www.e-beans.jp/eventcalendar/tribe_events-12876/
CATEGORIES:フード
END:VEVENT
BEGIN:VEVENT
DTSTART;VALUE=DATE:20240601
DTEND;VALUE=DATE:20240603
DTSTAMP:20260425T043542
CREATED:20240504T103054Z
LAST-MODIFIED:20240504T103054Z
UID:12791-1717200000-1717372799@www.e-beans.jp
SUMMARY:推し活応援ハンドメイドイベント『推し色展』開催✨
DESCRIPTION:詳しくはこちら⇩ \nhttps://www.e-beans.jp/event/event-12602/
URL:https://www.e-beans.jp/eventcalendar/tribe_events-12791/
CATEGORIES:販売
END:VEVENT
BEGIN:VEVENT
DTSTART;VALUE=DATE:20240601
DTEND;VALUE=DATE:20240603
DTSTAMP:20260425T043542
CREATED:20240501T064152Z
LAST-MODIFIED:20240501T064152Z
UID:12769-1717200000-1717372799@www.e-beans.jp
SUMMARY:ゲーム＆アニメフェスin仙台～好きを仕事に!!～
DESCRIPTION:詳しくはこちらから⇩ \n目指せクリエイター!!「ゲーム＆アニメフェスin仙台～好きを仕事に!!～」開催！
URL:https://www.e-beans.jp/eventcalendar/tribe_events-12769/
CATEGORIES:その他
END:VEVENT
BEGIN:VEVENT
DTSTART;VALUE=DATE:20240601
DTEND;VALUE=DATE:20240602
DTSTAMP:20260425T043542
CREATED:20240602T075252Z
LAST-MODIFIED:20240602T075252Z
UID:13047-1717200000-1717286399@www.e-beans.jp
SUMMARY:『石焼き芋ぽてにゃん』出店
DESCRIPTION:詳細はこちら⇩ \nキッチンカー  【石焼き芋ぽてにゃん】出店！
URL:https://www.e-beans.jp/eventcalendar/tribe_events-13047/
CATEGORIES:フード
END:VEVENT
BEGIN:VEVENT
DTSTART;TZID=Asia/Tokyo:20240530T080000
DTEND;TZID=Asia/Tokyo:20240530T170000
DTSTAMP:20260425T043542
CREATED:20240530T044843Z
LAST-MODIFIED:20240530T044843Z
UID:12987-1717056000-1717088400@www.e-beans.jp
SUMMARY:「 衛星とカラテア」 FREE EVENT開催!!
DESCRIPTION:詳しくはこちらから⇩ \n「 衛星とカラテア」 FREE EVENT開催!!
URL:https://www.e-beans.jp/eventcalendar/tribe_events-12987/
END:VEVENT
BEGIN:VEVENT
DTSTART;VALUE=DATE:20240530
DTEND;VALUE=DATE:20240531
DTSTAMP:20260425T043542
CREATED:20240429T045902Z
LAST-MODIFIED:20240429T045902Z
UID:12742-1717027200-1717113599@www.e-beans.jp
SUMMARY:ベトナムサンドウィッチ『PANTAPI』出店
DESCRIPTION:詳細はこちら⇩ \nベトナムサンドウィッチ&タピオカミルクティー　☆PANTAPI☆
URL:https://www.e-beans.jp/eventcalendar/tribe_events-12742/
CATEGORIES:フード
END:VEVENT
BEGIN:VEVENT
DTSTART;VALUE=DATE:20240530
DTEND;VALUE=DATE:20240531
DTSTAMP:20260425T043542
CREATED:20240428T073420Z
LAST-MODIFIED:20240428T073420Z
UID:12691-1717027200-1717113599@www.e-beans.jp
SUMMARY:『珈琲飲み処いりたてや』キッチンカー出店！
DESCRIPTION:詳細はこちら⇩ \nキッチンカー『珈琲飲み処いりたてや』出店！
URL:https://www.e-beans.jp/eventcalendar/tribe_events-12691/
CATEGORIES:フード
END:VEVENT
BEGIN:VEVENT
DTSTART;VALUE=DATE:20240528
DTEND;VALUE=DATE:20240529
DTSTAMP:20260425T043542
CREATED:20240429T045811Z
LAST-MODIFIED:20240429T045811Z
UID:12740-1716854400-1716940799@www.e-beans.jp
SUMMARY:ベトナムサンドウィッチ『PANTAPI』出店
DESCRIPTION:詳細はこちら⇩ \nベトナムサンドウィッチ&タピオカミルクティー　☆PANTAPI☆
URL:https://www.e-beans.jp/eventcalendar/tribe_events-12740/
CATEGORIES:フード
END:VEVENT
BEGIN:VEVENT
DTSTART;VALUE=DATE:20240526
DTEND;VALUE=DATE:20240527
DTSTAMP:20260425T043542
CREATED:20240429T045721Z
LAST-MODIFIED:20240429T045721Z
UID:12738-1716681600-1716767999@www.e-beans.jp
SUMMARY:ベトナムサンドウィッチ『PANTAPI』出店
DESCRIPTION:詳細はこちら⇩ \nベトナムサンドウィッチ&タピオカミルクティー　☆PANTAPI☆
URL:https://www.e-beans.jp/eventcalendar/tribe_events-12738/
CATEGORIES:フード
END:VEVENT
BEGIN:VEVENT
DTSTART;VALUE=DATE:20240525
DTEND;VALUE=DATE:20240527
DTSTAMP:20260425T043542
CREATED:20240429T043927Z
LAST-MODIFIED:20240429T043927Z
UID:12716-1716595200-1716767999@www.e-beans.jp
SUMMARY:『大王チーズ10円パン』キッチンカー出店
DESCRIPTION:詳細はこちら⇩ \n「大王チーズ10円パン」
URL:https://www.e-beans.jp/eventcalendar/tribe_events-12716/
CATEGORIES:フード
END:VEVENT
BEGIN:VEVENT
DTSTART;VALUE=DATE:20240525
DTEND;VALUE=DATE:20240526
DTSTAMP:20260425T043542
CREATED:20240518T024211Z
LAST-MODIFIED:20240518T024211Z
UID:12866-1716595200-1716681599@www.e-beans.jp
SUMMARY:LILIA Fes　開催！
DESCRIPTION:詳しくはこちら⇩ \nLILIA.Fes 野外大作戦～vol.2～　開催決定！
URL:https://www.e-beans.jp/eventcalendar/tribe_events-12866/
CATEGORIES:ライブ
END:VEVENT
BEGIN:VEVENT
DTSTART;VALUE=DATE:20240525
DTEND;VALUE=DATE:20240526
DTSTAMP:20260425T043542
CREATED:20240504T103419Z
LAST-MODIFIED:20240504T103419Z
UID:12794-1716595200-1716681599@www.e-beans.jp
SUMMARY:「いぎなり東北産のいぎなり”やるっちゃ”東北産!マシマシ!!」公開収録
DESCRIPTION:詳しくはこちら⇩ \n「いぎなり東北産のいぎなり”やるっちゃ”東北産!マシマシ!!」公開収録
URL:https://www.e-beans.jp/eventcalendar/tribe_events-12794/
CATEGORIES:その他
END:VEVENT
BEGIN:VEVENT
DTSTART;VALUE=DATE:20240523
DTEND;VALUE=DATE:20240527
DTSTAMP:20260425T043542
CREATED:20240511T064318Z
LAST-MODIFIED:20240511T064318Z
UID:12839-1716422400-1716767999@www.e-beans.jp
SUMMARY:POP-UPストア「Gallery」期間限定出店！
DESCRIPTION:詳しくはこちら⇩ \nPOP-UPストア「Gallery」期間限定出店決定！
URL:https://www.e-beans.jp/eventcalendar/tribe_events-12839/
CATEGORIES:販売
END:VEVENT
BEGIN:VEVENT
DTSTART;VALUE=DATE:20240523
DTEND;VALUE=DATE:20240524
DTSTAMP:20260425T043542
CREATED:20240429T045543Z
LAST-MODIFIED:20240429T045543Z
UID:12734-1716422400-1716508799@www.e-beans.jp
SUMMARY:ベトナムサンドウィッチ『PANTAPI』出店
DESCRIPTION:詳細はこちら⇩ \nベトナムサンドウィッチ&タピオカミルクティー　☆PANTAPI☆
URL:https://www.e-beans.jp/eventcalendar/tribe_events-12734/
CATEGORIES:フード
END:VEVENT
END:VCALENDAR