BEGIN:VCALENDAR
VERSION:2.0
PRODID:-//仙台駅前イービーンズ - ECPv6.15.20//NONSGML v1.0//EN
CALSCALE:GREGORIAN
METHOD:PUBLISH
X-WR-CALNAME:仙台駅前イービーンズ
X-ORIGINAL-URL:https://www.e-beans.jp
X-WR-CALDESC:仙台駅前イービーンズ のイベント
REFRESH-INTERVAL;VALUE=DURATION:PT1H
X-Robots-Tag:noindex
X-PUBLISHED-TTL:PT1H
BEGIN:VTIMEZONE
TZID:Asia/Tokyo
BEGIN:STANDARD
TZOFFSETFROM:+0900
TZOFFSETTO:+0900
TZNAME:JST
DTSTART:20230101T000000
END:STANDARD
END:VTIMEZONE
BEGIN:VEVENT
DTSTART;VALUE=DATE:20241224
DTEND;VALUE=DATE:20241225
DTSTAMP:20260425T013820
CREATED:20241130T091920Z
LAST-MODIFIED:20241130T091920Z
UID:14756-1734998400-1735084799@www.e-beans.jp
SUMMARY:ベトナムサンドウィッチ『PANTAPI』
DESCRIPTION:詳細はこちら⇩ \nベトナムサンドウィッチ&タピオカミルクティー　☆PANTAPI☆
URL:https://www.e-beans.jp/eventcalendar/tribe_events-14756/
CATEGORIES:フード
END:VEVENT
BEGIN:VEVENT
DTSTART;VALUE=DATE:20241223
DTEND;VALUE=DATE:20241224
DTSTAMP:20260425T013820
CREATED:20241201T013154Z
LAST-MODIFIED:20241201T013154Z
UID:14770-1734912000-1734998399@www.e-beans.jp
SUMMARY:『石焼き芋ぽてにゃん』出店
DESCRIPTION:詳細はこちら⇩ \nキッチンカー  【石焼き芋ぽてにゃん】出店！
URL:https://www.e-beans.jp/eventcalendar/tribe_events-14770/
CATEGORIES:フード
END:VEVENT
BEGIN:VEVENT
DTSTART;VALUE=DATE:20241222
DTEND;VALUE=DATE:20241223
DTSTAMP:20260425T013820
CREATED:20241205T063305Z
LAST-MODIFIED:20241205T063305Z
UID:14825-1734825600-1734911999@www.e-beans.jp
SUMMARY:ONE LOVE ONE HEART 3rd ALBUM　「ゆれる青春」 Release Event　「ISSHIN BIRTHDAY HANGOUT」開催決定！
DESCRIPTION:詳細はこちら⇩ \nONE LOVE ONE HEART  3rd ALBUM　「ゆれる青春」 Release Event　「ISSHIN BIRTHDAY HANGOUT」開催決定！
URL:https://www.e-beans.jp/eventcalendar/tribe_events-14825/
CATEGORIES:ライブ
END:VEVENT
BEGIN:VEVENT
DTSTART;VALUE=DATE:20241221
DTEND;VALUE=DATE:20241223
DTSTAMP:20260425T013820
CREATED:20241130T091706Z
LAST-MODIFIED:20241130T091823Z
UID:14754-1734739200-1734911999@www.e-beans.jp
SUMMARY:ベトナムサンドウィッチ『PANTAPI』
DESCRIPTION:詳細はこちら⇩ \nベトナムサンドウィッチ&タピオカミルクティー　☆PANTAPI☆
URL:https://www.e-beans.jp/eventcalendar/tribe_events-14754/
CATEGORIES:フード
END:VEVENT
BEGIN:VEVENT
DTSTART;VALUE=DATE:20241221
DTEND;VALUE=DATE:20241222
DTSTAMP:20260425T013820
CREATED:20241203T073922Z
LAST-MODIFIED:20241203T073922Z
UID:14810-1734739200-1734825599@www.e-beans.jp
SUMMARY:あの石ちゃんがイービーンズにやってくる！開店10周年イベント開催！
DESCRIPTION:詳細はこちら⇩ \n【3階 サカゼン】　あの石ちゃんがイービーンズにやってくる！開店10周年イベント開催！
URL:https://www.e-beans.jp/eventcalendar/tribe_events-14810/
CATEGORIES:その他
END:VEVENT
BEGIN:VEVENT
DTSTART;VALUE=DATE:20241219
DTEND;VALUE=DATE:20241220
DTSTAMP:20260425T013820
CREATED:20241130T091410Z
LAST-MODIFIED:20241130T091410Z
UID:14752-1734566400-1734652799@www.e-beans.jp
SUMMARY:ベトナムサンドウィッチ『PANTAPI』
DESCRIPTION:詳細はこちら⇩ \nベトナムサンドウィッチ&タピオカミルクティー　☆PANTAPI☆
URL:https://www.e-beans.jp/eventcalendar/tribe_events-14752/
CATEGORIES:フード
END:VEVENT
BEGIN:VEVENT
DTSTART;VALUE=DATE:20241218
DTEND;VALUE=DATE:20241219
DTSTAMP:20260425T013820
CREATED:20241217T033554Z
LAST-MODIFIED:20241217T033554Z
UID:15010-1734480000-1734566399@www.e-beans.jp
SUMMARY:【総合学園ヒューマンアカデミー仙台校】 ビジネスカレッジポップアップショップ開催
DESCRIPTION:詳しくはこちら⇩ \n【総合学園ヒューマンアカデミー仙台校】 ビジネスカレッジポップアップショップ開催！
URL:https://www.e-beans.jp/eventcalendar/tribe_events-15010/
CATEGORIES:ライブ
END:VEVENT
BEGIN:VEVENT
DTSTART;VALUE=DATE:20241217
DTEND;VALUE=DATE:20241218
DTSTAMP:20260425T013820
CREATED:20241130T092701Z
LAST-MODIFIED:20241130T092701Z
UID:14765-1734393600-1734479999@www.e-beans.jp
SUMMARY:『石焼き芋ぽてにゃん』
DESCRIPTION:詳細はこちら⇩ \nキッチンカー  【石焼き芋ぽてにゃん】出店！
URL:https://www.e-beans.jp/eventcalendar/tribe_events-14765/
CATEGORIES:フード
END:VEVENT
BEGIN:VEVENT
DTSTART;VALUE=DATE:20241217
DTEND;VALUE=DATE:20241218
DTSTAMP:20260425T013820
CREATED:20241130T092535Z
LAST-MODIFIED:20241130T092535Z
UID:14763-1734393600-1734479999@www.e-beans.jp
SUMMARY:ベトナムサンドウィッチ『PANTAPI』
DESCRIPTION:詳細はこちら⇩ \nベトナムサンドウィッチ&タピオカミルクティー　☆PANTAPI☆
URL:https://www.e-beans.jp/eventcalendar/tribe_events-14763/
CATEGORIES:フード
END:VEVENT
BEGIN:VEVENT
DTSTART;VALUE=DATE:20241216
DTEND;VALUE=DATE:20241217
DTSTAMP:20260425T013820
CREATED:20241205T082129Z
LAST-MODIFIED:20241205T082129Z
UID:14833-1734307200-1734393599@www.e-beans.jp
SUMMARY:さつまいもスイーツキッチンカー『ワンTOM』出店
DESCRIPTION:詳細はこちら⇩ \nさつまいものスイーツを販売!!「おいも&いちご　ワンTOM」出店
URL:https://www.e-beans.jp/eventcalendar/tribe_events-14833/
CATEGORIES:フード
END:VEVENT
BEGIN:VEVENT
DTSTART;VALUE=DATE:20241214
DTEND;VALUE=DATE:20241226
DTSTAMP:20260425T013820
CREATED:20241203T065248Z
LAST-MODIFIED:20241203T065248Z
UID:14793-1734134400-1735171199@www.e-beans.jp
SUMMARY:食品サンプル作品即売会「こぢんまり製作」開催！
DESCRIPTION:詳細はこちら⇩ \n食品サンプル作品即売会「こぢんまり製作」開催！！
URL:https://www.e-beans.jp/eventcalendar/tribe_events-14793/
CATEGORIES:販売
END:VEVENT
BEGIN:VEVENT
DTSTART;VALUE=DATE:20241214
DTEND;VALUE=DATE:20241216
DTSTAMP:20260425T013820
CREATED:20241130T090823Z
LAST-MODIFIED:20241130T090823Z
UID:14750-1734134400-1734307199@www.e-beans.jp
SUMMARY:ベトナムサンドウィッチ『PANTAPI』
DESCRIPTION:詳細はこちら⇩ \nベトナムサンドウィッチ&タピオカミルクティー　☆PANTAPI☆
URL:https://www.e-beans.jp/eventcalendar/tribe_events-14750/
CATEGORIES:フード
END:VEVENT
BEGIN:VEVENT
DTSTART;VALUE=DATE:20241214
DTEND;VALUE=DATE:20241215
DTSTAMP:20260425T013820
CREATED:20241126T062403Z
LAST-MODIFIED:20241126T062403Z
UID:14696-1734134400-1734220799@www.e-beans.jp
SUMMARY:O-MENZ　フリーライブツアー『百戦錬磨-賽-』開催決定！
DESCRIPTION:詳しくはこちら⇩ \nhttps://www.e-beans.jp/event/event-14687/
URL:https://www.e-beans.jp/eventcalendar/tribe_events-14696/
CATEGORIES:ライブ
END:VEVENT
BEGIN:VEVENT
DTSTART;VALUE=DATE:20241212
DTEND;VALUE=DATE:20241213
DTSTAMP:20260425T013820
CREATED:20241130T090726Z
LAST-MODIFIED:20241130T090726Z
UID:14748-1733961600-1734047999@www.e-beans.jp
SUMMARY:ベトナムサンドウィッチ『PANTAPI』
DESCRIPTION:詳細はこちら⇩ \nベトナムサンドウィッチ&タピオカミルクティー　☆PANTAPI☆
URL:https://www.e-beans.jp/eventcalendar/tribe_events-14748/
CATEGORIES:フード
END:VEVENT
BEGIN:VEVENT
DTSTART;VALUE=DATE:20241210
DTEND;VALUE=DATE:20241211
DTSTAMP:20260425T013820
CREATED:20241130T090223Z
LAST-MODIFIED:20241130T090513Z
UID:14631-1733788800-1733875199@www.e-beans.jp
SUMMARY:ベトナムサンドウィッチ『PANTAPI』
DESCRIPTION:詳細はこちら⇩ \nベトナムサンドウィッチ&タピオカミルクティー　☆PANTAPI☆
URL:https://www.e-beans.jp/eventcalendar/tribe_events-14631/
CATEGORIES:フード
END:VEVENT
BEGIN:VEVENT
DTSTART;VALUE=DATE:20241208
DTEND;VALUE=DATE:20241209
DTSTAMP:20260425T013820
CREATED:20241201T013045Z
LAST-MODIFIED:20241201T013045Z
UID:14768-1733616000-1733702399@www.e-beans.jp
SUMMARY:『石焼き芋ぽてにゃん』出店
DESCRIPTION:詳細はこちら⇩ \nキッチンカー  【石焼き芋ぽてにゃん】出店！
URL:https://www.e-beans.jp/eventcalendar/tribe_events-14768/
CATEGORIES:フード
END:VEVENT
BEGIN:VEVENT
DTSTART;VALUE=DATE:20241207
DTEND;VALUE=DATE:20241209
DTSTAMP:20260425T013820
CREATED:20241130T090456Z
LAST-MODIFIED:20241130T090456Z
UID:14637-1733529600-1733702399@www.e-beans.jp
SUMMARY:ベトナムサンドウィッチ『PANTAPI』
DESCRIPTION:詳細はこちら⇩ \nベトナムサンドウィッチ&タピオカミルクティー　☆PANTAPI☆
URL:https://www.e-beans.jp/eventcalendar/tribe_events-14637/
CATEGORIES:フード
END:VEVENT
BEGIN:VEVENT
DTSTART;VALUE=DATE:20241207
DTEND;VALUE=DATE:20241208
DTSTAMP:20260425T013820
CREATED:20241202T042053Z
LAST-MODIFIED:20241202T042053Z
UID:14779-1733529600-1733615999@www.e-beans.jp
SUMMARY:LILIA.Fes～野外大作戦 vol.17～　開催決定！
DESCRIPTION:詳細はこちら⇩ \nLILIA.Fes～野外大作戦 vol.17～　開催決定！
URL:https://www.e-beans.jp/eventcalendar/tribe_events-14779/
CATEGORIES:ライブ
END:VEVENT
BEGIN:VEVENT
DTSTART;VALUE=DATE:20241207
DTEND;VALUE=DATE:20241208
DTSTAMP:20260425T013820
CREATED:20241130T033825Z
LAST-MODIFIED:20241130T033825Z
UID:14728-1733529600-1733615999@www.e-beans.jp
SUMMARY:1st Album 「PHENOMENON」リリース記念フリーイベント
DESCRIPTION:詳しくはこちら⇩ \n1st Album 「PHENOMENON」リリース記念フリーイベント 『Purple CirKID Vol.4』  第1弾詳細決定！ハイタッチ会開催！
URL:https://www.e-beans.jp/eventcalendar/tribe_events-14728/
CATEGORIES:ライブ
END:VEVENT
BEGIN:VEVENT
DTSTART;VALUE=DATE:20241206
DTEND;VALUE=DATE:20241226
DTSTAMP:20260425T013820
CREATED:20240912T051733Z
LAST-MODIFIED:20240912T051915Z
UID:14084-1733443200-1735171199@www.e-beans.jp
SUMMARY:『パンどろぼう展』　開催！
DESCRIPTION:詳しくはこちらから⇩ \nhttps://www.e-beans.jp/event/event-13993/
URL:https://www.e-beans.jp/eventcalendar/tribe_events-14084/
CATEGORIES:展示
END:VEVENT
BEGIN:VEVENT
DTSTART;VALUE=DATE:20241205
DTEND;VALUE=DATE:20241206
DTSTAMP:20260425T013821
CREATED:20241130T090428Z
LAST-MODIFIED:20241130T090428Z
UID:14635-1733356800-1733443199@www.e-beans.jp
SUMMARY:ベトナムサンドウィッチ『PANTAPI』
DESCRIPTION:詳細はこちら⇩ \nベトナムサンドウィッチ&タピオカミルクティー　☆PANTAPI☆
URL:https://www.e-beans.jp/eventcalendar/tribe_events-14635/
CATEGORIES:フード
END:VEVENT
BEGIN:VEVENT
DTSTART;VALUE=DATE:20241203
DTEND;VALUE=DATE:20241204
DTSTAMP:20260425T013821
CREATED:20241130T090413Z
LAST-MODIFIED:20241130T090413Z
UID:14633-1733184000-1733270399@www.e-beans.jp
SUMMARY:ベトナムサンドウィッチ『PANTAPI』
DESCRIPTION:詳細はこちら⇩ \nベトナムサンドウィッチ&タピオカミルクティー　☆PANTAPI☆
URL:https://www.e-beans.jp/eventcalendar/tribe_events-14633/
CATEGORIES:フード
END:VEVENT
BEGIN:VEVENT
DTSTART;VALUE=DATE:20241201
DTEND;VALUE=DATE:20241202
DTSTAMP:20260425T013821
CREATED:20241130T085527Z
LAST-MODIFIED:20241130T085527Z
UID:14741-1733011200-1733097599@www.e-beans.jp
SUMMARY:ベトナムサンドウィッチ『PANTAPI』
DESCRIPTION:詳細はこちら⇩ \nベトナムサンドウィッチ&タピオカミルクティー　☆PANTAPI☆
URL:https://www.e-beans.jp/eventcalendar/tribe_events-14741/
CATEGORIES:フード
END:VEVENT
BEGIN:VEVENT
DTSTART;VALUE=DATE:20241130
DTEND;VALUE=DATE:20241202
DTSTAMP:20260425T013821
CREATED:20241125T065640Z
LAST-MODIFIED:20241125T065640Z
UID:14670-1732924800-1733097599@www.e-beans.jp
SUMMARY:古着スウェットフェス開催決定！
DESCRIPTION:詳しくはこちら⇩ \n古着スウェットフェス開催決定！
URL:https://www.e-beans.jp/eventcalendar/tribe_events-14670/
CATEGORIES:販売
END:VEVENT
BEGIN:VEVENT
DTSTART;VALUE=DATE:20241130
DTEND;VALUE=DATE:20241201
DTSTAMP:20260425T013821
CREATED:20241126T054545Z
LAST-MODIFIED:20241126T062312Z
UID:14694-1732924800-1733011199@www.e-beans.jp
SUMMARY:【Am Amp】シングル『ミス』ミニライブ＆特典会　開催決定！
DESCRIPTION:詳しくはこちら⇩ \n【Am Amp】シングル『ミス』ミニライブ＆特典会　開催決定！
URL:https://www.e-beans.jp/eventcalendar/tribe_events-14694/
CATEGORIES:ライブ
END:VEVENT
BEGIN:VEVENT
DTSTART;VALUE=DATE:20241130
DTEND;VALUE=DATE:20241201
DTSTAMP:20260425T013821
CREATED:20241125T065718Z
LAST-MODIFIED:20241125T065718Z
UID:14673-1732924800-1733011199@www.e-beans.jp
SUMMARY:【Am Amp】シングル『ミス』ミニライブ＆特典会　開催決定！
DESCRIPTION:詳しくはこちら⇩ \n【Am Amp】シングル『ミス』ミニライブ＆特典会　開催決定！
URL:https://www.e-beans.jp/eventcalendar/tribe_events-14673/
CATEGORIES:ライブ
END:VEVENT
BEGIN:VEVENT
DTSTART;VALUE=DATE:20241129
DTEND;VALUE=DATE:20241130
DTSTAMP:20260425T013821
CREATED:20241103T023432Z
LAST-MODIFIED:20241103T023432Z
UID:14518-1732838400-1732924799@www.e-beans.jp
SUMMARY:『石焼き芋ぽてにゃん』出店
DESCRIPTION:詳細はこちら⇩ \nキッチンカー  【石焼き芋ぽてにゃん】出店！
URL:https://www.e-beans.jp/eventcalendar/tribe_events-14518/
CATEGORIES:フード
END:VEVENT
BEGIN:VEVENT
DTSTART;VALUE=DATE:20241128
DTEND;VALUE=DATE:20241129
DTSTAMP:20260425T013821
CREATED:20241030T083414Z
LAST-MODIFIED:20241030T083414Z
UID:14479-1732752000-1732838399@www.e-beans.jp
SUMMARY:ベトナムサンドウィッチ『PANTAPI』出店
DESCRIPTION:詳細はこちら⇩ \nベトナムサンドウィッチ&タピオカミルクティー　☆PANTAPI☆
URL:https://www.e-beans.jp/eventcalendar/tribe_events-14479/
CATEGORIES:フード
END:VEVENT
BEGIN:VEVENT
DTSTART;VALUE=DATE:20241126
DTEND;VALUE=DATE:20241127
DTSTAMP:20260425T013821
CREATED:20241030T083241Z
LAST-MODIFIED:20241030T083241Z
UID:14477-1732579200-1732665599@www.e-beans.jp
SUMMARY:ベトナムサンドウィッチ『PANTAPI』出店
DESCRIPTION:詳細はこちら⇩ \nベトナムサンドウィッチ&タピオカミルクティー　☆PANTAPI☆
URL:https://www.e-beans.jp/eventcalendar/tribe_events-14477/
CATEGORIES:フード
END:VEVENT
BEGIN:VEVENT
DTSTART;VALUE=DATE:20241123
DTEND;VALUE=DATE:20241125
DTSTAMP:20260425T013821
CREATED:20241030T083152Z
LAST-MODIFIED:20241030T083152Z
UID:14475-1732320000-1732492799@www.e-beans.jp
SUMMARY:ベトナムサンドウィッチ『PANTAPI』出店
DESCRIPTION:詳細はこちら⇩ \nベトナムサンドウィッチ&タピオカミルクティー　☆PANTAPI☆
URL:https://www.e-beans.jp/eventcalendar/tribe_events-14475/
CATEGORIES:フード
END:VEVENT
END:VCALENDAR