BEGIN:VCALENDAR
VERSION:2.0
PRODID:-//仙台駅前イービーンズ - ECPv6.15.20//NONSGML v1.0//EN
CALSCALE:GREGORIAN
METHOD:PUBLISH
X-WR-CALNAME:仙台駅前イービーンズ
X-ORIGINAL-URL:https://www.e-beans.jp
X-WR-CALDESC:仙台駅前イービーンズ のイベント
REFRESH-INTERVAL;VALUE=DURATION:PT1H
X-Robots-Tag:noindex
X-PUBLISHED-TTL:PT1H
BEGIN:VTIMEZONE
TZID:Asia/Tokyo
BEGIN:STANDARD
TZOFFSETFROM:+0900
TZOFFSETTO:+0900
TZNAME:JST
DTSTART:20240101T000000
END:STANDARD
END:VTIMEZONE
BEGIN:VEVENT
DTSTART;VALUE=DATE:20250519
DTEND;VALUE=DATE:20250520
DTSTAMP:20260425T082843
CREATED:20250506T052955Z
LAST-MODIFIED:20250506T052955Z
UID:16568-1747612800-1747699199@www.e-beans.jp
SUMMARY:キッチンカー【石焼き芋ぽてにゃん】
DESCRIPTION:詳細はこちら⇩ \nキッチンカー  【石焼き芋ぽてにゃん】出店！
URL:https://www.e-beans.jp/eventcalendar/tribe_events-16568/
CATEGORIES:フード
END:VEVENT
BEGIN:VEVENT
DTSTART;VALUE=DATE:20250518
DTEND;VALUE=DATE:20250519
DTSTAMP:20260425T082843
CREATED:20250511T034406Z
LAST-MODIFIED:20250511T034406Z
UID:16853-1747526400-1747612799@www.e-beans.jp
SUMMARY:けっぱって東北 定期公演 -リリイベSP-　　supported by せんだい堂　開催決定！
DESCRIPTION:詳しくはこちら↓ \nけっぱって東北 定期公演 -リリイベSP-　　supported by せんだい堂　開催決定！
URL:https://www.e-beans.jp/eventcalendar/tribe_events-16853/
CATEGORIES:ライブ
END:VEVENT
BEGIN:VEVENT
DTSTART;VALUE=DATE:20250518
DTEND;VALUE=DATE:20250519
DTSTAMP:20260425T082843
CREATED:20250506T053005Z
LAST-MODIFIED:20250506T053005Z
UID:16585-1747526400-1747612799@www.e-beans.jp
SUMMARY:キッチンカー『PANTAPI』
DESCRIPTION:詳細はこちら⇩ \nベトナムサンドウィッチ&タピオカミルクティー　☆PANTAPI☆
URL:https://www.e-beans.jp/eventcalendar/tribe_events-16585/
CATEGORIES:フード
END:VEVENT
BEGIN:VEVENT
DTSTART;VALUE=DATE:20250517
DTEND;VALUE=DATE:20250519
DTSTAMP:20260425T082843
CREATED:20250324T052937Z
LAST-MODIFIED:20250324T052937Z
UID:16118-1747440000-1747612799@www.e-beans.jp
SUMMARY:推し活応援ハンドメイドイベント【推し色展】開催！
DESCRIPTION:詳細はこちら⇩ \n推し活応援ハンドメイドイベント【推し色展】開催！
URL:https://www.e-beans.jp/eventcalendar/tribe_events-16118/
CATEGORIES:販売
END:VEVENT
BEGIN:VEVENT
DTSTART;VALUE=DATE:20250515
DTEND;VALUE=DATE:20250516
DTSTAMP:20260425T082843
CREATED:20250506T053013Z
LAST-MODIFIED:20250506T053013Z
UID:16583-1747267200-1747353599@www.e-beans.jp
SUMMARY:キッチンカー『PANTAPI』
DESCRIPTION:詳細はこちら⇩ \nベトナムサンドウィッチ&タピオカミルクティー　☆PANTAPI☆
URL:https://www.e-beans.jp/eventcalendar/tribe_events-16583/
CATEGORIES:フード
END:VEVENT
BEGIN:VEVENT
DTSTART;VALUE=DATE:20250513
DTEND;VALUE=DATE:20250514
DTSTAMP:20260425T082843
CREATED:20250506T053022Z
LAST-MODIFIED:20250506T053022Z
UID:16581-1747094400-1747180799@www.e-beans.jp
SUMMARY:キッチンカー『PANTAPI』
DESCRIPTION:詳細はこちら⇩ \nベトナムサンドウィッチ&タピオカミルクティー　☆PANTAPI☆
URL:https://www.e-beans.jp/eventcalendar/tribe_events-16581/
CATEGORIES:フード
END:VEVENT
BEGIN:VEVENT
DTSTART;VALUE=DATE:20250511
DTEND;VALUE=DATE:20250512
DTSTAMP:20260425T082843
CREATED:20250506T053030Z
LAST-MODIFIED:20250506T053030Z
UID:16579-1746921600-1747007999@www.e-beans.jp
SUMMARY:キッチンカー『PANTAPI』
DESCRIPTION:詳細はこちら⇩ \nベトナムサンドウィッチ&タピオカミルクティー　☆PANTAPI☆
URL:https://www.e-beans.jp/eventcalendar/tribe_events-16579/
CATEGORIES:フード
END:VEVENT
BEGIN:VEVENT
DTSTART;VALUE=DATE:20250508
DTEND;VALUE=DATE:20250509
DTSTAMP:20260425T082843
CREATED:20250506T053041Z
LAST-MODIFIED:20250506T053041Z
UID:16577-1746662400-1746748799@www.e-beans.jp
SUMMARY:キッチンカー『PANTAPI』
DESCRIPTION:詳細はこちら⇩ \nベトナムサンドウィッチ&タピオカミルクティー　☆PANTAPI☆
URL:https://www.e-beans.jp/eventcalendar/tribe_events-16577/
CATEGORIES:フード
END:VEVENT
BEGIN:VEVENT
DTSTART;VALUE=DATE:20250506
DTEND;VALUE=DATE:20250507
DTSTAMP:20260425T082843
CREATED:20250506T053113Z
LAST-MODIFIED:20250506T053113Z
UID:16566-1746489600-1746575999@www.e-beans.jp
SUMMARY:キッチンカー【石焼き芋ぽてにゃん】
DESCRIPTION:詳細はこちら⇩ \nキッチンカー  【石焼き芋ぽてにゃん】出店！
URL:https://www.e-beans.jp/eventcalendar/tribe_events-16566/
CATEGORIES:フード
END:VEVENT
BEGIN:VEVENT
DTSTART;VALUE=DATE:20250506
DTEND;VALUE=DATE:20250507
DTSTAMP:20260425T082843
CREATED:20250506T053054Z
LAST-MODIFIED:20250506T053054Z
UID:16574-1746489600-1746575999@www.e-beans.jp
SUMMARY:キッチンカー『PANTAPI』
DESCRIPTION:詳細はこちら⇩ \nベトナムサンドウィッチ&タピオカミルクティー　☆PANTAPI☆
URL:https://www.e-beans.jp/eventcalendar/tribe_events-16574/
CATEGORIES:フード
END:VEVENT
BEGIN:VEVENT
DTSTART;VALUE=DATE:20250504
DTEND;VALUE=DATE:20250505
DTSTAMP:20260425T082843
CREATED:20250506T053126Z
LAST-MODIFIED:20250506T053126Z
UID:16572-1746316800-1746403199@www.e-beans.jp
SUMMARY:キッチンカー『PANTAPI』
DESCRIPTION:詳細はこちら⇩ \nベトナムサンドウィッチ&タピオカミルクティー　☆PANTAPI☆
URL:https://www.e-beans.jp/eventcalendar/tribe_events-16572/
CATEGORIES:フード
END:VEVENT
BEGIN:VEVENT
DTSTART;VALUE=DATE:20250501
DTEND;VALUE=DATE:20250502
DTSTAMP:20260425T082843
CREATED:20250424T091625Z
LAST-MODIFIED:20250424T091625Z
UID:16621-1746057600-1746143999@www.e-beans.jp
SUMMARY:キッチンカー【iMOHANA】
DESCRIPTION:詳細はこちら⇩ \nhttps://www.e-beans.jp/event/event-16613/ \n 
URL:https://www.e-beans.jp/eventcalendar/tribe_events-16621/
CATEGORIES:フード
END:VEVENT
BEGIN:VEVENT
DTSTART;VALUE=DATE:20250429
DTEND;VALUE=DATE:20250430
DTSTAMP:20260425T082843
CREATED:20250402T044413Z
LAST-MODIFIED:20250402T044413Z
UID:16260-1745884800-1745971199@www.e-beans.jp
SUMMARY:キッチンカー『PANTAPI』
DESCRIPTION:詳細はこちら⇩ \nベトナムサンドウィッチ&タピオカミルクティー　☆PANTAPI☆
URL:https://www.e-beans.jp/eventcalendar/tribe_events-16260/
CATEGORIES:フード
END:VEVENT
BEGIN:VEVENT
DTSTART;VALUE=DATE:20250427
DTEND;VALUE=DATE:20250428
DTSTAMP:20260425T082843
CREATED:20250402T044341Z
LAST-MODIFIED:20250402T044341Z
UID:16258-1745712000-1745798399@www.e-beans.jp
SUMMARY:キッチンカー『PANTAPI』
DESCRIPTION:詳細はこちら⇩ \nベトナムサンドウィッチ&タピオカミルクティー　☆PANTAPI☆
URL:https://www.e-beans.jp/eventcalendar/tribe_events-16258/
CATEGORIES:フード
END:VEVENT
BEGIN:VEVENT
DTSTART;VALUE=DATE:20250426
DTEND;VALUE=DATE:20250427
DTSTAMP:20260425T082843
CREATED:20250406T052957Z
LAST-MODIFIED:20250406T052957Z
UID:16328-1745625600-1745711999@www.e-beans.jp
SUMMARY:【けっぱって東北】 定期公演 -リリイベSP＆ゴールデンウィークSP-開催決定！！
DESCRIPTION:詳しくはこちら⇩ \n【けっぱって東北】 定期公演 -リリイベSP＆ゴールデンウィークSP-開催決定！！
URL:https://www.e-beans.jp/eventcalendar/tribe_events-16328/
CATEGORIES:ライブ
END:VEVENT
BEGIN:VEVENT
DTSTART;VALUE=DATE:20250426
DTEND;VALUE=DATE:20250427
DTSTAMP:20260425T082843
CREATED:20250403T071237Z
LAST-MODIFIED:20250403T071237Z
UID:16265-1745625600-1745711999@www.e-beans.jp
SUMMARY:キッチンカー【石焼き芋ぽてにゃん】
DESCRIPTION:詳細はこちら⇩ \nキッチンカー  【石焼き芋ぽてにゃん】出店！
URL:https://www.e-beans.jp/eventcalendar/tribe_events-16265/
CATEGORIES:フード
END:VEVENT
BEGIN:VEVENT
DTSTART;VALUE=DATE:20250424
DTEND;VALUE=DATE:20250425
DTSTAMP:20260425T082843
CREATED:20250402T044306Z
LAST-MODIFIED:20250402T044306Z
UID:16256-1745452800-1745539199@www.e-beans.jp
SUMMARY:キッチンカー『PANTAPI』
DESCRIPTION:詳細はこちら⇩ \nベトナムサンドウィッチ&タピオカミルクティー　☆PANTAPI☆
URL:https://www.e-beans.jp/eventcalendar/tribe_events-16256/
CATEGORIES:フード
END:VEVENT
BEGIN:VEVENT
DTSTART;VALUE=DATE:20250423
DTEND;VALUE=DATE:20250424
DTSTAMP:20260425T082843
CREATED:20250506T053145Z
LAST-MODIFIED:20250506T053145Z
UID:16362-1745366400-1745452799@www.e-beans.jp
SUMMARY:キッチンカー【HAPPY FOOD】
DESCRIPTION:詳細はこちら⇩
URL:https://www.e-beans.jp/eventcalendar/tribe_events-16362/
CATEGORIES:フード
END:VEVENT
BEGIN:VEVENT
DTSTART;VALUE=DATE:20250423
DTEND;VALUE=DATE:20250424
DTSTAMP:20260425T082843
CREATED:20250416T081858Z
LAST-MODIFIED:20250416T081858Z
UID:16433-1745366400-1745452799@www.e-beans.jp
SUMMARY:キッチンカー【HAPPY FOOD】
DESCRIPTION:詳細はこちら⇩ \nキッチンカー【HAPPY FOOD】出店！！
URL:https://www.e-beans.jp/eventcalendar/tribe_events-16433/
CATEGORIES:フード
END:VEVENT
BEGIN:VEVENT
DTSTART;VALUE=DATE:20250422
DTEND;VALUE=DATE:20250423
DTSTAMP:20260425T082843
CREATED:20250402T044231Z
LAST-MODIFIED:20250402T044231Z
UID:16254-1745280000-1745366399@www.e-beans.jp
SUMMARY:キッチンカー『PANTAPI』
DESCRIPTION:詳細はこちら⇩ \nベトナムサンドウィッチ&タピオカミルクティー　☆PANTAPI☆
URL:https://www.e-beans.jp/eventcalendar/tribe_events-16254/
CATEGORIES:フード
END:VEVENT
BEGIN:VEVENT
DTSTART;VALUE=DATE:20250422
DTEND;VALUE=DATE:20250423
DTSTAMP:20260425T082843
CREATED:20250402T042342Z
LAST-MODIFIED:20250402T042342Z
UID:16235-1745280000-1745366399@www.e-beans.jp
SUMMARY:キッチンカー【SUGARMONSTER】
DESCRIPTION:詳細はこちら⇩ \nキッチンカー『SUGAR MONSTER』出店！
URL:https://www.e-beans.jp/eventcalendar/tribe_events-16235/
CATEGORIES:フード
END:VEVENT
BEGIN:VEVENT
DTSTART;VALUE=DATE:20250420
DTEND;VALUE=DATE:20250421
DTSTAMP:20260425T082843
CREATED:20250402T044155Z
LAST-MODIFIED:20250402T044155Z
UID:16252-1745107200-1745193599@www.e-beans.jp
SUMMARY:キッチンカー『PANTAPI』
DESCRIPTION:詳細はこちら⇩ \nベトナムサンドウィッチ&タピオカミルクティー　☆PANTAPI☆
URL:https://www.e-beans.jp/eventcalendar/tribe_events-16252/
CATEGORIES:フード
END:VEVENT
BEGIN:VEVENT
DTSTART;VALUE=DATE:20250419
DTEND;VALUE=DATE:20250509
DTSTAMP:20260425T082843
CREATED:20250301T102547Z
LAST-MODIFIED:20250314T062721Z
UID:15817-1745020800-1746748799@www.e-beans.jp
SUMMARY:食品サンプル作品即売会「こぢんまり製作工房」開催！
DESCRIPTION:詳細はこちら⇩ \nhttps://www.e-beans.jp/event/event-15683/
URL:https://www.e-beans.jp/eventcalendar/tribe_events-15817/
CATEGORIES:販売
END:VEVENT
BEGIN:VEVENT
DTSTART;VALUE=DATE:20250419
DTEND;VALUE=DATE:20250507
DTSTAMP:20260425T082843
CREATED:20250314T063150Z
LAST-MODIFIED:20250314T063150Z
UID:16010-1745020800-1746575999@www.e-beans.jp
SUMMARY:リト@葉っぱ切り抜き展　葉っぱの小旅行in仙台　開催！
DESCRIPTION:詳しくはこちら⇩ \nhttps://www.e-beans.jp/event/event-15774/
URL:https://www.e-beans.jp/eventcalendar/tribe_events-16010/
CATEGORIES:展示
END:VEVENT
BEGIN:VEVENT
DTSTART;VALUE=DATE:20250417
DTEND;VALUE=DATE:20250418
DTSTAMP:20260425T082843
CREATED:20250402T044120Z
LAST-MODIFIED:20250402T044120Z
UID:16250-1744848000-1744934399@www.e-beans.jp
SUMMARY:キッチンカー『PANTAPI』
DESCRIPTION:詳細はこちら⇩ \nベトナムサンドウィッチ&タピオカミルクティー　☆PANTAPI☆
URL:https://www.e-beans.jp/eventcalendar/tribe_events-16250/
CATEGORIES:フード
END:VEVENT
BEGIN:VEVENT
DTSTART;VALUE=DATE:20250415
DTEND;VALUE=DATE:20250416
DTSTAMP:20260425T082843
CREATED:20250403T071221Z
LAST-MODIFIED:20250403T071221Z
UID:16263-1744675200-1744761599@www.e-beans.jp
SUMMARY:キッチンカー【石焼き芋ぽてにゃん】
DESCRIPTION:詳細はこちら⇩ \nキッチンカー  【石焼き芋ぽてにゃん】出店！
URL:https://www.e-beans.jp/eventcalendar/tribe_events-16263/
CATEGORIES:フード
END:VEVENT
BEGIN:VEVENT
DTSTART;VALUE=DATE:20250415
DTEND;VALUE=DATE:20250416
DTSTAMP:20260425T082843
CREATED:20250402T044046Z
LAST-MODIFIED:20250402T044046Z
UID:16247-1744675200-1744761599@www.e-beans.jp
SUMMARY:キッチンカー『PANTAPI』
DESCRIPTION:詳細はこちら⇩ \nベトナムサンドウィッチ&タピオカミルクティー　☆PANTAPI☆
URL:https://www.e-beans.jp/eventcalendar/tribe_events-16247/
CATEGORIES:フード
END:VEVENT
BEGIN:VEVENT
DTSTART;VALUE=DATE:20250413
DTEND;VALUE=DATE:20250414
DTSTAMP:20260425T082843
CREATED:20250402T043929Z
LAST-MODIFIED:20250402T043929Z
UID:16245-1744502400-1744588799@www.e-beans.jp
SUMMARY:キッチンカー『PANTAPI』
DESCRIPTION:詳細はこちら⇩ \nベトナムサンドウィッチ&タピオカミルクティー　☆PANTAPI☆
URL:https://www.e-beans.jp/eventcalendar/tribe_events-16245/
CATEGORIES:フード
END:VEVENT
BEGIN:VEVENT
DTSTART;VALUE=DATE:20250412
DTEND;VALUE=DATE:20250413
DTSTAMP:20260425T082843
CREATED:20250311T111255Z
LAST-MODIFIED:20250311T111255Z
UID:15975-1744416000-1744502399@www.e-beans.jp
SUMMARY:イービンコスイベ開催！
DESCRIPTION:詳細はこちら⇩ \nイービンコスイベ開催決定！
URL:https://www.e-beans.jp/eventcalendar/tribe_events-15975/
CATEGORIES:その他
END:VEVENT
BEGIN:VEVENT
DTSTART;VALUE=DATE:20250410
DTEND;VALUE=DATE:20250411
DTSTAMP:20260425T082843
CREATED:20250402T043500Z
LAST-MODIFIED:20250402T043500Z
UID:16241-1744243200-1744329599@www.e-beans.jp
SUMMARY:キッチンカー『PANTAPI』
DESCRIPTION:  \n詳細はこちら⇩ \nベトナムサンドウィッチ&タピオカミルクティー　☆PANTAPI☆
URL:https://www.e-beans.jp/eventcalendar/tribe_events-16241/
CATEGORIES:フード
END:VEVENT
END:VCALENDAR