BEGIN:VCALENDAR
VERSION:2.0
PRODID:-//仙台駅前イービーンズ - ECPv6.15.20//NONSGML v1.0//EN
CALSCALE:GREGORIAN
METHOD:PUBLISH
X-WR-CALNAME:仙台駅前イービーンズ
X-ORIGINAL-URL:https://www.e-beans.jp
X-WR-CALDESC:仙台駅前イービーンズ のイベント
REFRESH-INTERVAL;VALUE=DURATION:PT1H
X-Robots-Tag:noindex
X-PUBLISHED-TTL:PT1H
BEGIN:VTIMEZONE
TZID:Asia/Tokyo
BEGIN:STANDARD
TZOFFSETFROM:+0900
TZOFFSETTO:+0900
TZNAME:JST
DTSTART:20240101T000000
END:STANDARD
END:VTIMEZONE
BEGIN:VEVENT
DTSTART;VALUE=DATE:20250608
DTEND;VALUE=DATE:20250609
DTSTAMP:20260425T101959
CREATED:20250604T044916Z
LAST-MODIFIED:20250604T044916Z
UID:17106-1749340800-1749427199@www.e-beans.jp
SUMMARY:キッチンカー【石焼き芋ぽてにゃん】
DESCRIPTION:詳細はこちら⇩ \nキッチンカー  【石焼き芋ぽてにゃん】出店！
URL:https://www.e-beans.jp/eventcalendar/tribe_events-17106/
CATEGORIES:フード
END:VEVENT
BEGIN:VEVENT
DTSTART;VALUE=DATE:20250608
DTEND;VALUE=DATE:20250609
DTSTAMP:20260425T101959
CREATED:20250529T015435Z
LAST-MODIFIED:20250529T015435Z
UID:17082-1749340800-1749427199@www.e-beans.jp
SUMMARY:キッチンカー『PANTAPI』
DESCRIPTION:詳細はこちら⇩ \nベトナムサンドウィッチ&タピオカミルクティー　☆PANTAPI☆
URL:https://www.e-beans.jp/eventcalendar/tribe_events-17082/
CATEGORIES:フード
END:VEVENT
BEGIN:VEVENT
DTSTART;VALUE=DATE:20250608
DTEND;VALUE=DATE:20250609
DTSTAMP:20260425T101959
CREATED:20250524T054509Z
LAST-MODIFIED:20250524T054509Z
UID:17004-1749340800-1749427199@www.e-beans.jp
SUMMARY:Palette Parade 全国ツアー2025 『Twilight Magic』〜地方公演後夜祭〜supported by アサヒ飲料　開催！
DESCRIPTION:詳細はこちら⇩ \nPalette Parade 全国ツアー2025 『Twilight Magic』〜地方公演後夜祭〜supported by アサヒ飲料　開催決定！
URL:https://www.e-beans.jp/eventcalendar/tribe_events-17004/
CATEGORIES:ライブ
END:VEVENT
BEGIN:VEVENT
DTSTART;VALUE=DATE:20250608
DTEND;VALUE=DATE:20250609
DTSTAMP:20260425T101959
CREATED:20250523T022609Z
LAST-MODIFIED:20250523T022609Z
UID:16963-1749340800-1749427199@www.e-beans.jp
SUMMARY:【けっぱって東北】定期公演 -supported by せんだい堂-　開催！
DESCRIPTION:詳細はこちら⇩ \n【けっぱって東北】定期公演 -supported by せんだい堂-　開催決定！
URL:https://www.e-beans.jp/eventcalendar/tribe_events-16963/
CATEGORIES:ライブ
END:VEVENT
BEGIN:VEVENT
DTSTART;VALUE=DATE:20250607
DTEND;VALUE=DATE:20250608
DTSTAMP:20260425T101959
CREATED:20250604T045125Z
LAST-MODIFIED:20250604T045125Z
UID:17102-1749254400-1749340799@www.e-beans.jp
SUMMARY:キッチンカー【HAPPY FOOD】
DESCRIPTION:詳細はこちら⇩ \nキッチンカー【HAPPY FOOD】出店！！
URL:https://www.e-beans.jp/eventcalendar/tribe_events-17102/
CATEGORIES:フード
END:VEVENT
BEGIN:VEVENT
DTSTART;VALUE=DATE:20250607
DTEND;VALUE=DATE:20250608
DTSTAMP:20260425T101959
CREATED:20250531T043907Z
LAST-MODIFIED:20250531T055600Z
UID:17181-1749254400-1749340799@www.e-beans.jp
SUMMARY:フラダンス「フェヌアヘレ」ビアガーデンステージ
DESCRIPTION:詳細はこちら⇩ \nビアガーデン　フラダンスイベント開催！
URL:https://www.e-beans.jp/eventcalendar/tribe_events-17181/
CATEGORIES:ライブ
END:VEVENT
BEGIN:VEVENT
DTSTART;VALUE=DATE:20250605
DTEND;VALUE=DATE:20250606
DTSTAMP:20260425T101959
CREATED:20250529T015421Z
LAST-MODIFIED:20250529T015421Z
UID:17080-1749081600-1749167999@www.e-beans.jp
SUMMARY:キッチンカー『PANTAPI』
DESCRIPTION:詳細はこちら⇩ \nベトナムサンドウィッチ&タピオカミルクティー　☆PANTAPI☆
URL:https://www.e-beans.jp/eventcalendar/tribe_events-17080/
CATEGORIES:フード
END:VEVENT
BEGIN:VEVENT
DTSTART;VALUE=DATE:20250603
DTEND;VALUE=DATE:20250604
DTSTAMP:20260425T101959
CREATED:20250529T015407Z
LAST-MODIFIED:20250529T015407Z
UID:17078-1748908800-1748995199@www.e-beans.jp
SUMMARY:キッチンカー『PANTAPI』
DESCRIPTION:詳細はこちら⇩ \nベトナムサンドウィッチ&タピオカミルクティー　☆PANTAPI☆
URL:https://www.e-beans.jp/eventcalendar/tribe_events-17078/
CATEGORIES:フード
END:VEVENT
BEGIN:VEVENT
DTSTART;VALUE=DATE:20250602
DTEND;VALUE=DATE:20250603
DTSTAMP:20260425T101959
CREATED:20250526T025723Z
LAST-MODIFIED:20250526T025723Z
UID:17021-1748822400-1748908799@www.e-beans.jp
SUMMARY:BUGVEL 7th SINGLE 「ZONE」リリース記念イベント　開催！
DESCRIPTION:詳しくはこちら⇩ \nBUGVEL 7th SINGLE 「ZONE」リリース記念イベント　開催決定！
URL:https://www.e-beans.jp/eventcalendar/tribe_events-17021/
CATEGORIES:ライブ
END:VEVENT
BEGIN:VEVENT
DTSTART;VALUE=DATE:20250601
DTEND;VALUE=DATE:20250602
DTSTAMP:20260425T101959
CREATED:20250529T015339Z
LAST-MODIFIED:20250529T015339Z
UID:17076-1748736000-1748822399@www.e-beans.jp
SUMMARY:キッチンカー『PANTAPI』
DESCRIPTION:詳細はこちら⇩ \nベトナムサンドウィッチ&タピオカミルクティー　☆PANTAPI☆
URL:https://www.e-beans.jp/eventcalendar/tribe_events-17076/
CATEGORIES:フード
END:VEVENT
BEGIN:VEVENT
DTSTART;VALUE=DATE:20250531
DTEND;VALUE=DATE:20250601
DTSTAMP:20260425T101959
CREATED:20250421T044702Z
LAST-MODIFIED:20250421T044702Z
UID:16502-1748649600-1748735999@www.e-beans.jp
SUMMARY:≒JOY 3rd シングル発売記念スペシャルリリースイベント開催！
DESCRIPTION:詳しくはこちら⇩ \n6/11(水)発売、≒JOY 3rd シングル発売記念スペシャルリリースイベント決定！
URL:https://www.e-beans.jp/eventcalendar/tribe_events-16502/
CATEGORIES:ライブ
END:VEVENT
BEGIN:VEVENT
DTSTART;VALUE=DATE:20250530
DTEND;VALUE=DATE:20250531
DTSTAMP:20260425T101959
CREATED:20250506T052902Z
LAST-MODIFIED:20250506T052902Z
UID:16570-1748563200-1748649599@www.e-beans.jp
SUMMARY:キッチンカー【石焼き芋ぽてにゃん】
DESCRIPTION:詳細はこちら⇩ \nキッチンカー  【石焼き芋ぽてにゃん】出店！
URL:https://www.e-beans.jp/eventcalendar/tribe_events-16570/
CATEGORIES:フード
END:VEVENT
BEGIN:VEVENT
DTSTART;VALUE=DATE:20250529
DTEND;VALUE=DATE:20250530
DTSTAMP:20260425T101959
CREATED:20250506T052915Z
LAST-MODIFIED:20250506T052915Z
UID:16595-1748476800-1748563199@www.e-beans.jp
SUMMARY:キッチンカー『PANTAPI』
DESCRIPTION:詳細はこちら⇩ \nベトナムサンドウィッチ&タピオカミルクティー　☆PANTAPI☆
URL:https://www.e-beans.jp/eventcalendar/tribe_events-16595/
CATEGORIES:フード
END:VEVENT
BEGIN:VEVENT
DTSTART;VALUE=DATE:20250528
DTEND;VALUE=DATE:20250529
DTSTAMP:20260425T101959
CREATED:20250425T012215Z
LAST-MODIFIED:20250425T012215Z
UID:16626-1748390400-1748476799@www.e-beans.jp
SUMMARY:クレープキッチンカー『カフェ シュガーロード』
DESCRIPTION:詳細はこちら⇩ \nクレープキッチンカー『カフェ シュガーロード』
URL:https://www.e-beans.jp/eventcalendar/tribe_events-16626/
CATEGORIES:フード
END:VEVENT
BEGIN:VEVENT
DTSTART;VALUE=DATE:20250527
DTEND;VALUE=DATE:20250528
DTSTAMP:20260425T101959
CREATED:20250506T052922Z
LAST-MODIFIED:20250506T052922Z
UID:16593-1748304000-1748390399@www.e-beans.jp
SUMMARY:キッチンカー『PANTAPI』
DESCRIPTION:詳細はこちら⇩ \nベトナムサンドウィッチ&タピオカミルクティー　☆PANTAPI☆
URL:https://www.e-beans.jp/eventcalendar/tribe_events-16593/
CATEGORIES:フード
END:VEVENT
BEGIN:VEVENT
DTSTART;VALUE=DATE:20250525
DTEND;VALUE=DATE:20250526
DTSTAMP:20260425T101959
CREATED:20250519T060033Z
LAST-MODIFIED:20250519T060033Z
UID:16926-1748131200-1748217599@www.e-beans.jp
SUMMARY:「7UP7 vol.5」in Sendai＠仙台駅前EBeanS　開催！
DESCRIPTION:詳細はこちら⇩ \n5/25(日) フリーライブツアー「7UP7 vol.5」in Sendai＠仙台駅前EBeanS　開催決定！
URL:https://www.e-beans.jp/eventcalendar/tribe_events-16926/
CATEGORIES:ライブ
END:VEVENT
BEGIN:VEVENT
DTSTART;VALUE=DATE:20250525
DTEND;VALUE=DATE:20250526
DTSTAMP:20260425T101959
CREATED:20250506T052930Z
LAST-MODIFIED:20250506T052930Z
UID:16591-1748131200-1748217599@www.e-beans.jp
SUMMARY:キッチンカー『PANTAPI』
DESCRIPTION:詳細はこちら⇩ \nベトナムサンドウィッチ&タピオカミルクティー　☆PANTAPI☆
URL:https://www.e-beans.jp/eventcalendar/tribe_events-16591/
CATEGORIES:フード
END:VEVENT
BEGIN:VEVENT
DTSTART;VALUE=DATE:20250524
DTEND;VALUE=DATE:20250525
DTSTAMP:20260425T101959
CREATED:20250511T034513Z
LAST-MODIFIED:20250511T034513Z
UID:16856-1748044800-1748131199@www.e-beans.jp
SUMMARY:【UK】2ndシングル『Made Up Your Mind』 ミニライブ＆特典会　開催決定！
DESCRIPTION:詳しくはこちら↓ \n【UK】2ndシングル『Made Up Your Mind』 ミニライブ＆特典会　開催決定！
URL:https://www.e-beans.jp/eventcalendar/tribe_events-16856/
CATEGORIES:ライブ
END:VEVENT
BEGIN:VEVENT
DTSTART;VALUE=DATE:20250522
DTEND;VALUE=DATE:20250523
DTSTAMP:20260425T101959
CREATED:20250506T052938Z
LAST-MODIFIED:20250506T052938Z
UID:16589-1747872000-1747958399@www.e-beans.jp
SUMMARY:キッチンカー『PANTAPI』
DESCRIPTION:詳細はこちら⇩ \nベトナムサンドウィッチ&タピオカミルクティー　☆PANTAPI☆
URL:https://www.e-beans.jp/eventcalendar/tribe_events-16589/
CATEGORIES:フード
END:VEVENT
BEGIN:VEVENT
DTSTART;VALUE=DATE:20250520
DTEND;VALUE=DATE:20250521
DTSTAMP:20260425T101959
CREATED:20250506T052946Z
LAST-MODIFIED:20250506T052946Z
UID:16587-1747699200-1747785599@www.e-beans.jp
SUMMARY:キッチンカー『PANTAPI』
DESCRIPTION:詳細はこちら⇩ \nベトナムサンドウィッチ&タピオカミルクティー　☆PANTAPI☆
URL:https://www.e-beans.jp/eventcalendar/tribe_events-16587/
CATEGORIES:フード
END:VEVENT
BEGIN:VEVENT
DTSTART;VALUE=DATE:20250519
DTEND;VALUE=DATE:20250520
DTSTAMP:20260425T101959
CREATED:20250506T052955Z
LAST-MODIFIED:20250506T052955Z
UID:16568-1747612800-1747699199@www.e-beans.jp
SUMMARY:キッチンカー【石焼き芋ぽてにゃん】
DESCRIPTION:詳細はこちら⇩ \nキッチンカー  【石焼き芋ぽてにゃん】出店！
URL:https://www.e-beans.jp/eventcalendar/tribe_events-16568/
CATEGORIES:フード
END:VEVENT
BEGIN:VEVENT
DTSTART;VALUE=DATE:20250518
DTEND;VALUE=DATE:20250519
DTSTAMP:20260425T101959
CREATED:20250511T034406Z
LAST-MODIFIED:20250511T034406Z
UID:16853-1747526400-1747612799@www.e-beans.jp
SUMMARY:けっぱって東北 定期公演 -リリイベSP-　　supported by せんだい堂　開催決定！
DESCRIPTION:詳しくはこちら↓ \nけっぱって東北 定期公演 -リリイベSP-　　supported by せんだい堂　開催決定！
URL:https://www.e-beans.jp/eventcalendar/tribe_events-16853/
CATEGORIES:ライブ
END:VEVENT
BEGIN:VEVENT
DTSTART;VALUE=DATE:20250518
DTEND;VALUE=DATE:20250519
DTSTAMP:20260425T101959
CREATED:20250506T053005Z
LAST-MODIFIED:20250506T053005Z
UID:16585-1747526400-1747612799@www.e-beans.jp
SUMMARY:キッチンカー『PANTAPI』
DESCRIPTION:詳細はこちら⇩ \nベトナムサンドウィッチ&タピオカミルクティー　☆PANTAPI☆
URL:https://www.e-beans.jp/eventcalendar/tribe_events-16585/
CATEGORIES:フード
END:VEVENT
BEGIN:VEVENT
DTSTART;VALUE=DATE:20250517
DTEND;VALUE=DATE:20250526
DTSTAMP:20260425T101959
CREATED:20250429T070648Z
LAST-MODIFIED:20250429T070648Z
UID:16742-1747440000-1748217599@www.e-beans.jp
SUMMARY:PandoraHearts×ヴァニタスの手記 POP UP SHOP
DESCRIPTION:詳しくはこちら⇩ \nhttps://www.e-beans.jp/event/event-16515/
URL:https://www.e-beans.jp/eventcalendar/tribe_events-16742/
CATEGORIES:販売
END:VEVENT
BEGIN:VEVENT
DTSTART;VALUE=DATE:20250517
DTEND;VALUE=DATE:20250519
DTSTAMP:20260425T101959
CREATED:20250324T052937Z
LAST-MODIFIED:20250324T052937Z
UID:16118-1747440000-1747612799@www.e-beans.jp
SUMMARY:推し活応援ハンドメイドイベント【推し色展】開催！
DESCRIPTION:詳細はこちら⇩ \n推し活応援ハンドメイドイベント【推し色展】開催！
URL:https://www.e-beans.jp/eventcalendar/tribe_events-16118/
CATEGORIES:販売
END:VEVENT
BEGIN:VEVENT
DTSTART;VALUE=DATE:20250515
DTEND;VALUE=DATE:20250516
DTSTAMP:20260425T101959
CREATED:20250506T053013Z
LAST-MODIFIED:20250506T053013Z
UID:16583-1747267200-1747353599@www.e-beans.jp
SUMMARY:キッチンカー『PANTAPI』
DESCRIPTION:詳細はこちら⇩ \nベトナムサンドウィッチ&タピオカミルクティー　☆PANTAPI☆
URL:https://www.e-beans.jp/eventcalendar/tribe_events-16583/
CATEGORIES:フード
END:VEVENT
BEGIN:VEVENT
DTSTART;VALUE=DATE:20250513
DTEND;VALUE=DATE:20250514
DTSTAMP:20260425T101959
CREATED:20250506T053022Z
LAST-MODIFIED:20250506T053022Z
UID:16581-1747094400-1747180799@www.e-beans.jp
SUMMARY:キッチンカー『PANTAPI』
DESCRIPTION:詳細はこちら⇩ \nベトナムサンドウィッチ&タピオカミルクティー　☆PANTAPI☆
URL:https://www.e-beans.jp/eventcalendar/tribe_events-16581/
CATEGORIES:フード
END:VEVENT
BEGIN:VEVENT
DTSTART;VALUE=DATE:20250512
DTEND;VALUE=DATE:20250609
DTSTAMP:20260425T101959
CREATED:20250421T054538Z
LAST-MODIFIED:20250421T054538Z
UID:16504-1747008000-1749427199@www.e-beans.jp
SUMMARY:『古本まつり』　開催決定！
DESCRIPTION:詳しくはこちら⇩ \n『古本まつり』　開催決定！
URL:https://www.e-beans.jp/eventcalendar/tribe_events-16504/
CATEGORIES:販売
END:VEVENT
BEGIN:VEVENT
DTSTART;VALUE=DATE:20250511
DTEND;VALUE=DATE:20250512
DTSTAMP:20260425T101959
CREATED:20250506T053030Z
LAST-MODIFIED:20250506T053030Z
UID:16579-1746921600-1747007999@www.e-beans.jp
SUMMARY:キッチンカー『PANTAPI』
DESCRIPTION:詳細はこちら⇩ \nベトナムサンドウィッチ&タピオカミルクティー　☆PANTAPI☆
URL:https://www.e-beans.jp/eventcalendar/tribe_events-16579/
CATEGORIES:フード
END:VEVENT
BEGIN:VEVENT
DTSTART;TZID=Asia/Tokyo:20250510T100000
DTEND;TZID=Asia/Tokyo:20250608T200000
DTSTAMP:20260425T101959
CREATED:20250417T051114Z
LAST-MODIFIED:20250417T051114Z
UID:16448-1746871200-1749412800@www.e-beans.jp
SUMMARY:全国からレコード・CDが集合！「イービーンズ大レコードCD市」開催決定！
DESCRIPTION:詳しくはこちら⇩ \n全国からレコード・CDが集合！「イービーンズ大レコードCD市」開催決定！
URL:https://www.e-beans.jp/eventcalendar/tribe_events-16448/
CATEGORIES:販売
END:VEVENT
END:VCALENDAR