BEGIN:VCALENDAR
VERSION:2.0
PRODID:-//仙台駅前イービーンズ - ECPv6.15.20//NONSGML v1.0//EN
CALSCALE:GREGORIAN
METHOD:PUBLISH
X-WR-CALNAME:仙台駅前イービーンズ
X-ORIGINAL-URL:https://www.e-beans.jp
X-WR-CALDESC:仙台駅前イービーンズ のイベント
REFRESH-INTERVAL;VALUE=DURATION:PT1H
X-Robots-Tag:noindex
X-PUBLISHED-TTL:PT1H
BEGIN:VTIMEZONE
TZID:Asia/Tokyo
BEGIN:STANDARD
TZOFFSETFROM:+0900
TZOFFSETTO:+0900
TZNAME:JST
DTSTART:20240101T000000
END:STANDARD
END:VTIMEZONE
BEGIN:VEVENT
DTSTART;VALUE=DATE:20250715
DTEND;VALUE=DATE:20250716
DTSTAMP:20260425T114054
CREATED:20250702T042021Z
LAST-MODIFIED:20250702T042021Z
UID:17556-1752537600-1752623999@www.e-beans.jp
SUMMARY:キッチンカー『PANTAPI』
DESCRIPTION:詳細はこちら⇩ \nベトナムサンドウィッチ&タピオカミルクティー　☆PANTAPI☆
URL:https://www.e-beans.jp/eventcalendar/tribe_events-17556/
CATEGORIES:フード
END:VEVENT
BEGIN:VEVENT
DTSTART;VALUE=DATE:20250713
DTEND;VALUE=DATE:20250714
DTSTAMP:20260425T114054
CREATED:20250719T071622Z
LAST-MODIFIED:20250719T071622Z
UID:17583-1752364800-1752451199@www.e-beans.jp
SUMMARY:キッチンカー『石焼き芋ぽてにゃん』
DESCRIPTION:詳細はこちら⇩ \nキッチンカー  【石焼き芋ぽてにゃん】出店！
URL:https://www.e-beans.jp/eventcalendar/tribe_events-17583/
CATEGORIES:フード
END:VEVENT
BEGIN:VEVENT
DTSTART;VALUE=DATE:20250713
DTEND;VALUE=DATE:20250714
DTSTAMP:20260425T114054
CREATED:20250702T042009Z
LAST-MODIFIED:20250702T042009Z
UID:17552-1752364800-1752451199@www.e-beans.jp
SUMMARY:キッチンカー『PANTAPI』
DESCRIPTION:詳細はこちら⇩ \nベトナムサンドウィッチ&タピオカミルクティー　☆PANTAPI☆
URL:https://www.e-beans.jp/eventcalendar/tribe_events-17552/
CATEGORIES:フード
END:VEVENT
BEGIN:VEVENT
DTSTART;VALUE=DATE:20250713
DTEND;VALUE=DATE:20250714
DTSTAMP:20260425T114054
CREATED:20250602T081528Z
LAST-MODIFIED:20250602T081528Z
UID:17218-1752364800-1752451199@www.e-beans.jp
SUMMARY:僕が見たかった青空 6thシングルリリースイベント！
DESCRIPTION:詳細はこちら⇩ \n僕が見たかった青空 6thシングルリリースイベント決定！
URL:https://www.e-beans.jp/eventcalendar/tribe_events-17218/
CATEGORIES:ライブ
END:VEVENT
BEGIN:VEVENT
DTSTART;VALUE=DATE:20250712
DTEND;VALUE=DATE:20250714
DTSTAMP:20260425T114054
CREATED:20250613T060834Z
LAST-MODIFIED:20250613T060834Z
UID:17376-1752278400-1752451199@www.e-beans.jp
SUMMARY:天体＆海モチーフ　ハンドメイド作品即売会【星海旅行展】開催！！
DESCRIPTION:詳しくはこちら⇩ \n天体＆海モチーフ　ハンドメイド作品即売会【星海旅行展】開催！！
URL:https://www.e-beans.jp/eventcalendar/tribe_events-17376/
CATEGORIES:販売
END:VEVENT
BEGIN:VEVENT
DTSTART;VALUE=DATE:20250710
DTEND;VALUE=DATE:20250711
DTSTAMP:20260425T114054
CREATED:20250702T041951Z
LAST-MODIFIED:20250702T041951Z
UID:17550-1752105600-1752191999@www.e-beans.jp
SUMMARY:キッチンカー『PANTAPI』
DESCRIPTION:詳細はこちら⇩ \nベトナムサンドウィッチ&タピオカミルクティー　☆PANTAPI☆
URL:https://www.e-beans.jp/eventcalendar/tribe_events-17550/
CATEGORIES:フード
END:VEVENT
BEGIN:VEVENT
DTSTART;VALUE=DATE:20250708
DTEND;VALUE=DATE:20250709
DTSTAMP:20260425T114054
CREATED:20250702T041928Z
LAST-MODIFIED:20250702T041928Z
UID:17548-1751932800-1752019199@www.e-beans.jp
SUMMARY:キッチンカー『PANTAPI』
DESCRIPTION:詳細はこちら⇩ \nベトナムサンドウィッチ&タピオカミルクティー　☆PANTAPI☆
URL:https://www.e-beans.jp/eventcalendar/tribe_events-17548/
CATEGORIES:フード
END:VEVENT
BEGIN:VEVENT
DTSTART;VALUE=DATE:20250707
DTEND;VALUE=DATE:20250708
DTSTAMP:20260425T114054
CREATED:20250703T104129Z
LAST-MODIFIED:20250703T104129Z
UID:17608-1751846400-1751932799@www.e-beans.jp
SUMMARY:カルピス生誕サンプリング　開催！
DESCRIPTION:詳細はこちら⇩ \nカルピス生誕サンプリング　開催決定！
URL:https://www.e-beans.jp/eventcalendar/tribe_events-17608/
CATEGORIES:その他
END:VEVENT
BEGIN:VEVENT
DTSTART;VALUE=DATE:20250706
DTEND;VALUE=DATE:20250707
DTSTAMP:20260425T114054
CREATED:20250702T041940Z
LAST-MODIFIED:20250702T041940Z
UID:17546-1751760000-1751846399@www.e-beans.jp
SUMMARY:キッチンカー『PANTAPI』
DESCRIPTION:詳細はこちら⇩ \nベトナムサンドウィッチ&タピオカミルクティー　☆PANTAPI☆
URL:https://www.e-beans.jp/eventcalendar/tribe_events-17546/
CATEGORIES:フード
END:VEVENT
BEGIN:VEVENT
DTSTART;VALUE=DATE:20250706
DTEND;VALUE=DATE:20250707
DTSTAMP:20260425T114054
CREATED:20250701T052936Z
LAST-MODIFIED:20250701T052936Z
UID:17577-1751760000-1751846399@www.e-beans.jp
SUMMARY:OHL 全国流通盤2nd EP「NOTE」 発売記念 7/6(Sun.) インストアライブ 開催！
DESCRIPTION:詳細はこちら⇩ \nOHL 全国流通盤2nd EP「NOTE」 発売記念 7/6(Sun.) インストアライブ 開催決定！
URL:https://www.e-beans.jp/eventcalendar/tribe_events-17577/
CATEGORIES:ライブ
END:VEVENT
BEGIN:VEVENT
DTSTART;VALUE=DATE:20250705
DTEND;VALUE=DATE:20250706
DTSTAMP:20260425T114054
CREATED:20250624T092838Z
LAST-MODIFIED:20250624T092838Z
UID:17481-1751673600-1751759999@www.e-beans.jp
SUMMARY:「Pixel Ribbon」発売記念フリーイベント
DESCRIPTION:詳しくはこちら⇩ \n「Pixel Ribbon」発売記念フリーイベント
URL:https://www.e-beans.jp/eventcalendar/tribe_events-17481/
CATEGORIES:ライブ
END:VEVENT
BEGIN:VEVENT
DTSTART;VALUE=DATE:20250703
DTEND;VALUE=DATE:20250704
DTSTAMP:20260425T114054
CREATED:20250702T041909Z
LAST-MODIFIED:20250702T041909Z
UID:17543-1751500800-1751587199@www.e-beans.jp
SUMMARY:キッチンカー『PANTAPI』
DESCRIPTION:詳細はこちら⇩ \nベトナムサンドウィッチ&タピオカミルクティー　☆PANTAPI☆
URL:https://www.e-beans.jp/eventcalendar/tribe_events-17543/
CATEGORIES:フード
END:VEVENT
BEGIN:VEVENT
DTSTART;VALUE=DATE:20250701
DTEND;VALUE=DATE:20250702
DTSTAMP:20260425T114054
CREATED:20250702T041859Z
LAST-MODIFIED:20250702T041859Z
UID:17541-1751328000-1751414399@www.e-beans.jp
SUMMARY:キッチンカー『PANTAPI』
DESCRIPTION:詳細はこちら⇩ \nベトナムサンドウィッチ&タピオカミルクティー　☆PANTAPI☆
URL:https://www.e-beans.jp/eventcalendar/tribe_events-17541/
CATEGORIES:フード
END:VEVENT
BEGIN:VEVENT
DTSTART;VALUE=DATE:20250629
DTEND;VALUE=DATE:20250630
DTSTAMP:20260425T114054
CREATED:20250624T071606Z
LAST-MODIFIED:20250624T071606Z
UID:17462-1751155200-1751241599@www.e-beans.jp
SUMMARY:LILIA.Fes～野外大作戦vol.24～開催！
DESCRIPTION:詳しくはこちら⇩ \nLILIA.Fes～野外大作戦vol.24～開催決定！
URL:https://www.e-beans.jp/eventcalendar/tribe_events-17462/
CATEGORIES:ライブ
END:VEVENT
BEGIN:VEVENT
DTSTART;VALUE=DATE:20250629
DTEND;VALUE=DATE:20250630
DTSTAMP:20260425T114054
CREATED:20250529T015616Z
LAST-MODIFIED:20250529T015616Z
UID:17100-1751155200-1751241599@www.e-beans.jp
SUMMARY:キッチンカー『PANTAPI』
DESCRIPTION:詳細はこちら⇩ \nベトナムサンドウィッチ&タピオカミルクティー　☆PANTAPI☆
URL:https://www.e-beans.jp/eventcalendar/tribe_events-17100/
CATEGORIES:フード
END:VEVENT
BEGIN:VEVENT
DTSTART;VALUE=DATE:20250628
DTEND;VALUE=DATE:20250629
DTSTAMP:20260425T114054
CREATED:20250421T060140Z
LAST-MODIFIED:20250421T060140Z
UID:16509-1751068800-1751155199@www.e-beans.jp
SUMMARY:【🌙あばらや204号室公開収録in仙台　10周年でムニャるな】開催決定！！
DESCRIPTION:詳しくはこちら⇩ \n【🌙あばらや204号室公開収録in仙台　10周年でムニャるな】開催決定！！
URL:https://www.e-beans.jp/eventcalendar/tribe_events-16509/
CATEGORIES:その他
END:VEVENT
BEGIN:VEVENT
DTSTART;VALUE=DATE:20250626
DTEND;VALUE=DATE:20250627
DTSTAMP:20260425T114054
CREATED:20250529T015608Z
LAST-MODIFIED:20250529T015608Z
UID:17098-1750896000-1750982399@www.e-beans.jp
SUMMARY:キッチンカー『PANTAPI』
DESCRIPTION:詳細はこちら⇩ \nベトナムサンドウィッチ&タピオカミルクティー　☆PANTAPI☆
URL:https://www.e-beans.jp/eventcalendar/tribe_events-17098/
CATEGORIES:フード
END:VEVENT
BEGIN:VEVENT
DTSTART;VALUE=DATE:20250624
DTEND;VALUE=DATE:20250625
DTSTAMP:20260425T114054
CREATED:20250604T051535Z
LAST-MODIFIED:20250604T051535Z
UID:17157-1750723200-1750809599@www.e-beans.jp
SUMMARY:キッチンカー『SUGAR MONSTER』
DESCRIPTION:詳細はこちら⇩ \nキッチンカー『SUGAR MONSTER』出店！
URL:https://www.e-beans.jp/eventcalendar/tribe_events-17157/
CATEGORIES:フード
END:VEVENT
BEGIN:VEVENT
DTSTART;VALUE=DATE:20250624
DTEND;VALUE=DATE:20250625
DTSTAMP:20260425T114054
CREATED:20250529T015559Z
LAST-MODIFIED:20250529T015559Z
UID:17096-1750723200-1750809599@www.e-beans.jp
SUMMARY:キッチンカー『PANTAPI』
DESCRIPTION:詳細はこちら⇩ \nベトナムサンドウィッチ&タピオカミルクティー　☆PANTAPI☆
URL:https://www.e-beans.jp/eventcalendar/tribe_events-17096/
CATEGORIES:フード
END:VEVENT
BEGIN:VEVENT
DTSTART;VALUE=DATE:20250623
DTEND;VALUE=DATE:20250624
DTSTAMP:20260425T114054
CREATED:20250604T044856Z
LAST-MODIFIED:20250604T044856Z
UID:17108-1750636800-1750723199@www.e-beans.jp
SUMMARY:キッチンカー【石焼き芋ぽてにゃん】
DESCRIPTION:詳細はこちら⇩ \nキッチンカー  【石焼き芋ぽてにゃん】出店！
URL:https://www.e-beans.jp/eventcalendar/tribe_events-17108/
CATEGORIES:フード
END:VEVENT
BEGIN:VEVENT
DTSTART;VALUE=DATE:20250622
DTEND;VALUE=DATE:20250623
DTSTAMP:20260425T114054
CREATED:20250604T051435Z
LAST-MODIFIED:20250604T051435Z
UID:17155-1750550400-1750636799@www.e-beans.jp
SUMMARY:キッチンカー『SUGAR MONSTER』
DESCRIPTION:詳細はこちら⇩ \nキッチンカー『SUGAR MONSTER』出店！
URL:https://www.e-beans.jp/eventcalendar/tribe_events-17155/
CATEGORIES:フード
END:VEVENT
BEGIN:VEVENT
DTSTART;VALUE=DATE:20250622
DTEND;VALUE=DATE:20250623
DTSTAMP:20260425T114054
CREATED:20250602T081603Z
LAST-MODIFIED:20250602T081603Z
UID:17220-1750550400-1750636799@www.e-beans.jp
SUMMARY:7m!n 1st single 『JOY!』発売決定！&リリースイベント開催！
DESCRIPTION:詳細はこちら⇩ \n7m!n 1st single 『JOY!』発売決定！&リリースイベント開催決定！
URL:https://www.e-beans.jp/eventcalendar/tribe_events-17220/
CATEGORIES:ライブ
END:VEVENT
BEGIN:VEVENT
DTSTART;VALUE=DATE:20250622
DTEND;VALUE=DATE:20250623
DTSTAMP:20260425T114054
CREATED:20250529T015549Z
LAST-MODIFIED:20250529T015549Z
UID:17094-1750550400-1750636799@www.e-beans.jp
SUMMARY:キッチンカー『PANTAPI』
DESCRIPTION:詳細はこちら⇩ \nベトナムサンドウィッチ&タピオカミルクティー　☆PANTAPI☆
URL:https://www.e-beans.jp/eventcalendar/tribe_events-17094/
CATEGORIES:フード
END:VEVENT
BEGIN:VEVENT
DTSTART;VALUE=DATE:20250621
DTEND;VALUE=DATE:20250622
DTSTAMP:20260425T114054
CREATED:20250604T045057Z
LAST-MODIFIED:20250604T045057Z
UID:17104-1750464000-1750550399@www.e-beans.jp
SUMMARY:キッチンカー【HAPPY FOOD】
DESCRIPTION:詳細はこちら⇩ \nキッチンカー【HAPPY FOOD】出店！！
URL:https://www.e-beans.jp/eventcalendar/tribe_events-17104/
CATEGORIES:フード
END:VEVENT
BEGIN:VEVENT
DTSTART;VALUE=DATE:20250621
DTEND;VALUE=DATE:20250622
DTSTAMP:20260425T114054
CREATED:20250526T101014Z
LAST-MODIFIED:20250526T101014Z
UID:17116-1750464000-1750550399@www.e-beans.jp
SUMMARY:ICEx 6thシングル「インストール」リリースイベント　開催！
DESCRIPTION:詳細はこちら⇩ \nICEx 6thシングル「インストール」リリースイベント　開催決定！
URL:https://www.e-beans.jp/eventcalendar/tribe_events-17116/
CATEGORIES:ライブ
END:VEVENT
BEGIN:VEVENT
DTSTART;VALUE=DATE:20250619
DTEND;VALUE=DATE:20250620
DTSTAMP:20260425T114054
CREATED:20250529T015538Z
LAST-MODIFIED:20250529T015538Z
UID:17092-1750291200-1750377599@www.e-beans.jp
SUMMARY:キッチンカー『PANTAPI』
DESCRIPTION:詳細はこちら⇩ \nベトナムサンドウィッチ&タピオカミルクティー　☆PANTAPI☆
URL:https://www.e-beans.jp/eventcalendar/tribe_events-17092/
CATEGORIES:フード
END:VEVENT
BEGIN:VEVENT
DTSTART;VALUE=DATE:20250618
DTEND;VALUE=DATE:20250619
DTSTAMP:20260425T114054
CREATED:20250604T051422Z
LAST-MODIFIED:20250604T051422Z
UID:17153-1750204800-1750291199@www.e-beans.jp
SUMMARY:キッチンカー『SUGAR MONSTER』
DESCRIPTION:詳細はこちら⇩ \nキッチンカー『SUGAR MONSTER』出店！
URL:https://www.e-beans.jp/eventcalendar/tribe_events-17153/
CATEGORIES:フード
END:VEVENT
BEGIN:VEVENT
DTSTART;VALUE=DATE:20250617
DTEND;VALUE=DATE:20250618
DTSTAMP:20260425T114054
CREATED:20250529T015525Z
LAST-MODIFIED:20250529T015525Z
UID:17090-1750118400-1750204799@www.e-beans.jp
SUMMARY:キッチンカー『PANTAPI』
DESCRIPTION:詳細はこちら⇩ \nベトナムサンドウィッチ&タピオカミルクティー　☆PANTAPI☆
URL:https://www.e-beans.jp/eventcalendar/tribe_events-17090/
CATEGORIES:フード
END:VEVENT
BEGIN:VEVENT
DTSTART;VALUE=DATE:20250615
DTEND;VALUE=DATE:20250616
DTSTAMP:20260425T114054
CREATED:20250529T015516Z
LAST-MODIFIED:20250529T015516Z
UID:17088-1749945600-1750031999@www.e-beans.jp
SUMMARY:キッチンカー『PANTAPI』
DESCRIPTION:詳細はこちら⇩ \nベトナムサンドウィッチ&タピオカミルクティー　☆PANTAPI☆
URL:https://www.e-beans.jp/eventcalendar/tribe_events-17088/
CATEGORIES:フード
END:VEVENT
BEGIN:VEVENT
DTSTART;VALUE=DATE:20250614
DTEND;VALUE=DATE:20250615
DTSTAMP:20260425T114054
CREATED:20250421T060045Z
LAST-MODIFIED:20250511T034430Z
UID:16507-1749859200-1749945599@www.e-beans.jp
SUMMARY:【春風亭与いちの初めてのらくご】　開催決定！
DESCRIPTION:詳しくはこちら⇩ \n【春風亭与いちの初めてのらくご】　開催決定！
URL:https://www.e-beans.jp/eventcalendar/tribe_events-16507/
CATEGORIES:その他
END:VEVENT
END:VCALENDAR