BEGIN:VCALENDAR
VERSION:2.0
PRODID:-//仙台駅前イービーンズ - ECPv6.15.20//NONSGML v1.0//EN
CALSCALE:GREGORIAN
METHOD:PUBLISH
X-WR-CALNAME:仙台駅前イービーンズ
X-ORIGINAL-URL:https://www.e-beans.jp
X-WR-CALDESC:仙台駅前イービーンズ のイベント
REFRESH-INTERVAL;VALUE=DURATION:PT1H
X-Robots-Tag:noindex
X-PUBLISHED-TTL:PT1H
BEGIN:VTIMEZONE
TZID:Asia/Tokyo
BEGIN:STANDARD
TZOFFSETFROM:+0900
TZOFFSETTO:+0900
TZNAME:JST
DTSTART:20230101T000000
END:STANDARD
END:VTIMEZONE
BEGIN:VEVENT
DTSTART;VALUE=DATE:20240712
DTEND;VALUE=DATE:20240806
DTSTAMP:20260425T012710
CREATED:20240727T061221Z
LAST-MODIFIED:20240727T061221Z
UID:13605-1720742400-1722902399@www.e-beans.jp
SUMMARY:食品サンプル作品販売会「こぢんまり製作工房」開催！
DESCRIPTION:詳しくはこちら⇩ \n食品サンプル作品販売会「こぢんまり製作工房」開催決定！
URL:https://www.e-beans.jp/eventcalendar/tribe_events-13605/
CATEGORIES:販売
END:VEVENT
BEGIN:VEVENT
DTSTART;VALUE=DATE:20240720
DTEND;VALUE=DATE:20240721
DTSTAMP:20260425T012710
CREATED:20240622T025220Z
LAST-MODIFIED:20240622T025220Z
UID:13187-1721433600-1721519999@www.e-beans.jp
SUMMARY:CROWN POP THANK YOU LIVE vol.5
DESCRIPTION:詳しくはこちらから⇩ \nCROWN POP THANK YOU LIVE vol.5
URL:https://www.e-beans.jp/eventcalendar/crown-pop-thank-you-live-vol-5/
CATEGORIES:ライブ
END:VEVENT
BEGIN:VEVENT
DTSTART;VALUE=DATE:20240721
DTEND;VALUE=DATE:20240722
DTSTAMP:20260425T012710
CREATED:20240626T070637Z
LAST-MODIFIED:20240626T070637Z
UID:13274-1721520000-1721606399@www.e-beans.jp
SUMMARY:ベトナムサンドウィッチ『PANTAPI』出店
DESCRIPTION:詳細はこちら⇩ \nベトナムサンドウィッチ&タピオカミルクティー　☆PANTAPI☆
URL:https://www.e-beans.jp/eventcalendar/tribe_events-13274/
CATEGORIES:フード
END:VEVENT
BEGIN:VEVENT
DTSTART;VALUE=DATE:20240723
DTEND;VALUE=DATE:20240724
DTSTAMP:20260425T012710
CREATED:20240626T070719Z
LAST-MODIFIED:20240626T070719Z
UID:13211-1721692800-1721779199@www.e-beans.jp
SUMMARY:ベトナムサンドウィッチ『PANTAPI』出店
DESCRIPTION:詳細はこちら⇩ \nベトナムサンドウィッチ&タピオカミルクティー　☆PANTAPI☆
URL:https://www.e-beans.jp/eventcalendar/tribe_events-13211/
CATEGORIES:フード
END:VEVENT
BEGIN:VEVENT
DTSTART;VALUE=DATE:20240725
DTEND;VALUE=DATE:20240726
DTSTAMP:20260425T012710
CREATED:20240626T070810Z
LAST-MODIFIED:20240626T070810Z
UID:13214-1721865600-1721951999@www.e-beans.jp
SUMMARY:ベトナムサンドウィッチ『PANTAPI』出店
DESCRIPTION:詳細はこちら⇩ \n  \nベトナムサンドウィッチ&タピオカミルクティー　☆PANTAPI☆
URL:https://www.e-beans.jp/eventcalendar/tribe_events-13214/
CATEGORIES:フード
END:VEVENT
BEGIN:VEVENT
DTSTART;VALUE=DATE:20240726
DTEND;VALUE=DATE:20240727
DTSTAMP:20260425T012710
CREATED:20240626T070747Z
LAST-MODIFIED:20240711T050157Z
UID:13223-1721952000-1722038399@www.e-beans.jp
SUMMARY:たまごサンド専門店『縁と縁』出店
DESCRIPTION:詳細はこちら⇩ \nキッチンカー たまごサンド専門店『縁と縁』
URL:https://www.e-beans.jp/eventcalendar/tribe_events-13223/
CATEGORIES:フード
END:VEVENT
BEGIN:VEVENT
DTSTART;VALUE=DATE:20240727
DTEND;VALUE=DATE:20240728
DTSTAMP:20260425T012710
CREATED:20240727T061036Z
LAST-MODIFIED:20240727T061036Z
UID:13601-1722038400-1722124799@www.e-beans.jp
SUMMARY:LILIA Splash!! Fes vol.9　開催決定！
DESCRIPTION:詳しくはこちら⇩ \nLILIA Splash!! Fes vol.9　開催決定！
URL:https://www.e-beans.jp/eventcalendar/tribe_events-13601/
CATEGORIES:ライブ
END:VEVENT
BEGIN:VEVENT
DTSTART;VALUE=DATE:20240727
DTEND;VALUE=DATE:20240819
DTSTAMP:20260425T012710
CREATED:20240317T063754Z
LAST-MODIFIED:20240317T063754Z
UID:12228-1722038400-1724025599@www.e-beans.jp
SUMMARY:『オードリーのオールナイトニッポン15周年展』開催決定!!
DESCRIPTION:詳細はこちら⇩ \nhttps://www.e-beans.jp/event/event-11463/
URL:https://www.e-beans.jp/eventcalendar/tribe_events-12228/
CATEGORIES:展示
END:VEVENT
BEGIN:VEVENT
DTSTART;VALUE=DATE:20240728
DTEND;VALUE=DATE:20240729
DTSTAMP:20260425T012710
CREATED:20240414T071422Z
LAST-MODIFIED:20240414T071422Z
UID:12492-1722124800-1722211199@www.e-beans.jp
SUMMARY:豆柴の大群都内某所 a.k.a. MONSTERIDOL 1st Single「わんダーらんど」発売記念【ミニライブ＆チェキ撮影会】
DESCRIPTION:詳しくはこちらから⇩ \n豆柴の大群都内某所 a.k.a. MONSTERIDOL 1st Single「わんダーらんど」発売記念【ミニライブ＆チェキ撮影会】 at 仙台駅前E BeanS 10階 屋上特設ステージ 開催決定！
URL:https://www.e-beans.jp/eventcalendar/tribe_events-12492/
CATEGORIES:ライブ
END:VEVENT
BEGIN:VEVENT
DTSTART;VALUE=DATE:20240728
DTEND;VALUE=DATE:20240729
DTSTAMP:20260425T012710
CREATED:20240626T071503Z
LAST-MODIFIED:20240626T071503Z
UID:13216-1722124800-1722211199@www.e-beans.jp
SUMMARY:ベトナムサンドウィッチ『PANTAPI』出店
DESCRIPTION:詳細はこちら⇩ \nベトナムサンドウィッチ&タピオカミルクティー　☆PANTAPI☆
URL:https://www.e-beans.jp/eventcalendar/tribe_events-13216/
CATEGORIES:フード
END:VEVENT
BEGIN:VEVENT
DTSTART;VALUE=DATE:20240729
DTEND;VALUE=DATE:20240730
DTSTAMP:20260425T012710
CREATED:20240626T071524Z
LAST-MODIFIED:20240626T071524Z
UID:13229-1722211200-1722297599@www.e-beans.jp
SUMMARY:『石焼き芋ぽてにゃん』出店
DESCRIPTION:詳細はこちら⇩ \nキッチンカー  【石焼き芋ぽてにゃん】出店！
URL:https://www.e-beans.jp/eventcalendar/tribe_events-13229/
CATEGORIES:フード
END:VEVENT
BEGIN:VEVENT
DTSTART;VALUE=DATE:20240729
DTEND;VALUE=DATE:20240731
DTSTAMP:20260425T012710
CREATED:20240708T091744Z
LAST-MODIFIED:20240708T092708Z
UID:13299-1722211200-1722383999@www.e-beans.jp
SUMMARY:『ばあばのおにぎり屋』出店！
DESCRIPTION:詳細はこちら⇩ \nキッチンカー『ばあばのおにぎり屋』
URL:https://www.e-beans.jp/eventcalendar/tribe_events-13299/
CATEGORIES:フード
END:VEVENT
BEGIN:VEVENT
DTSTART;VALUE=DATE:20240730
DTEND;VALUE=DATE:20240731
DTSTAMP:20260425T012710
CREATED:20240626T071539Z
LAST-MODIFIED:20240626T071539Z
UID:13218-1722297600-1722383999@www.e-beans.jp
SUMMARY:ベトナムサンドウィッチ『PANTAPI』出店
DESCRIPTION:詳細はこちら⇩ \nベトナムサンドウィッチ&タピオカミルクティー　☆PANTAPI☆
URL:https://www.e-beans.jp/eventcalendar/tribe_events-13218/
CATEGORIES:フード
END:VEVENT
BEGIN:VEVENT
DTSTART;VALUE=DATE:20240731
DTEND;VALUE=DATE:20240801
DTSTAMP:20260425T012710
CREATED:20240626T071601Z
LAST-MODIFIED:20240626T071601Z
UID:13196-1722384000-1722470399@www.e-beans.jp
SUMMARY:『カフェシュガーロード』出店
DESCRIPTION:詳細はこちら⇩ \nクレープキッチンカー『カフェ シュガーロード』
URL:https://www.e-beans.jp/eventcalendar/tribe_events-13196/
CATEGORIES:フード
END:VEVENT
BEGIN:VEVENT
DTSTART;VALUE=DATE:20240801
DTEND;VALUE=DATE:20240802
DTSTAMP:20260425T012710
CREATED:20240731T092939Z
LAST-MODIFIED:20240731T092939Z
UID:13614-1722470400-1722556799@www.e-beans.jp
SUMMARY:ベトナムサンドウィッチ『PANTAPI』出店
DESCRIPTION:詳細はこちら⇩ \nベトナムサンドウィッチ&タピオカミルクティー　☆PANTAPI☆ \n \n 
URL:https://www.e-beans.jp/eventcalendar/tribe_events-13614/
CATEGORIES:フード
END:VEVENT
BEGIN:VEVENT
DTSTART;VALUE=DATE:20240803
DTEND;VALUE=DATE:20240804
DTSTAMP:20260425T012710
CREATED:20240727T061003Z
LAST-MODIFIED:20240727T061003Z
UID:13599-1722643200-1722729599@www.e-beans.jp
SUMMARY:LILIA.Fes～野外大作戦vol.10～　開催決定！
DESCRIPTION:詳しくはこちら⇩ \nLILIA.Fes～野外大作戦vol.10～　開催決定！
URL:https://www.e-beans.jp/eventcalendar/tribe_events-13599/
CATEGORIES:ライブ
END:VEVENT
BEGIN:VEVENT
DTSTART;VALUE=DATE:20240805
DTEND;VALUE=DATE:20240806
DTSTAMP:20260425T012710
CREATED:20240727T061107Z
LAST-MODIFIED:20240727T061107Z
UID:13603-1722816000-1722902399@www.e-beans.jp
SUMMARY:Blissful moment × EBeanS SOUR&BEER GARDEN　開催決定！
DESCRIPTION:詳しくはこちら⇩ \n浴衣＆甚兵衛で楽しもう♪Blissful moment × EBeanS SOUR&BEER GARDEN　開催決定！
URL:https://www.e-beans.jp/eventcalendar/tribe_events-13603/
CATEGORIES:ライブ
END:VEVENT
BEGIN:VEVENT
DTSTART;VALUE=DATE:20240806
DTEND;VALUE=DATE:20240809
DTSTAMP:20260425T012710
CREATED:20240727T060919Z
LAST-MODIFIED:20240727T060919Z
UID:13597-1722902400-1723161599@www.e-beans.jp
SUMMARY:仙台七夕ビアガーデン開催！！
DESCRIPTION:詳しくはこちら⇩ \n仙台七夕ビアガーデン開催！！
URL:https://www.e-beans.jp/eventcalendar/tribe_events-13597/
CATEGORIES:フード
END:VEVENT
BEGIN:VEVENT
DTSTART;VALUE=DATE:20240810
DTEND;VALUE=DATE:20240812
DTSTAMP:20260425T012710
CREATED:20240731T093038Z
LAST-MODIFIED:20240801T080145Z
UID:13617-1723248000-1723420799@www.e-beans.jp
SUMMARY:ベトナムサンドウィッチ『PANTAPI』出店
DESCRIPTION:詳細はこちら⇩ \nベトナムサンドウィッチ&タピオカミルクティー　☆PANTAPI☆
URL:https://www.e-beans.jp/eventcalendar/tribe_events-13617/
CATEGORIES:フード
END:VEVENT
BEGIN:VEVENT
DTSTART;VALUE=DATE:20240810
DTEND;VALUE=DATE:20240812
DTSTAMP:20260425T012710
CREATED:20240727T060826Z
LAST-MODIFIED:20240727T060826Z
UID:13595-1723248000-1723420799@www.e-beans.jp
SUMMARY:HANDMADELINK 星海旅行展開催！！
DESCRIPTION:詳しくはこちら⇩ \nHANDMADELINK 星海旅行展開催！！
URL:https://www.e-beans.jp/eventcalendar/tribe_events-13595/
CATEGORIES:販売
END:VEVENT
BEGIN:VEVENT
DTSTART;VALUE=DATE:20240813
DTEND;VALUE=DATE:20240814
DTSTAMP:20260425T012710
CREATED:20240803T062452Z
LAST-MODIFIED:20240803T062452Z
UID:13692-1723507200-1723593599@www.e-beans.jp
SUMMARY:ベトナムサンドウィッチ『PANTAPI』出店
DESCRIPTION:詳細はこちら⇩ \nベトナムサンドウィッチ&タピオカミルクティー　☆PANTAPI☆
URL:https://www.e-beans.jp/eventcalendar/tribe_events-13692/
CATEGORIES:フード
END:VEVENT
BEGIN:VEVENT
DTSTART;VALUE=DATE:20240815
DTEND;VALUE=DATE:20240816
DTSTAMP:20260425T012710
CREATED:20240803T063322Z
LAST-MODIFIED:20240803T063322Z
UID:13697-1723680000-1723766399@www.e-beans.jp
SUMMARY:ベトナムサンドウィッチ『PANTAPI』出店
DESCRIPTION:詳細はこちら⇩ \nベトナムサンドウィッチ&タピオカミルクティー　☆PANTAPI☆
URL:https://www.e-beans.jp/eventcalendar/tribe_events-13697/
CATEGORIES:フード
END:VEVENT
BEGIN:VEVENT
DTSTART;VALUE=DATE:20240817
DTEND;VALUE=DATE:20240818
DTSTAMP:20260425T012710
CREATED:20240608T075541Z
LAST-MODIFIED:20240816T035155Z
UID:13085-1723852800-1723939199@www.e-beans.jp
SUMMARY:『Cool-X』インストアLIVE
DESCRIPTION:詳しくはこちらから⇩ \n『Cool-X』インストアLIVE　開催決定！
URL:https://www.e-beans.jp/eventcalendar/tribe_events-13085/
CATEGORIES:ライブ
END:VEVENT
BEGIN:VEVENT
DTSTART;VALUE=DATE:20240818
DTEND;VALUE=DATE:20240819
DTSTAMP:20260425T012710
CREATED:20240802T030454Z
LAST-MODIFIED:20240802T030454Z
UID:13679-1723939200-1724025599@www.e-beans.jp
SUMMARY:【カンミンス】アルバム『蜃気楼』ミニライブ＆特典会　開催決定！
DESCRIPTION:詳しくはこちら⇩ \n【カンミンス】アルバム『蜃気楼』ミニライブ＆特典会　開催決定！
URL:https://www.e-beans.jp/eventcalendar/tribe_events-13679/
CATEGORIES:ライブ
END:VEVENT
BEGIN:VEVENT
DTSTART;VALUE=DATE:20240818
DTEND;VALUE=DATE:20240819
DTSTAMP:20260425T012710
CREATED:20240803T062923Z
LAST-MODIFIED:20240803T062923Z
UID:13695-1723939200-1724025599@www.e-beans.jp
SUMMARY:ベトナムサンドウィッチ『PANTAPI』出店
DESCRIPTION:詳細はこちら⇩ \nベトナムサンドウィッチ&タピオカミルクティー　☆PANTAPI☆
URL:https://www.e-beans.jp/eventcalendar/tribe_events-13695/
CATEGORIES:フード
END:VEVENT
BEGIN:VEVENT
DTSTART;VALUE=DATE:20240820
DTEND;VALUE=DATE:20240821
DTSTAMP:20260425T012710
CREATED:20240803T063522Z
LAST-MODIFIED:20240803T063522Z
UID:13701-1724112000-1724198399@www.e-beans.jp
SUMMARY:ベトナムサンドウィッチ『PANTAPI』出店
DESCRIPTION:詳細はこちら⇩ \nベトナムサンドウィッチ&タピオカミルクティー　☆PANTAPI☆
URL:https://www.e-beans.jp/eventcalendar/tribe_events-13701/
CATEGORIES:フード
END:VEVENT
BEGIN:VEVENT
DTSTART;VALUE=DATE:20240822
DTEND;VALUE=DATE:20240823
DTSTAMP:20260425T012710
CREATED:20240731T093054Z
LAST-MODIFIED:20240731T093054Z
UID:13611-1724284800-1724371199@www.e-beans.jp
SUMMARY:『カフェシュガーロード』出店
DESCRIPTION:詳細はこちら⇩ \nクレープキッチンカー『カフェ シュガーロード』
URL:https://www.e-beans.jp/eventcalendar/tribe_events-13611/
CATEGORIES:フード
END:VEVENT
BEGIN:VEVENT
DTSTART;VALUE=DATE:20240822
DTEND;VALUE=DATE:20240823
DTSTAMP:20260425T012710
CREATED:20240803T063612Z
LAST-MODIFIED:20240803T063612Z
UID:13703-1724284800-1724371199@www.e-beans.jp
SUMMARY:ベトナムサンドウィッチ『PANTAPI』出店
DESCRIPTION:詳細はこちら⇩ \nベトナムサンドウィッチ&タピオカミルクティー　☆PANTAPI☆
URL:https://www.e-beans.jp/eventcalendar/tribe_events-13703/
CATEGORIES:フード
END:VEVENT
BEGIN:VEVENT
DTSTART;VALUE=DATE:20240824
DTEND;VALUE=DATE:20240825
DTSTAMP:20260425T012710
CREATED:20240727T061313Z
LAST-MODIFIED:20240727T061313Z
UID:13607-1724457600-1724543999@www.e-beans.jp
SUMMARY:イービンコスイベ　開催決定！
DESCRIPTION:詳しくはこちら⇩ \nイービンコスイベ　開催決定！
URL:https://www.e-beans.jp/eventcalendar/tribe_events-13607/
CATEGORIES:その他
END:VEVENT
BEGIN:VEVENT
DTSTART;VALUE=DATE:20240825
DTEND;VALUE=DATE:20240826
DTSTAMP:20260425T012710
CREATED:20240728T063531Z
LAST-MODIFIED:20240728T063531Z
UID:13628-1724544000-1724630399@www.e-beans.jp
SUMMARY:ICEx メジャー1stアルバム「Retro Toy Pop」リリースイベント「21アイス〜バナナチョコ〜」
DESCRIPTION:詳しくはこちら⇩ \nICEx メジャー1stアルバム「Retro Toy Pop」リリースイベント「21アイス〜バナナチョコ〜」
URL:https://www.e-beans.jp/eventcalendar/tribe_events-13628/
CATEGORIES:ライブ
END:VEVENT
END:VCALENDAR