BEGIN:VCALENDAR
VERSION:2.0
PRODID:-//仙台駅前イービーンズ - ECPv6.15.20//NONSGML v1.0//EN
CALSCALE:GREGORIAN
METHOD:PUBLISH
X-WR-CALNAME:仙台駅前イービーンズ
X-ORIGINAL-URL:https://www.e-beans.jp
X-WR-CALDESC:仙台駅前イービーンズ のイベント
REFRESH-INTERVAL;VALUE=DURATION:PT1H
X-Robots-Tag:noindex
X-PUBLISHED-TTL:PT1H
BEGIN:VTIMEZONE
TZID:Asia/Tokyo
BEGIN:STANDARD
TZOFFSETFROM:+0900
TZOFFSETTO:+0900
TZNAME:JST
DTSTART:20240101T000000
END:STANDARD
END:VTIMEZONE
BEGIN:VEVENT
DTSTART;VALUE=DATE:20250110
DTEND;VALUE=DATE:20250130
DTSTAMP:20260425T013553
CREATED:20250106T090625Z
LAST-MODIFIED:20250106T090737Z
UID:15259-1736467200-1738195199@www.e-beans.jp
SUMMARY:『古本まつり』開催！
DESCRIPTION:詳しくはこちら⇩ \nhttps://www.e-beans.jp/event/event-14922/
URL:https://www.e-beans.jp/eventcalendar/tribe_events-15259/
CATEGORIES:販売
END:VEVENT
BEGIN:VEVENT
DTSTART;VALUE=DATE:20250110
DTEND;VALUE=DATE:20250130
DTSTAMP:20260425T013553
CREATED:20250106T090719Z
LAST-MODIFIED:20250106T090719Z
UID:15261-1736467200-1738195199@www.e-beans.jp
SUMMARY:全国からレコード・CDが集合！「イービーンズ大レコードCD市」開催！
DESCRIPTION:詳しくはこちら⇩ \nhttps://www.e-beans.jp/event/event-14913/
URL:https://www.e-beans.jp/eventcalendar/tribe_events-15261/
CATEGORIES:販売
END:VEVENT
BEGIN:VEVENT
DTSTART;VALUE=DATE:20250117
DTEND;VALUE=DATE:20250331
DTSTAMP:20260425T013553
CREATED:20250106T045826Z
LAST-MODIFIED:20250106T045826Z
UID:15255-1737072000-1743379199@www.e-beans.jp
SUMMARY:ファンタジー武器屋 TAKUMI ARMORY 開催！
DESCRIPTION:詳しくはこちら⇩ \nhttps://www.e-beans.jp/event/event-15158/
URL:https://www.e-beans.jp/eventcalendar/tribe_events-15255/
CATEGORIES:販売
END:VEVENT
BEGIN:VEVENT
DTSTART;VALUE=DATE:20250123
DTEND;VALUE=DATE:20250124
DTSTAMP:20260425T013553
CREATED:20250107T045539Z
LAST-MODIFIED:20250107T045539Z
UID:15286-1737590400-1737676799@www.e-beans.jp
SUMMARY:ベトナムサンドウィッチキッチンカー『PANTAPI』
DESCRIPTION:詳細はこちら⇩ \nベトナムサンドウィッチ&タピオカミルクティー　☆PANTAPI☆
URL:https://www.e-beans.jp/eventcalendar/tribe_events-15286/
CATEGORIES:フード
END:VEVENT
BEGIN:VEVENT
DTSTART;VALUE=DATE:20250124
DTEND;VALUE=DATE:20250125
DTSTAMP:20260425T013553
CREATED:20250107T050916Z
LAST-MODIFIED:20250122T062636Z
UID:15297-1737676800-1737763199@www.e-beans.jp
SUMMARY:さつまいもスイーツキッチンカー『ワンTOM』
DESCRIPTION:詳細はこちら⇩ \nさつまいものスイーツを販売!!「おいも&いちご　ワンTOM」出店
URL:https://www.e-beans.jp/eventcalendar/tribe_events-15297/
CATEGORIES:フード
END:VEVENT
BEGIN:VEVENT
DTSTART;VALUE=DATE:20250126
DTEND;VALUE=DATE:20250127
DTSTAMP:20260425T013553
CREATED:20241228T042033Z
LAST-MODIFIED:20241228T042033Z
UID:15193-1737849600-1737935999@www.e-beans.jp
SUMMARY:ICEx 5thシングル「理想郷」リリースイベント
DESCRIPTION:詳しくは⇩ \nICEx 5thシングル「理想郷」リリースイベント
URL:https://www.e-beans.jp/eventcalendar/tribe_events-15193/
CATEGORIES:ライブ
END:VEVENT
BEGIN:VEVENT
DTSTART;VALUE=DATE:20250126
DTEND;VALUE=DATE:20250127
DTSTAMP:20260425T013553
CREATED:20250107T045615Z
LAST-MODIFIED:20250107T045615Z
UID:15288-1737849600-1737935999@www.e-beans.jp
SUMMARY:ベトナムサンドウィッチキッチンカー『PANTAPI』
DESCRIPTION:詳細はこちら⇩ \nベトナムサンドウィッチ&タピオカミルクティー　☆PANTAPI☆
URL:https://www.e-beans.jp/eventcalendar/tribe_events-15288/
CATEGORIES:フード
END:VEVENT
BEGIN:VEVENT
DTSTART;VALUE=DATE:20250129
DTEND;VALUE=DATE:20250130
DTSTAMP:20260425T013553
CREATED:20241218T093046Z
LAST-MODIFIED:20241218T093046Z
UID:15046-1738108800-1738195199@www.e-beans.jp
SUMMARY:『カフェシュガーロード』出店
DESCRIPTION:詳細はこちら⇩ \nクレープキッチンカー『カフェ シュガーロード』
URL:https://www.e-beans.jp/eventcalendar/tribe_events-15046/
CATEGORIES:フード
END:VEVENT
BEGIN:VEVENT
DTSTART;VALUE=DATE:20250130
DTEND;VALUE=DATE:20250131
DTSTAMP:20260425T013553
CREATED:20250107T045657Z
LAST-MODIFIED:20250107T045657Z
UID:15290-1738195200-1738281599@www.e-beans.jp
SUMMARY:ベトナムサンドウィッチキッチンカー『PANTAPI』
DESCRIPTION:詳細はこちら⇩ \nベトナムサンドウィッチ&タピオカミルクティー　☆PANTAPI☆
URL:https://www.e-beans.jp/eventcalendar/tribe_events-15290/
CATEGORIES:フード
END:VEVENT
BEGIN:VEVENT
DTSTART;VALUE=DATE:20250131
DTEND;VALUE=DATE:20250201
DTSTAMP:20260425T013553
CREATED:20250107T050722Z
LAST-MODIFIED:20250107T050722Z
UID:15295-1738281600-1738367999@www.e-beans.jp
SUMMARY:キッチンカー『石焼き芋ぽてにゃん』
DESCRIPTION:詳細はこちら⇩ \nキッチンカー  【石焼き芋ぽてにゃん】出店！
URL:https://www.e-beans.jp/eventcalendar/tribe_events-15295/
CATEGORIES:フード
END:VEVENT
BEGIN:VEVENT
DTSTART;VALUE=DATE:20250131
DTEND;VALUE=DATE:20250217
DTSTAMP:20260425T013553
CREATED:20250106T090815Z
LAST-MODIFIED:20250106T090815Z
UID:15263-1738281600-1739750399@www.e-beans.jp
SUMMARY:全国からレコード・CDが集合！「イービーンズ大レコードCD市」開催中！
DESCRIPTION:詳しくはこちら⇩ \nhttps://www.e-beans.jp/event/event-14913/
URL:https://www.e-beans.jp/eventcalendar/tribe_events-15263/
CATEGORIES:販売
END:VEVENT
BEGIN:VEVENT
DTSTART;VALUE=DATE:20250131
DTEND;VALUE=DATE:20250217
DTSTAMP:20260425T013553
CREATED:20250106T090855Z
LAST-MODIFIED:20250106T090855Z
UID:15265-1738281600-1739750399@www.e-beans.jp
SUMMARY:『古本まつり』開催中！
DESCRIPTION:詳しくはこちら⇩ \nhttps://www.e-beans.jp/event/event-14922/
URL:https://www.e-beans.jp/eventcalendar/tribe_events-15265/
CATEGORIES:販売
END:VEVENT
BEGIN:VEVENT
DTSTART;VALUE=DATE:20250201
DTEND;VALUE=DATE:20250202
DTSTAMP:20260425T013553
CREATED:20241125T065751Z
LAST-MODIFIED:20241125T065751Z
UID:14675-1738368000-1738454399@www.e-beans.jp
SUMMARY:【THE ORCHESTRA TOKYO】アルバム『GRAND SHIP』ミニライブ＆特典会　開催決定！
DESCRIPTION:詳しくはこちら⇩ \n【THE ORCHESTRA TOKYO】アルバム『GRAND SHIP』ミニライブ＆特典会　開催決定！
URL:https://www.e-beans.jp/eventcalendar/tribe_events-14675/
CATEGORIES:ライブ
END:VEVENT
BEGIN:VEVENT
DTSTART;VALUE=DATE:20250202
DTEND;VALUE=DATE:20250203
DTSTAMP:20260425T013553
CREATED:20250130T015858Z
LAST-MODIFIED:20250130T015858Z
UID:15451-1738454400-1738540799@www.e-beans.jp
SUMMARY:キッチンカー『PANTAPI』
DESCRIPTION:詳細はこちら⇩ \nベトナムサンドウィッチ&タピオカミルクティー　☆PANTAPI☆
URL:https://www.e-beans.jp/eventcalendar/tribe_events-15451/
CATEGORIES:フード
END:VEVENT
BEGIN:VEVENT
DTSTART;VALUE=DATE:20250204
DTEND;VALUE=DATE:20250205
DTSTAMP:20260425T013553
CREATED:20250130T015832Z
LAST-MODIFIED:20250130T015832Z
UID:15473-1738627200-1738713599@www.e-beans.jp
SUMMARY:キッチンカー『石焼き芋ぽてにゃん』
DESCRIPTION:詳細はこちら⇩ \nキッチンカー  【石焼き芋ぽてにゃん】出店！
URL:https://www.e-beans.jp/eventcalendar/tribe_events-15473/
CATEGORIES:フード
END:VEVENT
BEGIN:VEVENT
DTSTART;VALUE=DATE:20250204
DTEND;VALUE=DATE:20250205
DTSTAMP:20260425T013553
CREATED:20250130T015846Z
LAST-MODIFIED:20250130T015846Z
UID:15453-1738627200-1738713599@www.e-beans.jp
SUMMARY:キッチンカー『PANTAPI』
DESCRIPTION:詳細はこちら⇩ \nベトナムサンドウィッチ&タピオカミルクティー　☆PANTAPI☆
URL:https://www.e-beans.jp/eventcalendar/tribe_events-15453/
CATEGORIES:フード
END:VEVENT
BEGIN:VEVENT
DTSTART;VALUE=DATE:20250208
DTEND;VALUE=DATE:20250209
DTSTAMP:20260425T013553
CREATED:20250128T105632Z
LAST-MODIFIED:20250128T105632Z
UID:15513-1738972800-1739059199@www.e-beans.jp
SUMMARY:【けっぱって東北】定期公演-バレンタインスペシャル-Supported by せんだい堂　開催！
DESCRIPTION:詳細はこちら⇩ \n【けっぱって東北】定期公演-バレンタインスペシャル-Supported by せんだい堂　開催決定！
URL:https://www.e-beans.jp/eventcalendar/tribe_events-15513/
CATEGORIES:ライブ
END:VEVENT
BEGIN:VEVENT
DTSTART;VALUE=DATE:20250209
DTEND;VALUE=DATE:20250210
DTSTAMP:20260425T013553
CREATED:20250130T015759Z
LAST-MODIFIED:20250130T015759Z
UID:15457-1739059200-1739145599@www.e-beans.jp
SUMMARY:キッチンカー『PANTAPI』
DESCRIPTION:詳細はこちら⇩ \nベトナムサンドウィッチ&タピオカミルクティー　☆PANTAPI☆
URL:https://www.e-beans.jp/eventcalendar/tribe_events-15457/
CATEGORIES:フード
END:VEVENT
BEGIN:VEVENT
DTSTART;VALUE=DATE:20250211
DTEND;VALUE=DATE:20250212
DTSTAMP:20260425T013553
CREATED:20250130T015746Z
LAST-MODIFIED:20250130T015746Z
UID:15459-1739232000-1739318399@www.e-beans.jp
SUMMARY:キッチンカー『PANTAPI』
DESCRIPTION:詳細はこちら⇩ \nベトナムサンドウィッチ&タピオカミルクティー　☆PANTAPI☆
URL:https://www.e-beans.jp/eventcalendar/tribe_events-15459/
CATEGORIES:フード
END:VEVENT
BEGIN:VEVENT
DTSTART;VALUE=DATE:20250211
DTEND;VALUE=DATE:20250213
DTSTAMP:20260425T013553
CREATED:20250130T014853Z
LAST-MODIFIED:20250130T014853Z
UID:15441-1739232000-1739404799@www.e-beans.jp
SUMMARY:キッチンカー『SUGAR MONSTER』
DESCRIPTION:詳細はこちら⇩ \nキッチンカー『SUGAR MONSTER』出店！ \n \n 
URL:https://www.e-beans.jp/eventcalendar/tribe_events-15441/
CATEGORIES:フード
END:VEVENT
BEGIN:VEVENT
DTSTART;VALUE=DATE:20250213
DTEND;VALUE=DATE:20250214
DTSTAMP:20260425T013553
CREATED:20250130T015731Z
LAST-MODIFIED:20250130T015731Z
UID:15461-1739404800-1739491199@www.e-beans.jp
SUMMARY:キッチンカー『PANTAPI』
DESCRIPTION:詳細はこちら⇩ \nベトナムサンドウィッチ&タピオカミルクティー　☆PANTAPI☆
URL:https://www.e-beans.jp/eventcalendar/tribe_events-15461/
CATEGORIES:フード
END:VEVENT
BEGIN:VEVENT
DTSTART;VALUE=DATE:20250215
DTEND;VALUE=DATE:20250216
DTSTAMP:20260425T013553
CREATED:20250106T035202Z
LAST-MODIFIED:20250106T035202Z
UID:15253-1739577600-1739663999@www.e-beans.jp
SUMMARY:中島卓偉ニューアルバム「JAGUAR」発売記念イベント　開催！
DESCRIPTION:詳しくはこちら⇩ \n中島卓偉ニューアルバム「JAGUAR」発売記念イベント　開催決定！
URL:https://www.e-beans.jp/eventcalendar/tribe_events-15253/
CATEGORIES:ライブ
END:VEVENT
BEGIN:VEVENT
DTSTART;VALUE=DATE:20250216
DTEND;VALUE=DATE:20250217
DTSTAMP:20260425T013553
CREATED:20250130T015656Z
LAST-MODIFIED:20250130T015656Z
UID:15475-1739664000-1739750399@www.e-beans.jp
SUMMARY:キッチンカー『石焼き芋ぽてにゃん』
DESCRIPTION:詳細はこちら⇩ \nキッチンカー  【石焼き芋ぽてにゃん】出店！
URL:https://www.e-beans.jp/eventcalendar/tribe_events-15475/
CATEGORIES:フード
END:VEVENT
BEGIN:VEVENT
DTSTART;VALUE=DATE:20250216
DTEND;VALUE=DATE:20250217
DTSTAMP:20260425T013553
CREATED:20250130T015716Z
LAST-MODIFIED:20250130T015716Z
UID:15463-1739664000-1739750399@www.e-beans.jp
SUMMARY:キッチンカー『PANTAPI』
DESCRIPTION:詳細はこちら⇩ \nベトナムサンドウィッチ&タピオカミルクティー　☆PANTAPI☆
URL:https://www.e-beans.jp/eventcalendar/tribe_events-15463/
CATEGORIES:フード
END:VEVENT
BEGIN:VEVENT
DTSTART;VALUE=DATE:20250216
DTEND;VALUE=DATE:20250217
DTSTAMP:20260425T013553
CREATED:20250210T052605Z
LAST-MODIFIED:20250210T052605Z
UID:15592-1739664000-1739750399@www.e-beans.jp
SUMMARY:LILIA.Fes～野外大作戦vol.19～
DESCRIPTION:詳細はこちら⇩ \nLILIA.Fes～野外大作戦vol.19～　開催決定！
URL:https://www.e-beans.jp/eventcalendar/tribe_events-15592/
CATEGORIES:ライブ
END:VEVENT
BEGIN:VEVENT
DTSTART;VALUE=DATE:20250220
DTEND;VALUE=DATE:20250221
DTSTAMP:20260425T013553
CREATED:20250130T014929Z
LAST-MODIFIED:20250130T014929Z
UID:15443-1740009600-1740095999@www.e-beans.jp
SUMMARY:キッチンカー『SUGAR MONSTER』
DESCRIPTION:詳細はこちら⇩ \nキッチンカー『SUGAR MONSTER』出店！
URL:https://www.e-beans.jp/eventcalendar/tribe_events-15443/
CATEGORIES:フード
END:VEVENT
BEGIN:VEVENT
DTSTART;VALUE=DATE:20250220
DTEND;VALUE=DATE:20250221
DTSTAMP:20260425T013553
CREATED:20250130T015643Z
LAST-MODIFIED:20250130T015643Z
UID:15465-1740009600-1740095999@www.e-beans.jp
SUMMARY:キッチンカー『PANTAPI』
DESCRIPTION:詳細はこちら⇩ \nベトナムサンドウィッチ&タピオカミルクティー　☆PANTAPI☆
URL:https://www.e-beans.jp/eventcalendar/tribe_events-15465/
CATEGORIES:フード
END:VEVENT
BEGIN:VEVENT
DTSTART;VALUE=DATE:20250221
DTEND;VALUE=DATE:20250222
DTSTAMP:20260425T013553
CREATED:20241224T114401Z
LAST-MODIFIED:20241224T114401Z
UID:15135-1740096000-1740182399@www.e-beans.jp
SUMMARY:【8F ゲーマーズ/カードラボ】同時リニューアルオープン！
DESCRIPTION:詳しくは⇩ \n【8F ゲーマーズ/カードラボ】2月21日スケールアップして同時リニューアルオープン！
URL:https://www.e-beans.jp/eventcalendar/tribe_events-15135/
CATEGORIES:販売
END:VEVENT
BEGIN:VEVENT
DTSTART;VALUE=DATE:20250223
DTEND;VALUE=DATE:20250224
DTSTAMP:20260425T013553
CREATED:20241228T040430Z
LAST-MODIFIED:20241228T040430Z
UID:15183-1740268800-1740355199@www.e-beans.jp
SUMMARY:【REIKO】1st EP「Debut」発売記念 リリースイベント
DESCRIPTION:詳しくは⇩ \n【REIKO】1st EP「Debut」発売記念 リリースイベント開催決定！
URL:https://www.e-beans.jp/eventcalendar/tribe_events-15183/
CATEGORIES:ライブ
END:VEVENT
BEGIN:VEVENT
DTSTART;VALUE=DATE:20250223
DTEND;VALUE=DATE:20250224
DTSTAMP:20260425T013553
CREATED:20250130T015631Z
LAST-MODIFIED:20250130T015631Z
UID:15479-1740268800-1740355199@www.e-beans.jp
SUMMARY:キッチンカー『PANTAPI』
DESCRIPTION:詳細はこちら⇩ \nベトナムサンドウィッチ&タピオカミルクティー　☆PANTAPI☆
URL:https://www.e-beans.jp/eventcalendar/tribe_events-15479/
CATEGORIES:フード
END:VEVENT
END:VCALENDAR