BEGIN:VCALENDAR
VERSION:2.0
PRODID:-//仙台駅前イービーンズ - ECPv6.15.20//NONSGML v1.0//EN
CALSCALE:GREGORIAN
METHOD:PUBLISH
X-ORIGINAL-URL:https://www.e-beans.jp
X-WR-CALDESC:仙台駅前イービーンズ のイベント
REFRESH-INTERVAL;VALUE=DURATION:PT1H
X-Robots-Tag:noindex
X-PUBLISHED-TTL:PT1H
BEGIN:VTIMEZONE
TZID:Asia/Tokyo
BEGIN:STANDARD
TZOFFSETFROM:+0900
TZOFFSETTO:+0900
TZNAME:JST
DTSTART:20230101T000000
END:STANDARD
END:VTIMEZONE
BEGIN:VEVENT
DTSTART;VALUE=DATE:20240913
DTEND;VALUE=DATE:20241021
DTSTAMP:20260424T222810
CREATED:20240902T101116Z
LAST-MODIFIED:20240902T101116Z
UID:13933-1726185600-1729468799@www.e-beans.jp
SUMMARY:古本まつり　開催！
DESCRIPTION:詳しくはこちら⇩ \n『古本まつり』開催決定！
URL:https://www.e-beans.jp/eventcalendar/tribe_events-13933/
CATEGORIES:販売
END:VEVENT
BEGIN:VEVENT
DTSTART;VALUE=DATE:20240913
DTEND;VALUE=DATE:20241021
DTSTAMP:20260424T222810
CREATED:20240902T101202Z
LAST-MODIFIED:20240902T101202Z
UID:13935-1726185600-1729468799@www.e-beans.jp
SUMMARY:「イービーンズ大レコードCD市」開催！
DESCRIPTION:詳しくはこちら⇩ \n全国からレコード・CDが集合!!「イービーンズ大レコードCD市」
URL:https://www.e-beans.jp/eventcalendar/tribe_events-13935/
CATEGORIES:販売
END:VEVENT
BEGIN:VEVENT
DTSTART;VALUE=DATE:20240928
DTEND;VALUE=DATE:20240929
DTSTAMP:20260424T222810
CREATED:20240909T045631Z
LAST-MODIFIED:20240909T045631Z
UID:14012-1727481600-1727567999@www.e-beans.jp
SUMMARY:【D.O.L M-card 「Boom! Pow! Sweet!」 発売記念イベント ミニライブ&特典会】開催！
DESCRIPTION:詳細はこちらから⇩ \n【D.O.L M-card 「Boom! Pow! Sweet!」 発売記念イベント ミニライブ&特典会】開催決定！
URL:https://www.e-beans.jp/eventcalendar/tribe_events-14012/
CATEGORIES:ライブ
END:VEVENT
BEGIN:VEVENT
DTSTART;VALUE=DATE:20240928
DTEND;VALUE=DATE:20240930
DTSTAMP:20260424T222810
CREATED:20240902T101027Z
LAST-MODIFIED:20240902T101027Z
UID:13931-1727481600-1727654399@www.e-beans.jp
SUMMARY:ゴシック＆ロリータ系ハンドメイド作品即売会　開催！
DESCRIPTION:詳しくはこちら⇩ \nゴシック＆ロリータ系ハンドメイド作品即売会　＃ゴスロリパーティー
URL:https://www.e-beans.jp/eventcalendar/tribe_events-13931/
CATEGORIES:販売
END:VEVENT
BEGIN:VEVENT
DTSTART;VALUE=DATE:20240929
DTEND;VALUE=DATE:20240930
DTSTAMP:20260424T222810
CREATED:20240829T065524Z
LAST-MODIFIED:20240829T065524Z
UID:13878-1727568000-1727654399@www.e-beans.jp
SUMMARY:ベトナムサンドウィッチ『PANTAPI』出店
DESCRIPTION:詳細はこちら⇩ \nベトナムサンドウィッチ&タピオカミルクティー　☆PANTAPI☆
URL:https://www.e-beans.jp/eventcalendar/tribe_events-13878/
CATEGORIES:フード
END:VEVENT
BEGIN:VEVENT
DTSTART;VALUE=DATE:20240929
DTEND;VALUE=DATE:20240930
DTSTAMP:20260424T222810
CREATED:20240911T062026Z
LAST-MODIFIED:20240911T062026Z
UID:14030-1727568000-1727654399@www.e-beans.jp
SUMMARY:『カナウスムージー』出店！
DESCRIPTION:詳細はこちら⇩ \nhttps://www.e-beans.jp/event/event-14014/
URL:https://www.e-beans.jp/eventcalendar/tribe_events-14030/
CATEGORIES:フード
END:VEVENT
BEGIN:VEVENT
DTSTART;VALUE=DATE:20241001
DTEND;VALUE=DATE:20241002
DTSTAMP:20260424T222810
CREATED:20240925T075802Z
LAST-MODIFIED:20240925T075802Z
UID:14198-1727740800-1727827199@www.e-beans.jp
SUMMARY:『石焼き芋ぽてにゃん』出店
DESCRIPTION:詳細はこちら⇩ \nキッチンカー  【石焼き芋ぽてにゃん】出店！
URL:https://www.e-beans.jp/eventcalendar/tribe_events-14198/
CATEGORIES:フード
END:VEVENT
BEGIN:VEVENT
DTSTART;VALUE=DATE:20241001
DTEND;VALUE=DATE:20241002
DTSTAMP:20260424T222810
CREATED:20240925T075833Z
LAST-MODIFIED:20240925T075833Z
UID:14176-1727740800-1727827199@www.e-beans.jp
SUMMARY:ベトナムサンドウィッチ『PANTAPI』出店
DESCRIPTION:詳細はこちら⇩ \nベトナムサンドウィッチ&タピオカミルクティー　☆PANTAPI☆
URL:https://www.e-beans.jp/eventcalendar/tribe_events-14176/
CATEGORIES:フード
END:VEVENT
BEGIN:VEVENT
DTSTART;VALUE=DATE:20241001
DTEND;VALUE=DATE:20241101
DTSTAMP:20260424T222810
CREATED:20240921T052137Z
LAST-MODIFIED:20240921T052137Z
UID:14173-1727740800-1730419199@www.e-beans.jp
SUMMARY:Stray Kids JAPAN SEASON’S GREETINGS 2025 MUSEUM　開催！
DESCRIPTION:詳しくはこちら⇩ \nStray Kids JAPAN SEASON’S GREETINGS 2025 MUSEUM　開催決定！
URL:https://www.e-beans.jp/eventcalendar/tribe_events-14173/
CATEGORIES:展示
END:VEVENT
BEGIN:VEVENT
DTSTART;VALUE=DATE:20241003
DTEND;VALUE=DATE:20241004
DTSTAMP:20260424T222810
CREATED:20240925T075848Z
LAST-MODIFIED:20240925T075848Z
UID:14178-1727913600-1727999999@www.e-beans.jp
SUMMARY:ベトナムサンドウィッチ『PANTAPI』出店
DESCRIPTION:詳細はこちら⇩ \nベトナムサンドウィッチ&タピオカミルクティー　☆PANTAPI☆
URL:https://www.e-beans.jp/eventcalendar/tribe_events-14178/
CATEGORIES:フード
END:VEVENT
BEGIN:VEVENT
DTSTART;VALUE=DATE:20241004
DTEND;VALUE=DATE:20241006
DTSTAMP:20260424T222810
CREATED:20240911T062111Z
LAST-MODIFIED:20240911T062111Z
UID:14035-1728000000-1728172799@www.e-beans.jp
SUMMARY:『カナウスムージー』出店！
DESCRIPTION:詳細はこちら⇩ \nhttps://www.e-beans.jp/event/event-14014/ \n 
URL:https://www.e-beans.jp/eventcalendar/tribe_events-14035/
CATEGORIES:フード
END:VEVENT
BEGIN:VEVENT
DTSTART;VALUE=DATE:20241004
DTEND;VALUE=DATE:20241008
DTSTAMP:20260424T222810
CREATED:20240921T045424Z
LAST-MODIFIED:20240921T045424Z
UID:14164-1728000000-1728345599@www.e-beans.jp
SUMMARY:RKSRICKY　催事出店決定！
DESCRIPTION:詳しくはこちら⇩ \nRKSRICKY　催事出店決定！
URL:https://www.e-beans.jp/eventcalendar/tribe_events-14164/
CATEGORIES:販売
END:VEVENT
BEGIN:VEVENT
DTSTART;VALUE=DATE:20241004
DTEND;VALUE=DATE:20241028
DTSTAMP:20260424T222810
CREATED:20240917T031707Z
LAST-MODIFIED:20240917T031707Z
UID:14135-1728000000-1730073599@www.e-beans.jp
SUMMARY:こぢんまり製作工房　開催！
DESCRIPTION:詳しくはこちら⇩ \n食品サンプル作品販売会「こぢんまり製作工房」開催決定！
URL:https://www.e-beans.jp/eventcalendar/tribe_events-14135/
CATEGORIES:販売
END:VEVENT
BEGIN:VEVENT
DTSTART;VALUE=DATE:20241005
DTEND;VALUE=DATE:20241006
DTSTAMP:20260424T222810
CREATED:20240902T100840Z
LAST-MODIFIED:20240902T100840Z
UID:13926-1728086400-1728172799@www.e-beans.jp
SUMMARY:KID PHENOMENON　4th Single リリース記念フリーイベント 『Purple CirKID Vol.3』 開催！
DESCRIPTION:詳しくはこちら⇩ \nKID PHENOMENON　4th Single リリース記念フリーイベント 『Purple CirKID Vol.3』  開催決定！
URL:https://www.e-beans.jp/eventcalendar/tribe_events-13926/
CATEGORIES:ライブ
END:VEVENT
BEGIN:VEVENT
DTSTART;VALUE=DATE:20241005
DTEND;VALUE=DATE:20241006
DTSTAMP:20260424T222810
CREATED:20240930T052759Z
LAST-MODIFIED:20240930T052759Z
UID:14273-1728086400-1728172799@www.e-beans.jp
SUMMARY:平野莉玖メジャー1stアルバム「Just The Way We Are」リリース記念　ミニライブ＆特典会開催！
DESCRIPTION:詳細はこちら⇩ \n平野莉玖メジャー1stアルバム「Just The Way We Are」リリース記念　ミニライブ＆特典会開催決定！ Presented by HMV 仙台 EBeanS店
URL:https://www.e-beans.jp/eventcalendar/tribe_events-14273/
CATEGORIES:ライブ
END:VEVENT
BEGIN:VEVENT
DTSTART;VALUE=DATE:20241006
DTEND;VALUE=DATE:20241007
DTSTAMP:20260424T222810
CREATED:20240922T052217Z
LAST-MODIFIED:20240922T052217Z
UID:14207-1728172800-1728259199@www.e-beans.jp
SUMMARY:ねこまつり開催！
DESCRIPTION:詳しくはこちら⇩ \nねこまつり　開催決定！
URL:https://www.e-beans.jp/eventcalendar/tribe_events-14207/
CATEGORIES:販売
END:VEVENT
BEGIN:VEVENT
DTSTART;VALUE=DATE:20241006
DTEND;VALUE=DATE:20241007
DTSTAMP:20260424T222810
CREATED:20240925T075905Z
LAST-MODIFIED:20240925T075905Z
UID:14180-1728172800-1728259199@www.e-beans.jp
SUMMARY:ベトナムサンドウィッチ『PANTAPI』出店
DESCRIPTION:詳細はこちら⇩ \nベトナムサンドウィッチ&タピオカミルクティー　☆PANTAPI☆
URL:https://www.e-beans.jp/eventcalendar/tribe_events-14180/
CATEGORIES:フード
END:VEVENT
BEGIN:VEVENT
DTSTART;VALUE=DATE:20241006
DTEND;VALUE=DATE:20241007
DTSTAMP:20260424T222810
CREATED:20240930T044857Z
LAST-MODIFIED:20240930T044857Z
UID:14268-1728172800-1728259199@www.e-beans.jp
SUMMARY:Sakurashimeji FREE LIVE TOUR 2024「明日を」開催！
DESCRIPTION:詳細はこちら⇩ \nSakurashimeji FREE LIVE TOUR 2024「明日を」開催決定！
URL:https://www.e-beans.jp/eventcalendar/tribe_events-14268/
CATEGORIES:ライブ
END:VEVENT
BEGIN:VEVENT
DTSTART;VALUE=DATE:20241008
DTEND;VALUE=DATE:20241009
DTSTAMP:20260424T222810
CREATED:20240925T075923Z
LAST-MODIFIED:20240925T075923Z
UID:14182-1728345600-1728431999@www.e-beans.jp
SUMMARY:ベトナムサンドウィッチ『PANTAPI』出店
DESCRIPTION:詳細はこちら⇩ \nベトナムサンドウィッチ&タピオカミルクティー　☆PANTAPI☆
URL:https://www.e-beans.jp/eventcalendar/tribe_events-14182/
CATEGORIES:フード
END:VEVENT
BEGIN:VEVENT
DTSTART;VALUE=DATE:20241010
DTEND;VALUE=DATE:20241011
DTSTAMP:20260424T222810
CREATED:20240925T075942Z
LAST-MODIFIED:20240925T075942Z
UID:14184-1728518400-1728604799@www.e-beans.jp
SUMMARY:ベトナムサンドウィッチ『PANTAPI』出店
DESCRIPTION:詳細はこちら⇩ \nベトナムサンドウィッチ&タピオカミルクティー　☆PANTAPI☆
URL:https://www.e-beans.jp/eventcalendar/tribe_events-14184/
CATEGORIES:フード
END:VEVENT
BEGIN:VEVENT
DTSTART;VALUE=DATE:20241013
DTEND;VALUE=DATE:20241014
DTSTAMP:20260424T222810
CREATED:20240925T075959Z
LAST-MODIFIED:20240925T075959Z
UID:14193-1728777600-1728863999@www.e-beans.jp
SUMMARY:ベトナムサンドウィッチ『PANTAPI』出店
DESCRIPTION:詳細はこちら⇩ \nベトナムサンドウィッチ&タピオカミルクティー　☆PANTAPI☆
URL:https://www.e-beans.jp/eventcalendar/tribe_events-14193/
CATEGORIES:フード
END:VEVENT
BEGIN:VEVENT
DTSTART;VALUE=DATE:20241013
DTEND;VALUE=DATE:20241014
DTSTAMP:20260424T222810
CREATED:20241005T031910Z
LAST-MODIFIED:20241005T031910Z
UID:14329-1728777600-1728863999@www.e-beans.jp
SUMMARY:世が世なら!!! 1st EP発売記念イベント
DESCRIPTION:詳しくはこちらから⇩ \n世が世なら!!! 1st EP発売記念イベント
URL:https://www.e-beans.jp/eventcalendar/tribe_events-14329/
CATEGORIES:ライブ
END:VEVENT
BEGIN:VEVENT
DTSTART;VALUE=DATE:20241014
DTEND;VALUE=DATE:20241015
DTSTAMP:20260424T222810
CREATED:20241012T072524Z
LAST-MODIFIED:20241012T072524Z
UID:14382-1728864000-1728950399@www.e-beans.jp
SUMMARY:LILIA.Fes～野外大作戦vol.15～　開催！
DESCRIPTION:詳細はこちら⇩ \nLILIA.Fes～野外大作戦vol.15～　開催決定！
URL:https://www.e-beans.jp/eventcalendar/tribe_events-14382/
CATEGORIES:ライブ
END:VEVENT
BEGIN:VEVENT
DTSTART;VALUE=DATE:20241015
DTEND;VALUE=DATE:20241016
DTSTAMP:20260424T222810
CREATED:20240925T080014Z
LAST-MODIFIED:20240925T080014Z
UID:14186-1728950400-1729036799@www.e-beans.jp
SUMMARY:ベトナムサンドウィッチ『PANTAPI』出店
DESCRIPTION:詳細はこちら⇩ \nベトナムサンドウィッチ&タピオカミルクティー　☆PANTAPI☆
URL:https://www.e-beans.jp/eventcalendar/tribe_events-14186/
CATEGORIES:フード
END:VEVENT
BEGIN:VEVENT
DTSTART;VALUE=DATE:20241017
DTEND;VALUE=DATE:20241018
DTSTAMP:20260424T222810
CREATED:20240925T080035Z
LAST-MODIFIED:20240925T080035Z
UID:14188-1729123200-1729209599@www.e-beans.jp
SUMMARY:ベトナムサンドウィッチ『PANTAPI』出店
DESCRIPTION:詳細はこちら⇩ \nベトナムサンドウィッチ&タピオカミルクティー　☆PANTAPI☆
URL:https://www.e-beans.jp/eventcalendar/tribe_events-14188/
CATEGORIES:フード
END:VEVENT
BEGIN:VEVENT
DTSTART;VALUE=DATE:20241017
DTEND;VALUE=DATE:20241118
DTSTAMP:20260424T222810
CREATED:20241019T095744Z
LAST-MODIFIED:20241019T095744Z
UID:14408-1729123200-1731887999@www.e-beans.jp
SUMMARY:「鬼太郎誕生 ゲゲゲの謎」× and GALLERY　collaboration cafe開催
DESCRIPTION:詳しくはこちら⇩ \n【4階 The Rooftop E Garden】映画「鬼太郎誕生 ゲゲゲの謎」× and GALLERY　collaboration cafe開催
URL:https://www.e-beans.jp/eventcalendar/tribe_events-14408/
CATEGORIES:フード
END:VEVENT
BEGIN:VEVENT
DTSTART;VALUE=DATE:20241020
DTEND;VALUE=DATE:20241021
DTSTAMP:20260424T222810
CREATED:20240925T080051Z
LAST-MODIFIED:20240925T080051Z
UID:14190-1729382400-1729468799@www.e-beans.jp
SUMMARY:ベトナムサンドウィッチ『PANTAPI』出店
DESCRIPTION:詳細はこちら⇩ \nベトナムサンドウィッチ&タピオカミルクティー　☆PANTAPI☆
URL:https://www.e-beans.jp/eventcalendar/tribe_events-14190/
CATEGORIES:フード
END:VEVENT
BEGIN:VEVENT
DTSTART;VALUE=DATE:20241020
DTEND;VALUE=DATE:20241021
DTSTAMP:20260424T222810
CREATED:20240930T044943Z
LAST-MODIFIED:20240930T044943Z
UID:14271-1729382400-1729468799@www.e-beans.jp
SUMMARY:【iScream】2nd EP発売記念リリースイベント開催！
DESCRIPTION:詳細はこちら⇩ \n【iScream】2nd EP発売記念リリースイベントの開催が決定！
URL:https://www.e-beans.jp/eventcalendar/tribe_events-14271/
CATEGORIES:ライブ
END:VEVENT
BEGIN:VEVENT
DTSTART;VALUE=DATE:20241022
DTEND;VALUE=DATE:20241023
DTSTAMP:20260424T222810
CREATED:20240925T080559Z
LAST-MODIFIED:20240925T080559Z
UID:14230-1729555200-1729641599@www.e-beans.jp
SUMMARY:ベトナムサンドウィッチ『PANTAPI』出店
DESCRIPTION:詳細はこちら⇩ \nベトナムサンドウィッチ&タピオカミルクティー　☆PANTAPI☆
URL:https://www.e-beans.jp/eventcalendar/tribe_events-14230/
CATEGORIES:フード
END:VEVENT
BEGIN:VEVENT
DTSTART;VALUE=DATE:20241024
DTEND;VALUE=DATE:20241025
DTSTAMP:20260424T222810
CREATED:20240925T080226Z
LAST-MODIFIED:20240925T080226Z
UID:14222-1729728000-1729814399@www.e-beans.jp
SUMMARY:ベトナムサンドウィッチ『PANTAPI』出店
DESCRIPTION:詳細はこちら⇩ \nベトナムサンドウィッチ&タピオカミルクティー　☆PANTAPI☆
URL:https://www.e-beans.jp/eventcalendar/tribe_events-14222/
CATEGORIES:フード
END:VEVENT
END:VCALENDAR