BEGIN:VCALENDAR
VERSION:2.0
PRODID:-//仙台駅前イービーンズ - ECPv6.15.20//NONSGML v1.0//EN
CALSCALE:GREGORIAN
METHOD:PUBLISH
X-ORIGINAL-URL:https://www.e-beans.jp
X-WR-CALDESC:仙台駅前イービーンズ のイベント
REFRESH-INTERVAL;VALUE=DURATION:PT1H
X-Robots-Tag:noindex
X-PUBLISHED-TTL:PT1H
BEGIN:VTIMEZONE
TZID:Asia/Tokyo
BEGIN:STANDARD
TZOFFSETFROM:+0900
TZOFFSETTO:+0900
TZNAME:JST
DTSTART:20240101T000000
END:STANDARD
END:VTIMEZONE
BEGIN:VEVENT
DTSTART;VALUE=DATE:20250925
DTEND;VALUE=DATE:20250926
DTSTAMP:20260425T125851
CREATED:20250807T051822Z
LAST-MODIFIED:20250908T013119Z
UID:17955-1758758400-1758844799@www.e-beans.jp
SUMMARY:キッチンカー『PANTAPI』
DESCRIPTION:詳細はこちら⇩ \nベトナムサンドウィッチ&タピオカミルクティー　☆PANTAPI☆
URL:https://www.e-beans.jp/eventcalendar/__trashed-3/
CATEGORIES:フード
END:VEVENT
BEGIN:VEVENT
DTSTART;VALUE=DATE:20250926
DTEND;VALUE=DATE:20250927
DTSTAMP:20260425T125851
CREATED:20250819T080711Z
LAST-MODIFIED:20250819T080711Z
UID:18247-1758844800-1758931199@www.e-beans.jp
SUMMARY:課題先進地からローカルの将来を考える東北最大級のビジネスカンファレンス【ATERUI2025】開催！
DESCRIPTION:詳細はこちら⇩ \n課題先進地からローカルの将来を考える東北最大級のビジネスカンファレンス【ATERUI2025】開催！
URL:https://www.e-beans.jp/eventcalendar/tribe_events-18247/
CATEGORIES:その他
END:VEVENT
BEGIN:VEVENT
DTSTART;VALUE=DATE:20250927
DTEND;VALUE=DATE:20250928
DTSTAMP:20260425T125851
CREATED:20250823T100739Z
LAST-MODIFIED:20250823T100739Z
UID:18311-1758931200-1759017599@www.e-beans.jp
SUMMARY:巫てんり 全国路上ライブダンデライオン　仙台公演 開催！
DESCRIPTION:詳細はこちら⇩ \n巫てんり 全国路上ライブダンデライオン　仙台公演 開催決定！
URL:https://www.e-beans.jp/eventcalendar/tribe_events-18311/
CATEGORIES:ライブ
END:VEVENT
BEGIN:VEVENT
DTSTART;VALUE=DATE:20250927
DTEND;VALUE=DATE:20250928
DTSTAMP:20260425T125851
CREATED:20250906T052911Z
LAST-MODIFIED:20250928T085545Z
UID:18508-1758931200-1759017599@www.e-beans.jp
SUMMARY:石焼き芋ぽてにゃん
DESCRIPTION:詳細はこちら⇩ \nキッチンカー  【石焼き芋ぽてにゃん】出店！
URL:https://www.e-beans.jp/eventcalendar/tribe_events-18508/
CATEGORIES:フード
END:VEVENT
BEGIN:VEVENT
DTSTART;VALUE=DATE:20250927
DTEND;VALUE=DATE:20250930
DTSTAMP:20260425T125851
CREATED:20250923T060855Z
LAST-MODIFIED:20250923T060855Z
UID:18770-1758931200-1759190399@www.e-beans.jp
SUMMARY:【TSURUOKA CLOTHING STORE】期間限定イベント開催決定！！
DESCRIPTION:詳細はこちら⇩ \n【TSURUOKA CLOTHING STORE】期間限定イベント開催決定！！
URL:https://www.e-beans.jp/eventcalendar/tribe_events-18770/
CATEGORIES:販売
END:VEVENT
BEGIN:VEVENT
DTSTART;VALUE=DATE:20250928
DTEND;VALUE=DATE:20250929
DTSTAMP:20260425T125851
CREATED:20250807T051830Z
LAST-MODIFIED:20250908T013133Z
UID:17963-1759017600-1759103999@www.e-beans.jp
SUMMARY:キッチンカー『PANTAPI』
DESCRIPTION:詳細はこちら⇩ \nベトナムサンドウィッチ&タピオカミルクティー　☆PANTAPI☆
URL:https://www.e-beans.jp/eventcalendar/__trashed-5/
CATEGORIES:フード
END:VEVENT
BEGIN:VEVENT
DTSTART;VALUE=DATE:20250928
DTEND;VALUE=DATE:20250929
DTSTAMP:20260425T125851
CREATED:20250923T062217Z
LAST-MODIFIED:20250923T062217Z
UID:18776-1759017600-1759103999@www.e-beans.jp
SUMMARY:LILIA.Fes～野外大作戦vol.26～開催決定！！
DESCRIPTION:詳細はこちら⇩ \nLILIA.Fes～野外大作戦vol.26～開催決定！！
URL:https://www.e-beans.jp/eventcalendar/tribe_events-18776/
CATEGORIES:ライブ
END:VEVENT
BEGIN:VEVENT
DTSTART;VALUE=DATE:20250930
DTEND;VALUE=DATE:20251001
DTSTAMP:20260425T125851
CREATED:20250807T051840Z
LAST-MODIFIED:20250908T013153Z
UID:17951-1759190400-1759276799@www.e-beans.jp
SUMMARY:キッチンカー『PANTAPI』
DESCRIPTION:詳細はこちら⇩ \nベトナムサンドウィッチ&タピオカミルクティー　☆PANTAPI☆
URL:https://www.e-beans.jp/eventcalendar/__trashed-6/
CATEGORIES:フード
END:VEVENT
BEGIN:VEVENT
DTSTART;VALUE=DATE:20250930
DTEND;VALUE=DATE:20251001
DTSTAMP:20260425T125851
CREATED:20250915T101528Z
LAST-MODIFIED:20250915T101528Z
UID:18662-1759190400-1759276799@www.e-beans.jp
SUMMARY:『KAMEN RIDER STORE in 仙台』開催中！
DESCRIPTION:詳細はこちら⇩ \n『KAMEN RIDER STORE in 仙台』開催!!
URL:https://www.e-beans.jp/eventcalendar/tribe_events-18662/
CATEGORIES:販売
END:VEVENT
BEGIN:VEVENT
DTSTART;VALUE=DATE:20251001
DTEND;VALUE=DATE:20251002
DTSTAMP:20260425T125851
CREATED:20250915T101558Z
LAST-MODIFIED:20250915T101558Z
UID:18664-1759276800-1759363199@www.e-beans.jp
SUMMARY:『KAMEN RIDER STORE in 仙台』開催中！
DESCRIPTION:詳細はこちら⇩ \n『KAMEN RIDER STORE in 仙台』開催!!
URL:https://www.e-beans.jp/eventcalendar/tribe_events-18664/
CATEGORIES:販売
END:VEVENT
BEGIN:VEVENT
DTSTART;VALUE=DATE:20251002
DTEND;VALUE=DATE:20251003
DTSTAMP:20260425T125851
CREATED:20251001T082332Z
LAST-MODIFIED:20251001T082332Z
UID:18842-1759363200-1759449599@www.e-beans.jp
SUMMARY:キッチンカー『PANTAPI』
DESCRIPTION:詳細はこちら⇩ \nキッチンカー『PANTAPI』
URL:https://www.e-beans.jp/eventcalendar/tribe_events-18842/
CATEGORIES:フード
END:VEVENT
BEGIN:VEVENT
DTSTART;TZID=Asia/Tokyo:20251003T080000
DTEND;TZID=Asia/Tokyo:20251020T170000
DTSTAMP:20260425T125851
CREATED:20250928T084628Z
LAST-MODIFIED:20250928T084628Z
UID:18852-1759478400-1760979600@www.e-beans.jp
SUMMARY:食品サンプル作品販売会「こぢんまり製作工房」開催決定！
DESCRIPTION:詳細はこちら⇩ \n食品サンプル作品販売会「こぢんまり製作工房」開催決定！
URL:https://www.e-beans.jp/eventcalendar/tribe_events-18852/
CATEGORIES:販売
END:VEVENT
BEGIN:VEVENT
DTSTART;VALUE=DATE:20251004
DTEND;VALUE=DATE:20251005
DTSTAMP:20260425T125851
CREATED:20250927T041211Z
LAST-MODIFIED:20250927T041211Z
UID:18820-1759536000-1759622399@www.e-beans.jp
SUMMARY:野外フリーライブ【idol Time】開催！！
DESCRIPTION:詳細はこちら⇩ \n野外フリーライブ【idol Time】開催！！
URL:https://www.e-beans.jp/eventcalendar/tribe_events-18820/
CATEGORIES:ライブ
END:VEVENT
BEGIN:VEVENT
DTSTART;VALUE=DATE:20251005
DTEND;VALUE=DATE:20251006
DTSTAMP:20260425T125851
CREATED:20251001T082346Z
LAST-MODIFIED:20251001T082346Z
UID:18836-1759622400-1759708799@www.e-beans.jp
SUMMARY:キッチンカー『PANTAPI』
DESCRIPTION:詳細はこちら⇩ \nキッチンカー『PANTAPI』
URL:https://www.e-beans.jp/eventcalendar/tribe_events-18836/
CATEGORIES:フード
END:VEVENT
BEGIN:VEVENT
DTSTART;VALUE=DATE:20251007
DTEND;VALUE=DATE:20251008
DTSTAMP:20260425T125851
CREATED:20251001T082358Z
LAST-MODIFIED:20251001T082358Z
UID:18828-1759795200-1759881599@www.e-beans.jp
SUMMARY:キッチンカー『PANTAPI』
DESCRIPTION:詳細はこちら⇩ \nキッチンカー『PANTAPI』
URL:https://www.e-beans.jp/eventcalendar/tribe_events-18828/
CATEGORIES:フード
END:VEVENT
BEGIN:VEVENT
DTSTART;VALUE=DATE:20251009
DTEND;VALUE=DATE:20251010
DTSTAMP:20260425T125851
CREATED:20251001T082409Z
LAST-MODIFIED:20251001T082409Z
UID:18844-1759968000-1760054399@www.e-beans.jp
SUMMARY:キッチンカー『PANTAPI』
DESCRIPTION:詳細はこちら⇩ \nキッチンカー『PANTAPI』
URL:https://www.e-beans.jp/eventcalendar/tribe_events-18844/
CATEGORIES:フード
END:VEVENT
BEGIN:VEVENT
DTSTART;VALUE=DATE:20251011
DTEND;VALUE=DATE:20251117
DTSTAMP:20260425T125851
CREATED:20250825T103610Z
LAST-MODIFIED:20250825T103610Z
UID:18322-1760140800-1763337599@www.e-beans.jp
SUMMARY:誕生85周年記念　トムとジェリー展　君が笑うと、僕も笑っちゃう　開催！
DESCRIPTION:詳細はこちら⇩ \nhttps://www.e-beans.jp/event/event-18256/
URL:https://www.e-beans.jp/eventcalendar/tribe_events-18322/
CATEGORIES:展示
END:VEVENT
BEGIN:VEVENT
DTSTART;VALUE=DATE:20251012
DTEND;VALUE=DATE:20251013
DTSTAMP:20260425T125851
CREATED:20250928T083035Z
LAST-MODIFIED:20250928T083035Z
UID:18826-1760227200-1760313599@www.e-beans.jp
SUMMARY:キッチンカー【HAPPY FOOD】出店！！
DESCRIPTION:詳細はこちら⇩ \nキッチンカー【HAPPY FOOD】出店！！
URL:https://www.e-beans.jp/eventcalendar/tribe_events-18826/
CATEGORIES:フード
END:VEVENT
BEGIN:VEVENT
DTSTART;VALUE=DATE:20251013
DTEND;VALUE=DATE:20251014
DTSTAMP:20260425T125851
CREATED:20250915T080248Z
LAST-MODIFIED:20250915T080248Z
UID:18654-1760313600-1760399999@www.e-beans.jp
SUMMARY:エンドー音楽堂presents『ジャスフェス2025』開催！
DESCRIPTION:詳細はこちら⇩ \nエンドー音楽堂presents『ジャスフェス2025』
URL:https://www.e-beans.jp/eventcalendar/tribe_events-18654/
CATEGORIES:ライブ
END:VEVENT
BEGIN:VEVENT
DTSTART;VALUE=DATE:20251014
DTEND;VALUE=DATE:20251015
DTSTAMP:20260425T125851
CREATED:20251001T082421Z
LAST-MODIFIED:20251001T082421Z
UID:18830-1760400000-1760486399@www.e-beans.jp
SUMMARY:キッチンカー『PANTAPI』
DESCRIPTION:詳細はこちら⇩ \nキッチンカー『PANTAPI』
URL:https://www.e-beans.jp/eventcalendar/tribe_events-18830/
CATEGORIES:フード
END:VEVENT
BEGIN:VEVENT
DTSTART;VALUE=DATE:20251016
DTEND;VALUE=DATE:20251017
DTSTAMP:20260425T125851
CREATED:20251001T082433Z
LAST-MODIFIED:20251001T082433Z
UID:18846-1760572800-1760659199@www.e-beans.jp
SUMMARY:キッチンカー『PANTAPI』
DESCRIPTION:詳細はこちら⇩ \nキッチンカー『PANTAPI』
URL:https://www.e-beans.jp/eventcalendar/tribe_events-18846/
CATEGORIES:フード
END:VEVENT
BEGIN:VEVENT
DTSTART;VALUE=DATE:20251018
DTEND;VALUE=DATE:20251019
DTSTAMP:20260425T125851
CREATED:20250923T062043Z
LAST-MODIFIED:20250923T062043Z
UID:18772-1760745600-1760831999@www.e-beans.jp
SUMMARY:世が世なら!!! 2ndEP「2025!!!」リリース記念イベント 開催決定！
DESCRIPTION:詳細はこちら⇩ \n世が世なら!!! 2ndEP「2025!!!」リリース記念イベント 開催決定！
URL:https://www.e-beans.jp/eventcalendar/tribe_events-18772/
CATEGORIES:ライブ
END:VEVENT
BEGIN:VEVENT
DTSTART;VALUE=DATE:20251018
DTEND;VALUE=DATE:20251019
DTSTAMP:20260425T125851
CREATED:20251009T040409Z
LAST-MODIFIED:20251009T040409Z
UID:19012-1760745600-1760831999@www.e-beans.jp
SUMMARY:ばち恋男子・モスキートーン・ステ＆グラス　フリーライブ開催！！
DESCRIPTION:ばち恋男子・モスキートーン・ステ＆グラス　フリーライブ開催！！
URL:https://www.e-beans.jp/eventcalendar/tribe_events-19012/
CATEGORIES:ライブ
END:VEVENT
BEGIN:VEVENT
DTSTART;VALUE=DATE:20251019
DTEND;VALUE=DATE:20251020
DTSTAMP:20260425T125851
CREATED:20250906T052422Z
LAST-MODIFIED:20250906T052422Z
UID:18506-1760832000-1760918399@www.e-beans.jp
SUMMARY:ねこまつり開催！！
DESCRIPTION:詳細はこちら⇩ \nねこまつり開催！！
URL:https://www.e-beans.jp/eventcalendar/tribe_events-18506/
CATEGORIES:ライブ,販売
END:VEVENT
BEGIN:VEVENT
DTSTART;VALUE=DATE:20251019
DTEND;VALUE=DATE:20251020
DTSTAMP:20260425T125851
CREATED:20251001T082445Z
LAST-MODIFIED:20251001T082445Z
UID:18838-1760832000-1760918399@www.e-beans.jp
SUMMARY:キッチンカー『PANTAPI』
DESCRIPTION:詳細はこちら⇩ \nキッチンカー『PANTAPI』
URL:https://www.e-beans.jp/eventcalendar/tribe_events-18838/
CATEGORIES:フード
END:VEVENT
BEGIN:VEVENT
DTSTART;VALUE=DATE:20251021
DTEND;VALUE=DATE:20251022
DTSTAMP:20260425T125851
CREATED:20251001T082456Z
LAST-MODIFIED:20251001T082456Z
UID:18832-1761004800-1761091199@www.e-beans.jp
SUMMARY:キッチンカー『PANTAPI』
DESCRIPTION:詳細はこちら⇩ \nキッチンカー『PANTAPI』
URL:https://www.e-beans.jp/eventcalendar/tribe_events-18832/
CATEGORIES:フード
END:VEVENT
BEGIN:VEVENT
DTSTART;VALUE=DATE:20251023
DTEND;VALUE=DATE:20251024
DTSTAMP:20260425T125851
CREATED:20251001T082506Z
LAST-MODIFIED:20251001T082506Z
UID:18848-1761177600-1761263999@www.e-beans.jp
SUMMARY:キッチンカー『PANTAPI』
DESCRIPTION:詳細はこちら⇩ \nキッチンカー『PANTAPI』
URL:https://www.e-beans.jp/eventcalendar/tribe_events-18848/
CATEGORIES:フード
END:VEVENT
BEGIN:VEVENT
DTSTART;VALUE=DATE:20251024
DTEND;VALUE=DATE:20251025
DTSTAMP:20260425T125851
CREATED:20251024T023817Z
LAST-MODIFIED:20251024T023828Z
UID:19165-1761264000-1761350399@www.e-beans.jp
SUMMARY:U&piaフリーイベント
DESCRIPTION:公式サイトはこちら⇩ \nhttps://uandpia-official.bitfan.id/schedules/84325?r=t4lb00
URL:https://www.e-beans.jp/eventcalendar/tribe_events-19165/
CATEGORIES:ライブ
END:VEVENT
BEGIN:VEVENT
DTSTART;VALUE=DATE:20251025
DTEND;VALUE=DATE:20251026
DTSTAMP:20260425T125851
CREATED:20251020T074306Z
LAST-MODIFIED:20251020T074306Z
UID:19114-1761350400-1761436799@www.e-beans.jp
SUMMARY:ExWHYZ 2nd Single「DON’T CRY」発売記念リリースイベント開催決定!! 新参者フリーハイタッチ会あり!!
DESCRIPTION:詳細はこちら⇩ \nExWHYZ 2nd Single「DON’T CRY」発売記念リリースイベント開催決定!! 新参者フリーハイタッチ会あり!!
URL:https://www.e-beans.jp/eventcalendar/tribe_events-19114/
CATEGORIES:ライブ
END:VEVENT
BEGIN:VEVENT
DTSTART;VALUE=DATE:20251025
DTEND;VALUE=DATE:20251027
DTSTAMP:20260425T125851
CREATED:20251008T030901Z
LAST-MODIFIED:20251008T030901Z
UID:18986-1761350400-1761523199@www.e-beans.jp
SUMMARY:ゴシック＆ロリータ系ハンドメイド作品即売会　#ゴスロリパーティー　開催
DESCRIPTION:詳細はこちら⇩ \nゴシック＆ロリータ系ハンドメイド作品即売会　#ゴスロリパーティー　開催
URL:https://www.e-beans.jp/eventcalendar/tribe_events-18986/
CATEGORIES:販売
END:VEVENT
END:VCALENDAR