BEGIN:VCALENDAR
VERSION:2.0
PRODID:-//仙台駅前イービーンズ - ECPv6.15.20//NONSGML v1.0//EN
CALSCALE:GREGORIAN
METHOD:PUBLISH
X-ORIGINAL-URL:https://www.e-beans.jp
X-WR-CALDESC:仙台駅前イービーンズ のイベント
REFRESH-INTERVAL;VALUE=DURATION:PT1H
X-Robots-Tag:noindex
X-PUBLISHED-TTL:PT1H
BEGIN:VTIMEZONE
TZID:Asia/Tokyo
BEGIN:STANDARD
TZOFFSETFROM:+0900
TZOFFSETTO:+0900
TZNAME:JST
DTSTART:20230101T000000
END:STANDARD
END:VTIMEZONE
BEGIN:VEVENT
DTSTART;VALUE=DATE:20240329
DTEND;VALUE=DATE:20240520
DTSTAMP:20260425T013408
CREATED:20240317T063253Z
LAST-MODIFIED:20240317T063253Z
UID:12224-1711670400-1716163199@www.e-beans.jp
SUMMARY:【4F The Rooftop E Garden】「東方Project」カフェ in 仙台
DESCRIPTION:詳細はこちら⇩ \n【4F The Rooftop E Garden】「東方Project」カフェ in 仙台！第4弾！
URL:https://www.e-beans.jp/eventcalendar/tribe_events-12224/
CATEGORIES:フード
END:VEVENT
BEGIN:VEVENT
DTSTART;VALUE=DATE:20240427
DTEND;VALUE=DATE:20240527
DTSTAMP:20260425T013408
CREATED:20240504T102720Z
LAST-MODIFIED:20240504T102839Z
UID:12789-1714176000-1716767999@www.e-beans.jp
SUMMARY:『SEVENTEEN MUSEUM 2024』
DESCRIPTION:詳細はこちら⇩ \nhttps://www.e-beans.jp/event/event-12365/
URL:https://www.e-beans.jp/eventcalendar/tribe_events-12789/
CATEGORIES:展示
END:VEVENT
BEGIN:VEVENT
DTSTART;VALUE=DATE:20240502
DTEND;VALUE=DATE:20240503
DTSTAMP:20260425T013408
CREATED:20240427T073321Z
LAST-MODIFIED:20240427T073321Z
UID:12674-1714608000-1714694399@www.e-beans.jp
SUMMARY:出張！木の屋祭り　開催
DESCRIPTION:詳しくはこちら⇩ \n出張！木の屋祭り　開催決定！
URL:https://www.e-beans.jp/eventcalendar/tribe_events-12674/
CATEGORIES:販売
END:VEVENT
BEGIN:VEVENT
DTSTART;VALUE=DATE:20240502
DTEND;VALUE=DATE:20240503
DTSTAMP:20260425T013408
CREATED:20240429T044714Z
LAST-MODIFIED:20240429T044714Z
UID:12718-1714608000-1714694399@www.e-beans.jp
SUMMARY:ベトナムサンドウィッチ『PANTAPI』出店
DESCRIPTION:詳細はこちら⇩ \nベトナムサンドウィッチ&タピオカミルクティー　☆PANTAPI☆
URL:https://www.e-beans.jp/eventcalendar/tribe_events-12718/
CATEGORIES:フード
END:VEVENT
BEGIN:VEVENT
DTSTART;VALUE=DATE:20240503
DTEND;VALUE=DATE:20240507
DTSTAMP:20260425T013408
CREATED:20240429T043629Z
LAST-MODIFIED:20240429T043629Z
UID:12708-1714694400-1715039999@www.e-beans.jp
SUMMARY:『大王チーズ10円パン』キッチンカー出店！
DESCRIPTION:詳細はこちら⇩ \n「大王チーズ10円パン」
URL:https://www.e-beans.jp/eventcalendar/tribe_events-12708/
CATEGORIES:フード
END:VEVENT
BEGIN:VEVENT
DTSTART;VALUE=DATE:20240503
DTEND;VALUE=DATE:20240507
DTSTAMP:20260425T013408
CREATED:20240426T090026Z
LAST-MODIFIED:20240427T073347Z
UID:12644-1714694400-1715039999@www.e-beans.jp
SUMMARY:アサヒ飲料東北支社presents　日替わりジュースプレゼント
DESCRIPTION:詳しくはこちら⇩ \nアサヒ飲料東北支社presents　日替わりジュースプレゼント！
URL:https://www.e-beans.jp/eventcalendar/tribe_events-12644/
CATEGORIES:その他
END:VEVENT
BEGIN:VEVENT
DTSTART;VALUE=DATE:20240507
DTEND;VALUE=DATE:20240508
DTSTAMP:20260425T013408
CREATED:20240428T092448Z
LAST-MODIFIED:20240428T092448Z
UID:12694-1715040000-1715126399@www.e-beans.jp
SUMMARY:たまごサンド専門店『縁と縁』キッチンカー
DESCRIPTION:詳細はこちら⇩ \nキッチンカー たまごサンド専門店『縁と縁』
URL:https://www.e-beans.jp/eventcalendar/tribe_events-12694/
CATEGORIES:フード
END:VEVENT
BEGIN:VEVENT
DTSTART;VALUE=DATE:20240507
DTEND;VALUE=DATE:20240508
DTSTAMP:20260425T013408
CREATED:20240429T044643Z
LAST-MODIFIED:20240429T044643Z
UID:12721-1715040000-1715126399@www.e-beans.jp
SUMMARY:ベトナムサンドウィッチ『PANTAPI』出店
DESCRIPTION:詳細はこちら⇩ \nベトナムサンドウィッチ&タピオカミルクティー　☆PANTAPI☆
URL:https://www.e-beans.jp/eventcalendar/tribe_events-12721/
CATEGORIES:フード
END:VEVENT
BEGIN:VEVENT
DTSTART;VALUE=DATE:20240509
DTEND;VALUE=DATE:20240510
DTSTAMP:20260425T013408
CREATED:20240427T083714Z
LAST-MODIFIED:20240427T083714Z
UID:12676-1715212800-1715299199@www.e-beans.jp
SUMMARY:『カフェシュガーロード』キッチンカー出店！
DESCRIPTION:詳細はこちら⇩ \nクレープキッチンカー『カフェ シュガーロード』
URL:https://www.e-beans.jp/eventcalendar/tribe_events-12676/
CATEGORIES:フード
END:VEVENT
BEGIN:VEVENT
DTSTART;VALUE=DATE:20240509
DTEND;VALUE=DATE:20240510
DTSTAMP:20260425T013408
CREATED:20240429T045028Z
LAST-MODIFIED:20240429T045028Z
UID:12724-1715212800-1715299199@www.e-beans.jp
SUMMARY:ベトナムサンドウィッチ『PANTAPI』出店
DESCRIPTION:詳細はこちら⇩ \nベトナムサンドウィッチ&タピオカミルクティー　☆PANTAPI☆
URL:https://www.e-beans.jp/eventcalendar/tribe_events-12724/
CATEGORIES:フード
END:VEVENT
BEGIN:VEVENT
DTSTART;VALUE=DATE:20240511
DTEND;VALUE=DATE:20240512
DTSTAMP:20260425T013408
CREATED:20240429T050543Z
LAST-MODIFIED:20240429T050543Z
UID:12745-1715385600-1715471999@www.e-beans.jp
SUMMARY:『石焼き芋ぽてにゃん』出店！
DESCRIPTION:詳細はこちら⇩ \nキッチンカー  【石焼き芋ぽてにゃん】出店！
URL:https://www.e-beans.jp/eventcalendar/tribe_events-12745/
CATEGORIES:フード
END:VEVENT
BEGIN:VEVENT
DTSTART;VALUE=DATE:20240511
DTEND;VALUE=DATE:20240513
DTSTAMP:20260425T013408
CREATED:20240429T043728Z
LAST-MODIFIED:20240429T043728Z
UID:12712-1715385600-1715558399@www.e-beans.jp
SUMMARY:『大王チーズ10円パン』キッチンカー出店
DESCRIPTION:詳細はこちら⇩ \n「大王チーズ10円パン」
URL:https://www.e-beans.jp/eventcalendar/tribe_events-12712/
CATEGORIES:フード
END:VEVENT
BEGIN:VEVENT
DTSTART;VALUE=DATE:20240512
DTEND;VALUE=DATE:20240513
DTSTAMP:20260425T013408
CREATED:20240429T045141Z
LAST-MODIFIED:20240429T045141Z
UID:12726-1715472000-1715558399@www.e-beans.jp
SUMMARY:ベトナムサンドウィッチ『PANTAPI』出店
DESCRIPTION:詳細はこちら⇩ \nベトナムサンドウィッチ&タピオカミルクティー　☆PANTAPI☆
URL:https://www.e-beans.jp/eventcalendar/tribe_events-12726/
CATEGORIES:フード
END:VEVENT
BEGIN:VEVENT
DTSTART;VALUE=DATE:20240512
DTEND;VALUE=DATE:20240513
DTSTAMP:20260425T013408
CREATED:20240504T102408Z
LAST-MODIFIED:20240504T102408Z
UID:12787-1715472000-1715558399@www.e-beans.jp
SUMMARY:めろん畑a go go「SICK IDOLS」GARUDA「Phoenix of Resurrection」リリース記念合同インストアイベント
DESCRIPTION:詳しくはこちら⇩ \nめろん畑a go go「SICK IDOLS」GARUDA「Phoenix of Resurrection」リリース記念合同インストアイベント
URL:https://www.e-beans.jp/eventcalendar/tribe_events-12787/
CATEGORIES:ライブ
END:VEVENT
BEGIN:VEVENT
DTSTART;VALUE=DATE:20240513
DTEND;VALUE=DATE:20240514
DTSTAMP:20260425T013408
CREATED:20240428T092609Z
LAST-MODIFIED:20240428T092609Z
UID:12693-1715558400-1715644799@www.e-beans.jp
SUMMARY:たまごサンド専門店『縁と縁』キッチンカー
DESCRIPTION:詳細はこちら⇩ \nキッチンカー たまごサンド専門店『縁と縁』
URL:https://www.e-beans.jp/eventcalendar/tribe_events-12693/
CATEGORIES:フード
END:VEVENT
BEGIN:VEVENT
DTSTART;VALUE=DATE:20240513
DTEND;VALUE=DATE:20240514
DTSTAMP:20260425T013408
CREATED:20240429T050724Z
LAST-MODIFIED:20240429T050724Z
UID:12747-1715558400-1715644799@www.e-beans.jp
SUMMARY:『石焼き芋ぽてにゃん』出店！
DESCRIPTION:詳細はこちら⇩ \nキッチンカー  【石焼き芋ぽてにゃん】出店！
URL:https://www.e-beans.jp/eventcalendar/tribe_events-12747/
CATEGORIES:フード
END:VEVENT
BEGIN:VEVENT
DTSTART;VALUE=DATE:20240514
DTEND;VALUE=DATE:20240515
DTSTAMP:20260425T013408
CREATED:20240429T045300Z
LAST-MODIFIED:20240429T045300Z
UID:12728-1715644800-1715731199@www.e-beans.jp
SUMMARY:ベトナムサンドウィッチ『PANTAPI』出店
DESCRIPTION:詳細はこちら⇩ \nベトナムサンドウィッチ&タピオカミルクティー　☆PANTAPI☆
URL:https://www.e-beans.jp/eventcalendar/tribe_events-12728/
CATEGORIES:フード
END:VEVENT
BEGIN:VEVENT
DTSTART;VALUE=DATE:20240516
DTEND;VALUE=DATE:20240517
DTSTAMP:20260425T013408
CREATED:20240429T045350Z
LAST-MODIFIED:20240429T045350Z
UID:12730-1715817600-1715903999@www.e-beans.jp
SUMMARY:ベトナムサンドウィッチ『PANTAPI』出店
DESCRIPTION:詳細はこちら⇩ \nベトナムサンドウィッチ&タピオカミルクティー　☆PANTAPI☆
URL:https://www.e-beans.jp/eventcalendar/tribe_events-12730/
CATEGORIES:フード
END:VEVENT
BEGIN:VEVENT
DTSTART;VALUE=DATE:20240517
DTEND;VALUE=DATE:20240518
DTSTAMP:20260425T013408
CREATED:20240428T092659Z
LAST-MODIFIED:20240428T092659Z
UID:12698-1715904000-1715990399@www.e-beans.jp
SUMMARY:たまごサンド専門店『縁と縁』キッチンカー
DESCRIPTION:詳細はこちら⇩ \nキッチンカー たまごサンド専門店『縁と縁』
URL:https://www.e-beans.jp/eventcalendar/tribe_events-12698/
CATEGORIES:フード
END:VEVENT
BEGIN:VEVENT
DTSTART;VALUE=DATE:20240518
DTEND;VALUE=DATE:20240519
DTSTAMP:20260425T013408
CREATED:20240426T101203Z
LAST-MODIFIED:20240426T101203Z
UID:12663-1715990400-1716076799@www.e-beans.jp
SUMMARY:JamsCollection『JamDrive!!』開催記念フリーライブ
DESCRIPTION:詳しくはこちらから⇩ \nJamsCollection『JamDrive!!』開催記念フリーライブ in 仙台
URL:https://www.e-beans.jp/eventcalendar/tribe_events-12663/
CATEGORIES:ライブ
END:VEVENT
BEGIN:VEVENT
DTSTART;VALUE=DATE:20240518
DTEND;VALUE=DATE:20240519
DTSTAMP:20260425T013408
CREATED:20240428T073224Z
LAST-MODIFIED:20240428T073315Z
UID:12687-1715990400-1716076799@www.e-beans.jp
SUMMARY:『珈琲飲み処いりたてや』キッチンカー出店！
DESCRIPTION:詳細はこちら⇩ \nキッチンカー『珈琲飲み処いりたてや』出店！
URL:https://www.e-beans.jp/eventcalendar/tribe_events-12687/
CATEGORIES:フード
END:VEVENT
BEGIN:VEVENT
DTSTART;VALUE=DATE:20240518
DTEND;VALUE=DATE:20240520
DTSTAMP:20260425T013408
CREATED:20240429T043816Z
LAST-MODIFIED:20240429T043816Z
UID:12714-1715990400-1716163199@www.e-beans.jp
SUMMARY:『大王チーズ10円パン』キッチンカー出店
DESCRIPTION:詳細はこちら⇩ \n「大王チーズ10円パン」
URL:https://www.e-beans.jp/eventcalendar/tribe_events-12714/
CATEGORIES:フード
END:VEVENT
BEGIN:VEVENT
DTSTART;VALUE=DATE:20240519
DTEND;VALUE=DATE:20240520
DTSTAMP:20260425T013408
CREATED:20240429T045441Z
LAST-MODIFIED:20240429T045441Z
UID:12732-1716076800-1716163199@www.e-beans.jp
SUMMARY:ベトナムサンドウィッチ『PANTAPI』出店
DESCRIPTION:詳細はこちら⇩ \nベトナムサンドウィッチ&タピオカミルクティー　☆PANTAPI☆
URL:https://www.e-beans.jp/eventcalendar/tribe_events-12732/
CATEGORIES:フード
END:VEVENT
BEGIN:VEVENT
DTSTART;VALUE=DATE:20240519
DTEND;VALUE=DATE:20240520
DTSTAMP:20260425T013408
CREATED:20240507T031458Z
LAST-MODIFIED:20240507T031523Z
UID:12813-1716076800-1716163199@www.e-beans.jp
SUMMARY:ビアガーデン　フラダンス開催！
DESCRIPTION:詳しくはこちら⇩ \nビアガーデン　フラダンスイベント開催！
URL:https://www.e-beans.jp/eventcalendar/tribe_events-12813/
CATEGORIES:ライブ
END:VEVENT
BEGIN:VEVENT
DTSTART;VALUE=DATE:20240521
DTEND;VALUE=DATE:20240522
DTSTAMP:20260425T013408
CREATED:20240429T045632Z
LAST-MODIFIED:20240429T045632Z
UID:12736-1716249600-1716335999@www.e-beans.jp
SUMMARY:ベトナムサンドウィッチ『PANTAPI』出店
DESCRIPTION:詳細はこちら⇩ \nベトナムサンドウィッチ&タピオカミルクティー　☆PANTAPI☆
URL:https://www.e-beans.jp/eventcalendar/tribe_events-12736/
CATEGORIES:フード
END:VEVENT
BEGIN:VEVENT
DTSTART;VALUE=DATE:20240521
DTEND;VALUE=DATE:20240522
DTSTAMP:20260425T013408
CREATED:20240429T050936Z
LAST-MODIFIED:20240429T051007Z
UID:12749-1716249600-1716335999@www.e-beans.jp
SUMMARY:『石焼き芋ぽてにゃん』出店！
DESCRIPTION:詳細はこちら⇩ \nキッチンカー  【石焼き芋ぽてにゃん】出店！
URL:https://www.e-beans.jp/eventcalendar/tribe_events-12749/
CATEGORIES:フード
END:VEVENT
BEGIN:VEVENT
DTSTART;VALUE=DATE:20240522
DTEND;VALUE=DATE:20240523
DTSTAMP:20260425T013408
CREATED:20240428T092755Z
LAST-MODIFIED:20240428T092755Z
UID:12700-1716336000-1716422399@www.e-beans.jp
SUMMARY:たまごサンド専門店『縁と縁』キッチンカー
DESCRIPTION:詳細はこちら⇩ \nキッチンカー たまごサンド専門店『縁と縁』
URL:https://www.e-beans.jp/eventcalendar/tribe_events-12700/
CATEGORIES:フード
END:VEVENT
BEGIN:VEVENT
DTSTART;VALUE=DATE:20240523
DTEND;VALUE=DATE:20240524
DTSTAMP:20260425T013408
CREATED:20240427T083851Z
LAST-MODIFIED:20240427T083851Z
UID:12680-1716422400-1716508799@www.e-beans.jp
SUMMARY:『カフェシュガーロード』キッチンカー出店！
DESCRIPTION:詳細はこちら⇩ \nクレープキッチンカー『カフェ シュガーロード』
URL:https://www.e-beans.jp/eventcalendar/tribe_events-12680/
CATEGORIES:フード
END:VEVENT
BEGIN:VEVENT
DTSTART;VALUE=DATE:20240523
DTEND;VALUE=DATE:20240524
DTSTAMP:20260425T013408
CREATED:20240429T045543Z
LAST-MODIFIED:20240429T045543Z
UID:12734-1716422400-1716508799@www.e-beans.jp
SUMMARY:ベトナムサンドウィッチ『PANTAPI』出店
DESCRIPTION:詳細はこちら⇩ \nベトナムサンドウィッチ&タピオカミルクティー　☆PANTAPI☆
URL:https://www.e-beans.jp/eventcalendar/tribe_events-12734/
CATEGORIES:フード
END:VEVENT
BEGIN:VEVENT
DTSTART;VALUE=DATE:20240523
DTEND;VALUE=DATE:20240527
DTSTAMP:20260425T013408
CREATED:20240511T064318Z
LAST-MODIFIED:20240511T064318Z
UID:12839-1716422400-1716767999@www.e-beans.jp
SUMMARY:POP-UPストア「Gallery」期間限定出店！
DESCRIPTION:詳しくはこちら⇩ \nPOP-UPストア「Gallery」期間限定出店決定！
URL:https://www.e-beans.jp/eventcalendar/tribe_events-12839/
CATEGORIES:販売
END:VEVENT
END:VCALENDAR