BEGIN:VCALENDAR
VERSION:2.0
PRODID:-//仙台駅前イービーンズ - ECPv6.15.20//NONSGML v1.0//EN
CALSCALE:GREGORIAN
METHOD:PUBLISH
X-ORIGINAL-URL:https://www.e-beans.jp
X-WR-CALDESC:仙台駅前イービーンズ のイベント
REFRESH-INTERVAL;VALUE=DURATION:PT1H
X-Robots-Tag:noindex
X-PUBLISHED-TTL:PT1H
BEGIN:VTIMEZONE
TZID:Asia/Tokyo
BEGIN:STANDARD
TZOFFSETFROM:+0900
TZOFFSETTO:+0900
TZNAME:JST
DTSTART:20240101T000000
END:STANDARD
END:VTIMEZONE
BEGIN:VEVENT
DTSTART;VALUE=DATE:20250117
DTEND;VALUE=DATE:20250331
DTSTAMP:20260425T013407
CREATED:20250106T045826Z
LAST-MODIFIED:20250106T045826Z
UID:15255-1737072000-1743379199@www.e-beans.jp
SUMMARY:ファンタジー武器屋 TAKUMI ARMORY 開催！
DESCRIPTION:詳しくはこちら⇩ \nhttps://www.e-beans.jp/event/event-15158/
URL:https://www.e-beans.jp/eventcalendar/tribe_events-15255/
CATEGORIES:販売
END:VEVENT
BEGIN:VEVENT
DTSTART;VALUE=DATE:20250301
DTEND;VALUE=DATE:20250302
DTSTAMP:20260425T013407
CREATED:20250221T110409Z
LAST-MODIFIED:20250221T110409Z
UID:15692-1740787200-1740873599@www.e-beans.jp
SUMMARY:楽遊アイドルフェス-ひなまつり＆楽遊IDOL PASS先行発売SP- Supported by せんだい堂
DESCRIPTION:詳細はこちら⇩ \n楽遊アイドルフェス-ひなまつり＆楽遊IDOL PASS先行発売SP- Supported by せんだい堂
URL:https://www.e-beans.jp/eventcalendar/tribe_events-15692/
CATEGORIES:ライブ
END:VEVENT
BEGIN:VEVENT
DTSTART;VALUE=DATE:20250304
DTEND;VALUE=DATE:20250305
DTSTAMP:20260425T013407
CREATED:20250225T080359Z
LAST-MODIFIED:20250225T080359Z
UID:15714-1741046400-1741132799@www.e-beans.jp
SUMMARY:キッチンカー【石焼き芋ぽてにゃん】
DESCRIPTION:詳細はこちら⇩ \nキッチンカー  【石焼き芋ぽてにゃん】出店！
URL:https://www.e-beans.jp/eventcalendar/tribe_events-15714/
CATEGORIES:フード
END:VEVENT
BEGIN:VEVENT
DTSTART;VALUE=DATE:20250307
DTEND;VALUE=DATE:20250318
DTSTAMP:20260425T013407
CREATED:20250314T062820Z
LAST-MODIFIED:20250314T062820Z
UID:16008-1741305600-1742255999@www.e-beans.jp
SUMMARY:【4階 The Rooftop E Garden】『ダイヤのA actⅡ』×はぴだんぶい and GALLERY Collaboration Cafe 開催中!!
DESCRIPTION:詳しくはこちら⇩ \n【4階 The Rooftop E Garden】『ダイヤのA actⅡ』×はぴだんぶい and GALLERY Collaboration Cafe 開催中!!
URL:https://www.e-beans.jp/eventcalendar/tribe_events-16008/
CATEGORIES:フード
END:VEVENT
BEGIN:VEVENT
DTSTART;VALUE=DATE:20250309
DTEND;VALUE=DATE:20250310
DTSTAMP:20260425T013407
CREATED:20250225T080431Z
LAST-MODIFIED:20250225T080431Z
UID:15716-1741478400-1741564799@www.e-beans.jp
SUMMARY:キッチンカー【石焼き芋ぽてにゃん】
DESCRIPTION:  \n詳細はこちら⇩ \nキッチンカー  【石焼き芋ぽてにゃん】出店！
URL:https://www.e-beans.jp/eventcalendar/tribe_events-15716/
CATEGORIES:フード
END:VEVENT
BEGIN:VEVENT
DTSTART;VALUE=DATE:20250309
DTEND;VALUE=DATE:20250310
DTSTAMP:20260425T013407
CREATED:20250305T050402Z
LAST-MODIFIED:20250305T050402Z
UID:15862-1741478400-1741564799@www.e-beans.jp
SUMMARY:キッチンカー【SUGARMONSTER】
DESCRIPTION:詳細はこちら⇩ \nキッチンカー『SUGAR MONSTER』出店！
URL:https://www.e-beans.jp/eventcalendar/tribe_events-15862/
CATEGORIES:フード
END:VEVENT
BEGIN:VEVENT
DTSTART;VALUE=DATE:20250313
DTEND;VALUE=DATE:20250314
DTSTAMP:20260425T013407
CREATED:20250308T063655Z
LAST-MODIFIED:20250308T063655Z
UID:15808-1741824000-1741910399@www.e-beans.jp
SUMMARY:キッチンカー【ワンTOM】
DESCRIPTION:詳細はこちら⇩ \nさつまいものスイーツを販売!!「おいも&いちご　ワンTOM」出店
URL:https://www.e-beans.jp/eventcalendar/tribe_events-15808/
CATEGORIES:フード
END:VEVENT
BEGIN:VEVENT
DTSTART;VALUE=DATE:20250315
DTEND;VALUE=DATE:20250316
DTSTAMP:20260425T013407
CREATED:20250402T043634Z
LAST-MODIFIED:20250506T053322Z
UID:15721-1741996800-1742083199@www.e-beans.jp
SUMMARY:キッチンカー【SUGAR MONSTER】
DESCRIPTION:詳細はこちら⇩ \nキッチンカー『SUGAR MONSTER』出店！
URL:https://www.e-beans.jp/eventcalendar/__trashed-4/
CATEGORIES:フード
END:VEVENT
BEGIN:VEVENT
DTSTART;VALUE=DATE:20250317
DTEND;VALUE=DATE:20250318
DTSTAMP:20260425T013407
CREATED:20250305T050614Z
LAST-MODIFIED:20250305T050614Z
UID:15864-1742169600-1742255999@www.e-beans.jp
SUMMARY:キッチンカー【SUGARMONSTER】
DESCRIPTION:詳細はこちら⇩ \nキッチンカー『SUGAR MONSTER』出店！
URL:https://www.e-beans.jp/eventcalendar/tribe_events-15864/
CATEGORIES:フード
END:VEVENT
BEGIN:VEVENT
DTSTART;VALUE=DATE:20250320
DTEND;VALUE=DATE:20250321
DTSTAMP:20260425T013407
CREATED:20250305T050703Z
LAST-MODIFIED:20250305T050703Z
UID:15866-1742428800-1742515199@www.e-beans.jp
SUMMARY:キッチンカー【SUGARMONSTER】
DESCRIPTION:詳細はこちら⇩ \nキッチンカー『SUGAR MONSTER』出店！
URL:https://www.e-beans.jp/eventcalendar/tribe_events-15866/
CATEGORIES:フード
END:VEVENT
BEGIN:VEVENT
DTSTART;VALUE=DATE:20250326
DTEND;VALUE=DATE:20250327
DTSTAMP:20260425T013407
CREATED:20250225T080026Z
LAST-MODIFIED:20250225T080026Z
UID:15649-1742947200-1743033599@www.e-beans.jp
SUMMARY:キッチンカー【カフェシュガーロード】
DESCRIPTION:詳細はこちら⇩ \nクレープキッチンカー『カフェ シュガーロード』
URL:https://www.e-beans.jp/eventcalendar/tribe_events-15649/
CATEGORIES:フード
END:VEVENT
BEGIN:VEVENT
DTSTART;VALUE=DATE:20250329
DTEND;VALUE=DATE:20250330
DTSTAMP:20260425T013407
CREATED:20250206T092702Z
LAST-MODIFIED:20250206T092702Z
UID:15582-1743206400-1743292799@www.e-beans.jp
SUMMARY:BabyKingdom 19thシングル「SEIMEI」 発売記念インストアイベント開催決定！
DESCRIPTION:詳細はこちら⇩ \nBabyKingdom 19thシングル「SEIMEI」 発売記念インストアイベント開催決定！
URL:https://www.e-beans.jp/eventcalendar/tribe_events-15582/
CATEGORIES:ライブ
END:VEVENT
BEGIN:VEVENT
DTSTART;VALUE=DATE:20250329
DTEND;VALUE=DATE:20250330
DTSTAMP:20260425T013407
CREATED:20250310T082950Z
LAST-MODIFIED:20250310T082950Z
UID:15965-1743206400-1743292799@www.e-beans.jp
SUMMARY:NiziIROぱれっとLIVE Tour2025『7petals』スピンオフ-仙台野外編-　開催決定！
DESCRIPTION:詳細はこちら⇩ \nNiziIROぱれっとLIVE Tour2025『7petals』スピンオフ-仙台野外編-　開催決定！
URL:https://www.e-beans.jp/eventcalendar/tribe_events-15965/
CATEGORIES:ライブ
END:VEVENT
BEGIN:VEVENT
DTSTART;VALUE=DATE:20250330
DTEND;VALUE=DATE:20250331
DTSTAMP:20260425T013407
CREATED:20250221T110337Z
LAST-MODIFIED:20250221T110337Z
UID:15678-1743292800-1743379199@www.e-beans.jp
SUMMARY:原因は自分にある。　4thフルアルバム「核心触発イノベーション」発売記念リリースイベント開催！
DESCRIPTION:詳細はこちら⇩ \n原因は自分にある。　4thフルアルバム「核心触発イノベーション」発売記念リリースイベント開催決定！
URL:https://www.e-beans.jp/eventcalendar/tribe_events-15678/
CATEGORIES:ライブ
END:VEVENT
BEGIN:VEVENT
DTSTART;VALUE=DATE:20250330
DTEND;VALUE=DATE:20250331
DTSTAMP:20260425T013407
CREATED:20250305T050756Z
LAST-MODIFIED:20250305T050756Z
UID:15868-1743292800-1743379199@www.e-beans.jp
SUMMARY:キッチンカー【SUGARMONSTER】
DESCRIPTION:詳細はこちら⇩ \nキッチンカー『SUGAR MONSTER』出店！
URL:https://www.e-beans.jp/eventcalendar/tribe_events-15868/
CATEGORIES:フード
END:VEVENT
BEGIN:VEVENT
DTSTART;VALUE=DATE:20250330
DTEND;VALUE=DATE:20250331
DTSTAMP:20260425T013407
CREATED:20250308T064112Z
LAST-MODIFIED:20250506T053212Z
UID:15727-1743292800-1743379199@www.e-beans.jp
SUMMARY:キッチンカー【SUGAR MONSTER】
DESCRIPTION:詳細はこちら⇩ \nキッチンカー『SUGAR MONSTER』出店！
URL:https://www.e-beans.jp/eventcalendar/__trashed/
CATEGORIES:フード
END:VEVENT
END:VCALENDAR