BEGIN:VCALENDAR
VERSION:2.0
PRODID:-//仙台駅前イービーンズ - ECPv6.15.20//NONSGML v1.0//EN
CALSCALE:GREGORIAN
METHOD:PUBLISH
X-ORIGINAL-URL:https://www.e-beans.jp
X-WR-CALDESC:仙台駅前イービーンズ のイベント
REFRESH-INTERVAL;VALUE=DURATION:PT1H
X-Robots-Tag:noindex
X-PUBLISHED-TTL:PT1H
BEGIN:VTIMEZONE
TZID:Asia/Tokyo
BEGIN:STANDARD
TZOFFSETFROM:+0900
TZOFFSETTO:+0900
TZNAME:JST
DTSTART:20230101T000000
END:STANDARD
END:VTIMEZONE
BEGIN:VEVENT
DTSTART;VALUE=DATE:20240329
DTEND;VALUE=DATE:20240520
DTSTAMP:20260425T031008
CREATED:20240317T063253Z
LAST-MODIFIED:20240317T063253Z
UID:12224-1711670400-1716163199@www.e-beans.jp
SUMMARY:【4F The Rooftop E Garden】「東方Project」カフェ in 仙台
DESCRIPTION:詳細はこちら⇩ \n【4F The Rooftop E Garden】「東方Project」カフェ in 仙台！第4弾！
URL:https://www.e-beans.jp/eventcalendar/tribe_events-12224/
CATEGORIES:フード
END:VEVENT
BEGIN:VEVENT
DTSTART;VALUE=DATE:20240427
DTEND;VALUE=DATE:20240527
DTSTAMP:20260425T031008
CREATED:20240504T102720Z
LAST-MODIFIED:20240504T102839Z
UID:12789-1714176000-1716767999@www.e-beans.jp
SUMMARY:『SEVENTEEN MUSEUM 2024』
DESCRIPTION:詳細はこちら⇩ \nhttps://www.e-beans.jp/event/event-12365/
URL:https://www.e-beans.jp/eventcalendar/tribe_events-12789/
CATEGORIES:展示
END:VEVENT
BEGIN:VEVENT
DTSTART;VALUE=DATE:20240511
DTEND;VALUE=DATE:20240513
DTSTAMP:20260425T031008
CREATED:20240429T043728Z
LAST-MODIFIED:20240429T043728Z
UID:12712-1715385600-1715558399@www.e-beans.jp
SUMMARY:『大王チーズ10円パン』キッチンカー出店
DESCRIPTION:詳細はこちら⇩ \n「大王チーズ10円パン」
URL:https://www.e-beans.jp/eventcalendar/tribe_events-12712/
CATEGORIES:フード
END:VEVENT
BEGIN:VEVENT
DTSTART;VALUE=DATE:20240512
DTEND;VALUE=DATE:20240513
DTSTAMP:20260425T031008
CREATED:20240429T045141Z
LAST-MODIFIED:20240429T045141Z
UID:12726-1715472000-1715558399@www.e-beans.jp
SUMMARY:ベトナムサンドウィッチ『PANTAPI』出店
DESCRIPTION:詳細はこちら⇩ \nベトナムサンドウィッチ&タピオカミルクティー　☆PANTAPI☆
URL:https://www.e-beans.jp/eventcalendar/tribe_events-12726/
CATEGORIES:フード
END:VEVENT
BEGIN:VEVENT
DTSTART;VALUE=DATE:20240512
DTEND;VALUE=DATE:20240513
DTSTAMP:20260425T031008
CREATED:20240504T102408Z
LAST-MODIFIED:20240504T102408Z
UID:12787-1715472000-1715558399@www.e-beans.jp
SUMMARY:めろん畑a go go「SICK IDOLS」GARUDA「Phoenix of Resurrection」リリース記念合同インストアイベント
DESCRIPTION:詳しくはこちら⇩ \nめろん畑a go go「SICK IDOLS」GARUDA「Phoenix of Resurrection」リリース記念合同インストアイベント
URL:https://www.e-beans.jp/eventcalendar/tribe_events-12787/
CATEGORIES:ライブ
END:VEVENT
END:VCALENDAR