BEGIN:VCALENDAR
VERSION:2.0
PRODID:-//仙台駅前イービーンズ - ECPv6.15.20//NONSGML v1.0//EN
CALSCALE:GREGORIAN
METHOD:PUBLISH
X-ORIGINAL-URL:https://www.e-beans.jp
X-WR-CALDESC:仙台駅前イービーンズ のイベント
REFRESH-INTERVAL;VALUE=DURATION:PT1H
X-Robots-Tag:noindex
X-PUBLISHED-TTL:PT1H
BEGIN:VTIMEZONE
TZID:Asia/Tokyo
BEGIN:STANDARD
TZOFFSETFROM:+0900
TZOFFSETTO:+0900
TZNAME:JST
DTSTART:20230101T000000
END:STANDARD
END:VTIMEZONE
BEGIN:VEVENT
DTSTART;VALUE=DATE:20240629
DTEND;VALUE=DATE:20240630
DTSTAMP:20260425T013434
CREATED:20240625T094908Z
LAST-MODIFIED:20240625T094908Z
UID:13254-1719619200-1719705599@www.e-beans.jp
SUMMARY:特撮Boyzフリーライブ 『TOKUSATSUBOYZ BATTLE TOUR 2024 -Fight & Love- 』
DESCRIPTION:詳しくはこちら⇩ \n特撮Boyzフリーライブ 『TOKUSATSUBOYZ BATTLE TOUR 2024 -Fight & Love- 』
URL:https://www.e-beans.jp/eventcalendar/tribe_events-13254/
CATEGORIES:ライブ
END:VEVENT
END:VCALENDAR