BEGIN:VCALENDAR
VERSION:2.0
PRODID:-//仙台駅前イービーンズ - ECPv6.15.20//NONSGML v1.0//EN
CALSCALE:GREGORIAN
METHOD:PUBLISH
X-ORIGINAL-URL:https://www.e-beans.jp
X-WR-CALDESC:仙台駅前イービーンズ のイベント
REFRESH-INTERVAL;VALUE=DURATION:PT1H
X-Robots-Tag:noindex
X-PUBLISHED-TTL:PT1H
BEGIN:VTIMEZONE
TZID:Asia/Tokyo
BEGIN:STANDARD
TZOFFSETFROM:+0900
TZOFFSETTO:+0900
TZNAME:JST
DTSTART:20230101T000000
END:STANDARD
END:VTIMEZONE
BEGIN:VEVENT
DTSTART;VALUE=DATE:20240706
DTEND;VALUE=DATE:20240716
DTSTAMP:20260424T235346
CREATED:20240618T053006Z
LAST-MODIFIED:20240618T053006Z
UID:13143-1720224000-1721087999@www.e-beans.jp
SUMMARY:【世界の大昆虫展】開催決定！
DESCRIPTION:詳しくはこちら⇩ \n【世界の大昆虫展】開催決定！
URL:https://www.e-beans.jp/eventcalendar/tribe_events-13143/
CATEGORIES:展示
END:VEVENT
BEGIN:VEVENT
DTSTART;VALUE=DATE:20240712
DTEND;VALUE=DATE:20240806
DTSTAMP:20260424T235346
CREATED:20240727T061221Z
LAST-MODIFIED:20240727T061221Z
UID:13605-1720742400-1722902399@www.e-beans.jp
SUMMARY:食品サンプル作品販売会「こぢんまり製作工房」開催！
DESCRIPTION:詳しくはこちら⇩ \n食品サンプル作品販売会「こぢんまり製作工房」開催決定！
URL:https://www.e-beans.jp/eventcalendar/tribe_events-13605/
CATEGORIES:販売
END:VEVENT
BEGIN:VEVENT
DTSTART;VALUE=DATE:20240714
DTEND;VALUE=DATE:20240715
DTSTAMP:20260424T235346
CREATED:20240524T092613Z
LAST-MODIFIED:20240524T092613Z
UID:12953-1720915200-1721001599@www.e-beans.jp
SUMMARY:グレート-O-カーン選手 トーク＆グッズサイン会
DESCRIPTION:詳しくはこちらから⇩ \nhttps://www.e-beans.jp/event/event-12907/
URL:https://www.e-beans.jp/eventcalendar/tribe_events-12953/
CATEGORIES:ライブ
END:VEVENT
BEGIN:VEVENT
DTSTART;VALUE=DATE:20240714
DTEND;VALUE=DATE:20240715
DTSTAMP:20260424T235346
CREATED:20240626T070129Z
LAST-MODIFIED:20240626T070136Z
UID:13205-1720915200-1721001599@www.e-beans.jp
SUMMARY:ベトナムサンドウィッチ『PANTAPI』出店
DESCRIPTION:詳細はこちら⇩ \nベトナムサンドウィッチ&タピオカミルクティー　☆PANTAPI☆
URL:https://www.e-beans.jp/eventcalendar/tribe_events-13205/
CATEGORIES:フード
END:VEVENT
END:VCALENDAR