BEGIN:VCALENDAR
VERSION:2.0
PRODID:-//仙台駅前イービーンズ - ECPv6.15.20//NONSGML v1.0//EN
CALSCALE:GREGORIAN
METHOD:PUBLISH
X-ORIGINAL-URL:https://www.e-beans.jp
X-WR-CALDESC:仙台駅前イービーンズ のイベント
REFRESH-INTERVAL;VALUE=DURATION:PT1H
X-Robots-Tag:noindex
X-PUBLISHED-TTL:PT1H
BEGIN:VTIMEZONE
TZID:Asia/Tokyo
BEGIN:STANDARD
TZOFFSETFROM:+0900
TZOFFSETTO:+0900
TZNAME:JST
DTSTART:20230101T000000
END:STANDARD
END:VTIMEZONE
BEGIN:VEVENT
DTSTART;VALUE=DATE:20240712
DTEND;VALUE=DATE:20240806
DTSTAMP:20260424T235947
CREATED:20240727T061221Z
LAST-MODIFIED:20240727T061221Z
UID:13605-1720742400-1722902399@www.e-beans.jp
SUMMARY:食品サンプル作品販売会「こぢんまり製作工房」開催！
DESCRIPTION:詳しくはこちら⇩ \n食品サンプル作品販売会「こぢんまり製作工房」開催決定！
URL:https://www.e-beans.jp/eventcalendar/tribe_events-13605/
CATEGORIES:販売
END:VEVENT
BEGIN:VEVENT
DTSTART;VALUE=DATE:20240718
DTEND;VALUE=DATE:20240719
DTSTAMP:20260424T235947
CREATED:20240626T070251Z
LAST-MODIFIED:20240626T070251Z
UID:13209-1721260800-1721347199@www.e-beans.jp
SUMMARY:ベトナムサンドウィッチ『PANTAPI』出店
DESCRIPTION:詳細はこちら⇩ \nベトナムサンドウィッチ&タピオカミルクティー　☆PANTAPI☆
URL:https://www.e-beans.jp/eventcalendar/tribe_events-13209/
CATEGORIES:フード
END:VEVENT
BEGIN:VEVENT
DTSTART;VALUE=DATE:20240718
DTEND;VALUE=DATE:20240719
DTSTAMP:20260424T235947
CREATED:20240626T070442Z
LAST-MODIFIED:20240626T070442Z
UID:13272-1721260800-1721347199@www.e-beans.jp
SUMMARY:『石焼き芋ぽてにゃん』出店
DESCRIPTION:詳細はこちら⇩ \nキッチンカー  【石焼き芋ぽてにゃん】出店！
URL:https://www.e-beans.jp/eventcalendar/tribe_events-13272/
CATEGORIES:フード
END:VEVENT
END:VCALENDAR