BEGIN:VCALENDAR
VERSION:2.0
PRODID:-//仙台駅前イービーンズ - ECPv6.15.20//NONSGML v1.0//EN
CALSCALE:GREGORIAN
METHOD:PUBLISH
X-WR-CALNAME:仙台駅前イービーンズ
X-ORIGINAL-URL:https://www.e-beans.jp
X-WR-CALDESC:仙台駅前イービーンズ のイベント
REFRESH-INTERVAL;VALUE=DURATION:PT1H
X-Robots-Tag:noindex
X-PUBLISHED-TTL:PT1H
BEGIN:VTIMEZONE
TZID:Asia/Tokyo
BEGIN:STANDARD
TZOFFSETFROM:+0900
TZOFFSETTO:+0900
TZNAME:JST
DTSTART:20230101T000000
END:STANDARD
END:VTIMEZONE
BEGIN:VEVENT
DTSTART;VALUE=DATE:20240712
DTEND;VALUE=DATE:20240806
DTSTAMP:20260424T222221
CREATED:20240727T061221Z
LAST-MODIFIED:20240727T061221Z
UID:13605-1720742400-1722902399@www.e-beans.jp
SUMMARY:食品サンプル作品販売会「こぢんまり製作工房」開催！
DESCRIPTION:詳しくはこちら⇩ \n食品サンプル作品販売会「こぢんまり製作工房」開催決定！
URL:https://www.e-beans.jp/eventcalendar/tribe_events-13605/
CATEGORIES:販売
END:VEVENT
BEGIN:VEVENT
DTSTART;VALUE=DATE:20240727
DTEND;VALUE=DATE:20240819
DTSTAMP:20260424T222221
CREATED:20240317T063754Z
LAST-MODIFIED:20240317T063754Z
UID:12228-1722038400-1724025599@www.e-beans.jp
SUMMARY:『オードリーのオールナイトニッポン15周年展』開催決定!!
DESCRIPTION:詳細はこちら⇩ \nhttps://www.e-beans.jp/event/event-11463/
URL:https://www.e-beans.jp/eventcalendar/tribe_events-12228/
CATEGORIES:展示
END:VEVENT
BEGIN:VEVENT
DTSTART;VALUE=DATE:20240805
DTEND;VALUE=DATE:20240806
DTSTAMP:20260424T222221
CREATED:20240727T061107Z
LAST-MODIFIED:20240727T061107Z
UID:13603-1722816000-1722902399@www.e-beans.jp
SUMMARY:Blissful moment × EBeanS SOUR&BEER GARDEN　開催決定！
DESCRIPTION:詳しくはこちら⇩ \n浴衣＆甚兵衛で楽しもう♪Blissful moment × EBeanS SOUR&BEER GARDEN　開催決定！
URL:https://www.e-beans.jp/eventcalendar/tribe_events-13603/
CATEGORIES:ライブ
END:VEVENT
END:VCALENDAR