BEGIN:VCALENDAR
VERSION:2.0
PRODID:-//仙台駅前イービーンズ - ECPv6.15.20//NONSGML v1.0//EN
CALSCALE:GREGORIAN
METHOD:PUBLISH
X-ORIGINAL-URL:https://www.e-beans.jp
X-WR-CALDESC:仙台駅前イービーンズ のイベント
REFRESH-INTERVAL;VALUE=DURATION:PT1H
X-Robots-Tag:noindex
X-PUBLISHED-TTL:PT1H
BEGIN:VTIMEZONE
TZID:Asia/Tokyo
BEGIN:STANDARD
TZOFFSETFROM:+0900
TZOFFSETTO:+0900
TZNAME:JST
DTSTART:20230101T000000
END:STANDARD
END:VTIMEZONE
BEGIN:VEVENT
DTSTART;VALUE=DATE:20240910
DTEND;VALUE=DATE:20240911
DTSTAMP:20260424T204656
CREATED:20240829T055653Z
LAST-MODIFIED:20240829T055653Z
UID:13844-1725926400-1726012799@www.e-beans.jp
SUMMARY:『石焼き芋ぽてにゃん』出店
DESCRIPTION:詳細はこちら⇩ \nキッチンカー  【石焼き芋ぽてにゃん】出店！
URL:https://www.e-beans.jp/eventcalendar/tribe_events-13844/
CATEGORIES:フード
END:VEVENT
BEGIN:VEVENT
DTSTART;VALUE=DATE:20240910
DTEND;VALUE=DATE:20240911
DTSTAMP:20260424T204656
CREATED:20240829T060334Z
LAST-MODIFIED:20240829T060334Z
UID:13858-1725926400-1726012799@www.e-beans.jp
SUMMARY:ベトナムサンドウィッチ『PANTAPI』出店
DESCRIPTION:詳細はこちら⇩ \nベトナムサンドウィッチ&タピオカミルクティー　☆PANTAPI☆
URL:https://www.e-beans.jp/eventcalendar/tribe_events-13858/
CATEGORIES:フード
END:VEVENT
END:VCALENDAR