BEGIN:VCALENDAR
VERSION:2.0
PRODID:-//仙台駅前イービーンズ - ECPv6.15.20//NONSGML v1.0//EN
CALSCALE:GREGORIAN
METHOD:PUBLISH
X-ORIGINAL-URL:https://www.e-beans.jp
X-WR-CALDESC:仙台駅前イービーンズ のイベント
REFRESH-INTERVAL;VALUE=DURATION:PT1H
X-Robots-Tag:noindex
X-PUBLISHED-TTL:PT1H
BEGIN:VTIMEZONE
TZID:Asia/Tokyo
BEGIN:STANDARD
TZOFFSETFROM:+0900
TZOFFSETTO:+0900
TZNAME:JST
DTSTART:20230101T000000
END:STANDARD
END:VTIMEZONE
BEGIN:VEVENT
DTSTART;VALUE=DATE:20241017
DTEND;VALUE=DATE:20241118
DTSTAMP:20260424T204650
CREATED:20241019T095744Z
LAST-MODIFIED:20241019T095744Z
UID:14408-1729123200-1731887999@www.e-beans.jp
SUMMARY:「鬼太郎誕生 ゲゲゲの謎」× and GALLERY　collaboration cafe開催
DESCRIPTION:詳しくはこちら⇩ \n【4階 The Rooftop E Garden】映画「鬼太郎誕生 ゲゲゲの謎」× and GALLERY　collaboration cafe開催
URL:https://www.e-beans.jp/eventcalendar/tribe_events-14408/
CATEGORIES:フード
END:VEVENT
BEGIN:VEVENT
DTSTART;VALUE=DATE:20241101
DTEND;VALUE=DATE:20241202
DTSTAMP:20260424T204650
CREATED:20240912T051645Z
LAST-MODIFIED:20240912T051645Z
UID:14082-1730419200-1733097599@www.e-beans.jp
SUMMARY:DEATH NOTE EXHIBITION展　開催！
DESCRIPTION:詳しくはこちらから⇩ \nDEATH NOTE EXHIBITION展　開催決定！
URL:https://www.e-beans.jp/eventcalendar/tribe_events-14082/
CATEGORIES:展示
END:VEVENT
BEGIN:VEVENT
DTSTART;VALUE=DATE:20241109
DTEND;VALUE=DATE:20241125
DTSTAMP:20260424T204650
CREATED:20241010T034250Z
LAST-MODIFIED:20241010T034250Z
UID:14364-1731110400-1732492799@www.e-beans.jp
SUMMARY:「ハイキュー!! 全国遠征ポップアップストア」開催！
DESCRIPTION:詳細はこちら⇩ \n「ハイキュー!! 全国遠征ポップアップストア」 が仙台にやってくる！
URL:https://www.e-beans.jp/eventcalendar/tribe_events-14364/
CATEGORIES:販売
END:VEVENT
BEGIN:VEVENT
DTSTART;VALUE=DATE:20241112
DTEND;VALUE=DATE:20241113
DTSTAMP:20260424T204650
CREATED:20241030T082330Z
LAST-MODIFIED:20241030T082330Z
UID:14465-1731369600-1731455999@www.e-beans.jp
SUMMARY:ベトナムサンドウィッチ『PANTAPI』出店
DESCRIPTION:詳細はこちら⇩ \nベトナムサンドウィッチ&タピオカミルクティー　☆PANTAPI☆
URL:https://www.e-beans.jp/eventcalendar/tribe_events-14465/
CATEGORIES:フード
END:VEVENT
BEGIN:VEVENT
DTSTART;VALUE=DATE:20241112
DTEND;VALUE=DATE:20241113
DTSTAMP:20260424T204650
CREATED:20241103T023343Z
LAST-MODIFIED:20241103T023343Z
UID:14516-1731369600-1731455999@www.e-beans.jp
SUMMARY:『石焼き芋ぽてにゃん』出店
DESCRIPTION:詳細はこちら⇩ \nキッチンカー  【石焼き芋ぽてにゃん】出店！
URL:https://www.e-beans.jp/eventcalendar/tribe_events-14516/
CATEGORIES:フード
END:VEVENT
END:VCALENDAR