BEGIN:VCALENDAR
VERSION:2.0
PRODID:-//仙台駅前イービーンズ - ECPv6.15.20//NONSGML v1.0//EN
CALSCALE:GREGORIAN
METHOD:PUBLISH
X-ORIGINAL-URL:https://www.e-beans.jp
X-WR-CALDESC:仙台駅前イービーンズ のイベント
REFRESH-INTERVAL;VALUE=DURATION:PT1H
X-Robots-Tag:noindex
X-PUBLISHED-TTL:PT1H
BEGIN:VTIMEZONE
TZID:Asia/Tokyo
BEGIN:STANDARD
TZOFFSETFROM:+0900
TZOFFSETTO:+0900
TZNAME:JST
DTSTART:20240101T000000
END:STANDARD
END:VTIMEZONE
BEGIN:VEVENT
DTSTART;VALUE=DATE:20250117
DTEND;VALUE=DATE:20250331
DTSTAMP:20260425T013410
CREATED:20250106T045826Z
LAST-MODIFIED:20250106T045826Z
UID:15255-1737072000-1743379199@www.e-beans.jp
SUMMARY:ファンタジー武器屋 TAKUMI ARMORY 開催！
DESCRIPTION:詳しくはこちら⇩ \nhttps://www.e-beans.jp/event/event-15158/
URL:https://www.e-beans.jp/eventcalendar/tribe_events-15255/
CATEGORIES:販売
END:VEVENT
BEGIN:VEVENT
DTSTART;VALUE=DATE:20250223
DTEND;VALUE=DATE:20250225
DTSTAMP:20260425T013410
CREATED:20250130T014947Z
LAST-MODIFIED:20250130T014947Z
UID:15445-1740268800-1740441599@www.e-beans.jp
SUMMARY:キッチンカー『SUGAR MONSTER』
DESCRIPTION:詳細はこちら⇩ \nキッチンカー『SUGAR MONSTER』出店！
URL:https://www.e-beans.jp/eventcalendar/tribe_events-15445/
CATEGORIES:フード
END:VEVENT
BEGIN:VEVENT
DTSTART;VALUE=DATE:20250224
DTEND;VALUE=DATE:20250225
DTSTAMP:20260425T013410
CREATED:20250130T015619Z
LAST-MODIFIED:20250130T015619Z
UID:15477-1740355200-1740441599@www.e-beans.jp
SUMMARY:キッチンカー『石焼き芋ぽてにゃん』
DESCRIPTION:詳細はこちら⇩ \nキッチンカー  【石焼き芋ぽてにゃん】出店！
URL:https://www.e-beans.jp/eventcalendar/tribe_events-15477/
CATEGORIES:フード
END:VEVENT
END:VCALENDAR