BEGIN:VCALENDAR
VERSION:2.0
PRODID:-//仙台駅前イービーンズ - ECPv6.15.20//NONSGML v1.0//EN
CALSCALE:GREGORIAN
METHOD:PUBLISH
X-ORIGINAL-URL:https://www.e-beans.jp
X-WR-CALDESC:仙台駅前イービーンズ のイベント
REFRESH-INTERVAL;VALUE=DURATION:PT1H
X-Robots-Tag:noindex
X-PUBLISHED-TTL:PT1H
BEGIN:VTIMEZONE
TZID:Asia/Tokyo
BEGIN:STANDARD
TZOFFSETFROM:+0900
TZOFFSETTO:+0900
TZNAME:JST
DTSTART:20240101T000000
END:STANDARD
END:VTIMEZONE
BEGIN:VEVENT
DTSTART;VALUE=DATE:20250117
DTEND;VALUE=DATE:20250331
DTSTAMP:20260425T054638
CREATED:20250106T045826Z
LAST-MODIFIED:20250106T045826Z
UID:15255-1737072000-1743379199@www.e-beans.jp
SUMMARY:ファンタジー武器屋 TAKUMI ARMORY 開催！
DESCRIPTION:詳しくはこちら⇩ \nhttps://www.e-beans.jp/event/event-15158/
URL:https://www.e-beans.jp/eventcalendar/tribe_events-15255/
CATEGORIES:販売
END:VEVENT
BEGIN:VEVENT
DTSTART;VALUE=DATE:20250330
DTEND;VALUE=DATE:20250331
DTSTAMP:20260425T054638
CREATED:20250221T110337Z
LAST-MODIFIED:20250221T110337Z
UID:15678-1743292800-1743379199@www.e-beans.jp
SUMMARY:原因は自分にある。　4thフルアルバム「核心触発イノベーション」発売記念リリースイベント開催！
DESCRIPTION:詳細はこちら⇩ \n原因は自分にある。　4thフルアルバム「核心触発イノベーション」発売記念リリースイベント開催決定！
URL:https://www.e-beans.jp/eventcalendar/tribe_events-15678/
CATEGORIES:ライブ
END:VEVENT
BEGIN:VEVENT
DTSTART;VALUE=DATE:20250330
DTEND;VALUE=DATE:20250331
DTSTAMP:20260425T054638
CREATED:20250305T050756Z
LAST-MODIFIED:20250305T050756Z
UID:15868-1743292800-1743379199@www.e-beans.jp
SUMMARY:キッチンカー【SUGARMONSTER】
DESCRIPTION:詳細はこちら⇩ \nキッチンカー『SUGAR MONSTER』出店！
URL:https://www.e-beans.jp/eventcalendar/tribe_events-15868/
CATEGORIES:フード
END:VEVENT
BEGIN:VEVENT
DTSTART;VALUE=DATE:20250330
DTEND;VALUE=DATE:20250331
DTSTAMP:20260425T054638
CREATED:20250308T064112Z
LAST-MODIFIED:20250506T053212Z
UID:15727-1743292800-1743379199@www.e-beans.jp
SUMMARY:キッチンカー【SUGAR MONSTER】
DESCRIPTION:詳細はこちら⇩ \nキッチンカー『SUGAR MONSTER』出店！
URL:https://www.e-beans.jp/eventcalendar/__trashed/
CATEGORIES:フード
END:VEVENT
END:VCALENDAR