BEGIN:VCALENDAR
VERSION:2.0
PRODID:-//仙台駅前イービーンズ - ECPv6.15.20//NONSGML v1.0//EN
CALSCALE:GREGORIAN
METHOD:PUBLISH
X-ORIGINAL-URL:https://www.e-beans.jp
X-WR-CALDESC:仙台駅前イービーンズ のイベント
REFRESH-INTERVAL;VALUE=DURATION:PT1H
X-Robots-Tag:noindex
X-PUBLISHED-TTL:PT1H
BEGIN:VTIMEZONE
TZID:Asia/Tokyo
BEGIN:STANDARD
TZOFFSETFROM:+0900
TZOFFSETTO:+0900
TZNAME:JST
DTSTART:20240101T000000
END:STANDARD
END:VTIMEZONE
BEGIN:VEVENT
DTSTART;VALUE=DATE:20250614
DTEND;VALUE=DATE:20250615
DTSTAMP:20260425T073144
CREATED:20250421T060045Z
LAST-MODIFIED:20250511T034430Z
UID:16507-1749859200-1749945599@www.e-beans.jp
SUMMARY:【春風亭与いちの初めてのらくご】　開催決定！
DESCRIPTION:詳しくはこちら⇩ \n【春風亭与いちの初めてのらくご】　開催決定！
URL:https://www.e-beans.jp/eventcalendar/tribe_events-16507/
CATEGORIES:その他
END:VEVENT
END:VCALENDAR