BEGIN:VCALENDAR
VERSION:2.0
PRODID:-//仙台駅前イービーンズ - ECPv6.15.20//NONSGML v1.0//EN
CALSCALE:GREGORIAN
METHOD:PUBLISH
X-WR-CALNAME:仙台駅前イービーンズ
X-ORIGINAL-URL:https://www.e-beans.jp
X-WR-CALDESC:仙台駅前イービーンズ のイベント
REFRESH-INTERVAL;VALUE=DURATION:PT1H
X-Robots-Tag:noindex
X-PUBLISHED-TTL:PT1H
BEGIN:VTIMEZONE
TZID:Asia/Tokyo
BEGIN:STANDARD
TZOFFSETFROM:+0900
TZOFFSETTO:+0900
TZNAME:JST
DTSTART:20240101T000000
END:STANDARD
END:VTIMEZONE
BEGIN:VEVENT
DTSTART;VALUE=DATE:20250719
DTEND;VALUE=DATE:20250728
DTSTAMP:20260425T085514
CREATED:20250722T044248Z
LAST-MODIFIED:20250722T044248Z
UID:17903-1752883200-1753660799@www.e-beans.jp
SUMMARY:ふれあい生き物展～IN SENDAI～　開催中！
DESCRIPTION:詳細はこちら⇩ \nふれあい生き物展～IN SENDAI～　開催決定！
URL:https://www.e-beans.jp/eventcalendar/tribe_events-17903/
CATEGORIES:その他
END:VEVENT
BEGIN:VEVENT
DTSTART;VALUE=DATE:20250720
DTEND;VALUE=DATE:20250721
DTSTAMP:20260425T085514
CREATED:20250702T042051Z
LAST-MODIFIED:20250702T042051Z
UID:17560-1752969600-1753055999@www.e-beans.jp
SUMMARY:キッチンカー『PANTAPI』
DESCRIPTION:詳細はこちら⇩ \nベトナムサンドウィッチ&タピオカミルクティー　☆PANTAPI☆
URL:https://www.e-beans.jp/eventcalendar/tribe_events-17560/
CATEGORIES:フード
END:VEVENT
BEGIN:VEVENT
DTSTART;VALUE=DATE:20250720
DTEND;VALUE=DATE:20250721
DTSTAMP:20260425T085514
CREATED:20250708T094829Z
LAST-MODIFIED:20250708T094829Z
UID:17692-1752969600-1753055999@www.e-beans.jp
SUMMARY:【わんちゃんわんわんねこにゃんにゃん】アルバム『YOUTOPIA』ミニライブ＆特典会　開催決定！
DESCRIPTION:詳細はこちら⇩ \n【わんちゃんわんわんねこにゃんにゃん】アルバム『YOUTOPIA』ミニライブ＆特典会　開催決定！
URL:https://www.e-beans.jp/eventcalendar/tribe_events-17692/
CATEGORIES:ライブ
END:VEVENT
END:VCALENDAR