BEGIN:VCALENDAR
VERSION:2.0
PRODID:-//仙台駅前イービーンズ - ECPv6.15.20//NONSGML v1.0//EN
CALSCALE:GREGORIAN
METHOD:PUBLISH
X-ORIGINAL-URL:https://www.e-beans.jp
X-WR-CALDESC:仙台駅前イービーンズ のイベント
REFRESH-INTERVAL;VALUE=DURATION:PT1H
X-Robots-Tag:noindex
X-PUBLISHED-TTL:PT1H
BEGIN:VTIMEZONE
TZID:Asia/Tokyo
BEGIN:STANDARD
TZOFFSETFROM:+0900
TZOFFSETTO:+0900
TZNAME:JST
DTSTART:20240101T000000
END:STANDARD
END:VTIMEZONE
BEGIN:VEVENT
DTSTART;VALUE=DATE:20250719
DTEND;VALUE=DATE:20250728
DTSTAMP:20260425T084822
CREATED:20250722T044248Z
LAST-MODIFIED:20250722T044248Z
UID:17903-1752883200-1753660799@www.e-beans.jp
SUMMARY:ふれあい生き物展～IN SENDAI～　開催中！
DESCRIPTION:詳細はこちら⇩ \nふれあい生き物展～IN SENDAI～　開催決定！
URL:https://www.e-beans.jp/eventcalendar/tribe_events-17903/
CATEGORIES:その他
END:VEVENT
BEGIN:VEVENT
DTSTART;VALUE=DATE:20250726
DTEND;VALUE=DATE:20250727
DTSTAMP:20260425T084822
CREATED:20250710T054827Z
LAST-MODIFIED:20250710T054827Z
UID:17732-1753488000-1753574399@www.e-beans.jp
SUMMARY:よんふん×安藤誠明合同リリースイベント　開催！
DESCRIPTION:詳細はこちら⇩ \nよんふん×安藤誠明合同リリースイベント　開催決定！
URL:https://www.e-beans.jp/eventcalendar/tribe_events-17732/
CATEGORIES:ライブ
END:VEVENT
BEGIN:VEVENT
DTSTART;VALUE=DATE:20250726
DTEND;VALUE=DATE:20250727
DTSTAMP:20260425T084822
CREATED:20250718T091403Z
LAST-MODIFIED:20250718T091403Z
UID:17864-1753488000-1753574399@www.e-beans.jp
SUMMARY:いぎなりカフェ-TOHOKU9-カフェ全日程終了記念イベント【いぎなり東北産】グループショット撮影会！！
DESCRIPTION:詳細はこちら⇩ \nいぎなりカフェ-TOHOKU9-カフェ全日程終了記念イベント【いぎなり東北産】グループショット撮影会！！
URL:https://www.e-beans.jp/eventcalendar/tribe_events-17864/
CATEGORIES:その他
END:VEVENT
END:VCALENDAR