BEGIN:VCALENDAR
VERSION:2.0
PRODID:-//仙台駅前イービーンズ - ECPv6.15.20//NONSGML v1.0//EN
CALSCALE:GREGORIAN
METHOD:PUBLISH
X-WR-CALNAME:仙台駅前イービーンズ
X-ORIGINAL-URL:https://www.e-beans.jp
X-WR-CALDESC:仙台駅前イービーンズ のイベント
REFRESH-INTERVAL;VALUE=DURATION:PT1H
X-Robots-Tag:noindex
X-PUBLISHED-TTL:PT1H
BEGIN:VTIMEZONE
TZID:Asia/Tokyo
BEGIN:STANDARD
TZOFFSETFROM:+0900
TZOFFSETTO:+0900
TZNAME:JST
DTSTART:20240101T000000
END:STANDARD
END:VTIMEZONE
BEGIN:VEVENT
DTSTART;VALUE=DATE:20250806
DTEND;VALUE=DATE:20250901
DTSTAMP:20260425T101703
CREATED:20250819T080523Z
LAST-MODIFIED:20250819T080523Z
UID:18242-1754438400-1756684799@www.e-beans.jp
SUMMARY:『KAMEN RIDER STORE in 仙台』8月開催!!
DESCRIPTION:詳細はこちら⇩ \n『KAMEN RIDER STORE in 仙台』開催!!
URL:https://www.e-beans.jp/eventcalendar/tribe_events-18242/
CATEGORIES:販売
END:VEVENT
BEGIN:VEVENT
DTSTART;VALUE=DATE:20250809
DTEND;VALUE=DATE:20250825
DTSTAMP:20260425T101703
CREATED:20250819T080424Z
LAST-MODIFIED:20250819T080424Z
UID:18240-1754697600-1756079999@www.e-beans.jp
SUMMARY:ふれあい生き物展第2弾 世界のわんにゃん大集合！ 開催！！
DESCRIPTION:詳細はこちら⇩ \nふれあい生き物展第2弾 世界のわんにゃん大集合！ 開催決定！！
URL:https://www.e-beans.jp/eventcalendar/tribe_events-18240/
CATEGORIES:その他
END:VEVENT
END:VCALENDAR