BEGIN:VCALENDAR
VERSION:2.0
PRODID:-//仙台駅前イービーンズ - ECPv6.15.20//NONSGML v1.0//EN
CALSCALE:GREGORIAN
METHOD:PUBLISH
X-ORIGINAL-URL:https://www.e-beans.jp
X-WR-CALDESC:仙台駅前イービーンズ のイベント
REFRESH-INTERVAL;VALUE=DURATION:PT1H
X-Robots-Tag:noindex
X-PUBLISHED-TTL:PT1H
BEGIN:VTIMEZONE
TZID:Asia/Tokyo
BEGIN:STANDARD
TZOFFSETFROM:+0900
TZOFFSETTO:+0900
TZNAME:JST
DTSTART:20240101T000000
END:STANDARD
END:VTIMEZONE
BEGIN:VEVENT
DTSTART;VALUE=DATE:20250830
DTEND;VALUE=DATE:20250916
DTSTAMP:20260425T113436
CREATED:20250819T080123Z
LAST-MODIFIED:20250819T080123Z
UID:18231-1756512000-1757980799@www.e-beans.jp
SUMMARY:原作・アニメの垣根を越えた体験型展示イベント「BLEACH THE LOCUS OF BRAVE Ⅱ」開催！
DESCRIPTION:詳細はこちら⇩ \n原作・アニメの垣根を越えた体験型展示イベント「BLEACH THE LOCUS OF BRAVE Ⅱ」仙台会場 開催!!
URL:https://www.e-beans.jp/eventcalendar/tribe_events-18231/
CATEGORIES:展示
END:VEVENT
BEGIN:VEVENT
DTSTART;VALUE=DATE:20250906
DTEND;VALUE=DATE:20250907
DTSTAMP:20260425T113436
CREATED:20250819T080322Z
LAST-MODIFIED:20250819T080322Z
UID:18235-1757116800-1757203199@www.e-beans.jp
SUMMARY:みちのく怪談ビアガーデン～東北六県怪談～　開催！
DESCRIPTION:詳細はこちら⇩ \nみちのく怪談ビアガーデン～東北六県怪談～　開催決定！
URL:https://www.e-beans.jp/eventcalendar/tribe_events-18235/
CATEGORIES:その他
END:VEVENT
BEGIN:VEVENT
DTSTART;VALUE=DATE:20250906
DTEND;VALUE=DATE:20250907
DTSTAMP:20260425T113436
CREATED:20250906T052042Z
LAST-MODIFIED:20250906T052042Z
UID:18502-1757116800-1757203199@www.e-beans.jp
SUMMARY:POCKET PANiC×峯脇×EBiDAN SENDAI 合同スペシャルイベント
DESCRIPTION:詳細はこちら⇩ \nPOCKET PANiC×峯脇×EBiDAN SENDAI 合同スペシャルイベント開催決定！！
URL:https://www.e-beans.jp/eventcalendar/tribe_events-18502/
CATEGORIES:ライブ
END:VEVENT
BEGIN:VEVENT
DTSTART;VALUE=DATE:20250906
DTEND;VALUE=DATE:20250908
DTSTAMP:20260425T113436
CREATED:20250906T052248Z
LAST-MODIFIED:20250906T052248Z
UID:18504-1757116800-1757289599@www.e-beans.jp
SUMMARY:夢闇屋POP UP STORE開催
DESCRIPTION:詳細はこちら⇩ \n夢闇屋POP UP STORE開催！！
URL:https://www.e-beans.jp/eventcalendar/tribe_events-18504/
CATEGORIES:販売
END:VEVENT
END:VCALENDAR