BEGIN:VCALENDAR
VERSION:2.0
PRODID:-//仙台駅前イービーンズ - ECPv6.15.20//NONSGML v1.0//EN
CALSCALE:GREGORIAN
METHOD:PUBLISH
X-WR-CALNAME:仙台駅前イービーンズ
X-ORIGINAL-URL:https://www.e-beans.jp
X-WR-CALDESC:仙台駅前イービーンズ のイベント
REFRESH-INTERVAL;VALUE=DURATION:PT1H
X-Robots-Tag:noindex
X-PUBLISHED-TTL:PT1H
BEGIN:VTIMEZONE
TZID:Asia/Tokyo
BEGIN:STANDARD
TZOFFSETFROM:+0900
TZOFFSETTO:+0900
TZNAME:JST
DTSTART:20240101T000000
END:STANDARD
END:VTIMEZONE
BEGIN:VEVENT
DTSTART;VALUE=DATE:20250920
DTEND;VALUE=DATE:20250924
DTSTAMP:20260425T112815
CREATED:20250915T075925Z
LAST-MODIFIED:20250915T075925Z
UID:18648-1758326400-1758671999@www.e-beans.jp
SUMMARY:『テイワットグッズ2025』、『崩壊：スターレイル POP UP TOUR 2025』、『ゼンゼロHUB 2025』が宮城にて開催！
DESCRIPTION:詳細はこちら⇩ \n『テイワットグッズ2025』、『崩壊：スターレイル POP UP TOUR 2025』、『ゼンゼロHUB 2025』が宮城にて開催決定！
URL:https://www.e-beans.jp/eventcalendar/tribe_events-18648/
CATEGORIES:販売
END:VEVENT
BEGIN:VEVENT
DTSTART;VALUE=DATE:20250920
DTEND;VALUE=DATE:20250924
DTSTAMP:20260425T112815
CREATED:20250923T062122Z
LAST-MODIFIED:20250923T062122Z
UID:18774-1758326400-1758671999@www.e-beans.jp
SUMMARY:『テイワットグッズ2025』、『崩壊：スターレイル POP UP TOUR 2025』、『ゼンゼロHUB 2025』が宮城にて開催決定！
DESCRIPTION:詳細はこちら⇩ \n『テイワットグッズ2025』、『崩壊：スターレイル POP UP TOUR 2025』、『ゼンゼロHUB 2025』が宮城にて開催決定！
URL:https://www.e-beans.jp/eventcalendar/tribe_events-18774/
CATEGORIES:販売
END:VEVENT
BEGIN:VEVENT
DTSTART;VALUE=DATE:20250921
DTEND;VALUE=DATE:20250922
DTSTAMP:20260425T112815
CREATED:20250807T051934Z
LAST-MODIFIED:20250908T013049Z
UID:17959-1758412800-1758499199@www.e-beans.jp
SUMMARY:キッチンカー『PANTAPI』
DESCRIPTION:詳細はこちら⇩ \nベトナムサンドウィッチ&タピオカミルクティー　☆PANTAPI☆
URL:https://www.e-beans.jp/eventcalendar/tribe_events-17959/
CATEGORIES:フード
END:VEVENT
BEGIN:VEVENT
DTSTART;VALUE=DATE:20250921
DTEND;VALUE=DATE:20250922
DTSTAMP:20260425T112815
CREATED:20250918T024605Z
LAST-MODIFIED:20250918T024605Z
UID:18691-1758412800-1758499199@www.e-beans.jp
SUMMARY:サーキット音楽ライブ【カタカナフェス】開催！！
DESCRIPTION:詳細はこちら⇩ \nサーキット音楽ライブ【カタカナフェス】開催！！
URL:https://www.e-beans.jp/eventcalendar/tribe_events-18691/
CATEGORIES:ライブ
END:VEVENT
END:VCALENDAR