BEGIN:VCALENDAR
VERSION:2.0
PRODID:-//仙台駅前イービーンズ - ECPv6.15.20//NONSGML v1.0//EN
CALSCALE:GREGORIAN
METHOD:PUBLISH
X-WR-CALNAME:仙台駅前イービーンズ
X-ORIGINAL-URL:https://www.e-beans.jp
X-WR-CALDESC:仙台駅前イービーンズ のイベント
REFRESH-INTERVAL;VALUE=DURATION:PT1H
X-Robots-Tag:noindex
X-PUBLISHED-TTL:PT1H
BEGIN:VTIMEZONE
TZID:Asia/Tokyo
BEGIN:STANDARD
TZOFFSETFROM:+0900
TZOFFSETTO:+0900
TZNAME:JST
DTSTART:20240101T000000
END:STANDARD
END:VTIMEZONE
BEGIN:VEVENT
DTSTART;VALUE=DATE:20250927
DTEND;VALUE=DATE:20250928
DTSTAMP:20260425T113305
CREATED:20250823T100739Z
LAST-MODIFIED:20250823T100739Z
UID:18311-1758931200-1759017599@www.e-beans.jp
SUMMARY:巫てんり 全国路上ライブダンデライオン　仙台公演 開催！
DESCRIPTION:詳細はこちら⇩ \n巫てんり 全国路上ライブダンデライオン　仙台公演 開催決定！
URL:https://www.e-beans.jp/eventcalendar/tribe_events-18311/
CATEGORIES:ライブ
END:VEVENT
BEGIN:VEVENT
DTSTART;VALUE=DATE:20250927
DTEND;VALUE=DATE:20250928
DTSTAMP:20260425T113305
CREATED:20250906T052911Z
LAST-MODIFIED:20250928T085545Z
UID:18508-1758931200-1759017599@www.e-beans.jp
SUMMARY:石焼き芋ぽてにゃん
DESCRIPTION:詳細はこちら⇩ \nキッチンカー  【石焼き芋ぽてにゃん】出店！
URL:https://www.e-beans.jp/eventcalendar/tribe_events-18508/
CATEGORIES:フード
END:VEVENT
BEGIN:VEVENT
DTSTART;VALUE=DATE:20250927
DTEND;VALUE=DATE:20250930
DTSTAMP:20260425T113305
CREATED:20250923T060855Z
LAST-MODIFIED:20250923T060855Z
UID:18770-1758931200-1759190399@www.e-beans.jp
SUMMARY:【TSURUOKA CLOTHING STORE】期間限定イベント開催決定！！
DESCRIPTION:詳細はこちら⇩ \n【TSURUOKA CLOTHING STORE】期間限定イベント開催決定！！
URL:https://www.e-beans.jp/eventcalendar/tribe_events-18770/
CATEGORIES:販売
END:VEVENT
END:VCALENDAR