BEGIN:VCALENDAR
VERSION:2.0
PRODID:-//仙台駅前イービーンズ - ECPv6.15.20//NONSGML v1.0//EN
CALSCALE:GREGORIAN
METHOD:PUBLISH
X-ORIGINAL-URL:https://www.e-beans.jp
X-WR-CALDESC:仙台駅前イービーンズ のイベント
REFRESH-INTERVAL;VALUE=DURATION:PT1H
X-Robots-Tag:noindex
X-PUBLISHED-TTL:PT1H
BEGIN:VTIMEZONE
TZID:Asia/Tokyo
BEGIN:STANDARD
TZOFFSETFROM:+0900
TZOFFSETTO:+0900
TZNAME:JST
DTSTART:20240101T000000
END:STANDARD
END:VTIMEZONE
BEGIN:VEVENT
DTSTART;VALUE=DATE:20250927
DTEND;VALUE=DATE:20250930
DTSTAMP:20260425T113435
CREATED:20250923T060855Z
LAST-MODIFIED:20250923T060855Z
UID:18770-1758931200-1759190399@www.e-beans.jp
SUMMARY:【TSURUOKA CLOTHING STORE】期間限定イベント開催決定！！
DESCRIPTION:詳細はこちら⇩ \n【TSURUOKA CLOTHING STORE】期間限定イベント開催決定！！
URL:https://www.e-beans.jp/eventcalendar/tribe_events-18770/
CATEGORIES:販売
END:VEVENT
BEGIN:VEVENT
DTSTART;VALUE=DATE:20250928
DTEND;VALUE=DATE:20250929
DTSTAMP:20260425T113435
CREATED:20250807T051830Z
LAST-MODIFIED:20250908T013133Z
UID:17963-1759017600-1759103999@www.e-beans.jp
SUMMARY:キッチンカー『PANTAPI』
DESCRIPTION:詳細はこちら⇩ \nベトナムサンドウィッチ&タピオカミルクティー　☆PANTAPI☆
URL:https://www.e-beans.jp/eventcalendar/__trashed-5/
CATEGORIES:フード
END:VEVENT
BEGIN:VEVENT
DTSTART;VALUE=DATE:20250928
DTEND;VALUE=DATE:20250929
DTSTAMP:20260425T113435
CREATED:20250923T062217Z
LAST-MODIFIED:20250923T062217Z
UID:18776-1759017600-1759103999@www.e-beans.jp
SUMMARY:LILIA.Fes～野外大作戦vol.26～開催決定！！
DESCRIPTION:詳細はこちら⇩ \nLILIA.Fes～野外大作戦vol.26～開催決定！！
URL:https://www.e-beans.jp/eventcalendar/tribe_events-18776/
CATEGORIES:ライブ
END:VEVENT
END:VCALENDAR